BEGIN:VCALENDAR
VERSION:2.0
PRODID:-//TRC - Tablelands Regional Council - ECPv6.15.20//NONSGML v1.0//EN
CALSCALE:GREGORIAN
METHOD:PUBLISH
X-ORIGINAL-URL:https://www.trc.qld.gov.au
X-WR-CALDESC:Events for TRC - Tablelands Regional Council
REFRESH-INTERVAL;VALUE=DURATION:PT1H
X-Robots-Tag:noindex
X-PUBLISHED-TTL:PT1H
BEGIN:VTIMEZONE
TZID:Australia/Brisbane
BEGIN:STANDARD
TZOFFSETFROM:+1000
TZOFFSETTO:+1000
TZNAME:AEST
DTSTART:20240101T000000
END:STANDARD
END:VTIMEZONE
BEGIN:VEVENT
DTSTART;VALUE=DATE:20250315
DTEND;VALUE=DATE:20250316
DTSTAMP:20260422T105543
CREATED:20250210T034301Z
LAST-MODIFIED:20250210T034301Z
UID:10005438-1741996800-1742083199@www.trc.qld.gov.au
SUMMARY:The Dam Outrigger Canoe Club Regatta
DESCRIPTION:The Annual Regatta hosted by the Dam Outrigger Canoe Club will draw paddlers from Whitsunday to the Torres Strait. \nFun\,fast and at times furious paddling on wonderful Lake Tinaroo at Tinaburra
URL:https://www.trc.qld.gov.au/event/the-dam-outrigger-canoe-club-regatta/
LOCATION:Tinaburra\, Lake Tinaroo\, Queensland\, Australia
CATEGORIES:Community Event
ATTACH;FMTTYPE=image/jpeg:https://www.trc.qld.gov.au/wp-content/uploads/Dam-Outrigger-Club.jpg
ORGANIZER;CN="The Dam Outrigger Canoe Club":MAILTO:damoutriggers@gmail.com
GEO:-22.575197;144.0847926
END:VEVENT
END:VCALENDAR