BEGIN:VCALENDAR
VERSION:2.0
PRODID:-//TRC - Tablelands Regional Council - ECPv6.15.20//NONSGML v1.0//EN
CALSCALE:GREGORIAN
METHOD:PUBLISH
X-WR-CALNAME:TRC - Tablelands Regional Council
X-ORIGINAL-URL:https://www.trc.qld.gov.au
X-WR-CALDESC:Events for TRC - Tablelands Regional Council
REFRESH-INTERVAL;VALUE=DURATION:PT1H
X-Robots-Tag:noindex
X-PUBLISHED-TTL:PT1H
BEGIN:VTIMEZONE
TZID:Australia/Brisbane
BEGIN:STANDARD
TZOFFSETFROM:+1000
TZOFFSETTO:+1000
TZNAME:AEST
DTSTART:20240101T000000
END:STANDARD
END:VTIMEZONE
BEGIN:VEVENT
DTSTART;TZID=Australia/Brisbane:20251206T163000
DTEND;TZID=Australia/Brisbane:20251206T210000
DTSTAMP:20260422T103621
CREATED:20250109T060851Z
LAST-MODIFIED:20250109T060851Z
UID:10005276-1765038600-1765054800@www.trc.qld.gov.au
SUMMARY:Atherton Carols by Candlelight
DESCRIPTION:The 2025 Atherton Carols by Candlelight\, Christmas Night Markets and Gingerbread House competition will be on Saturday December 6th. \nThis free family and community event is a great opportunity to purchase those special locally made gifts and enjoy and join in with the locally talented carol singers. Food and drinks will be available. \nThe Gingerbread House Competition will be on again in 2025.
URL:https://www.trc.qld.gov.au/event/atherton-carols-by-candlelight/
LOCATION:Merriland Hall\, Atherton Show Grounds\, 10 Louise Street\, Atherton\, QLD\, 4883\, Australia
CATEGORIES:Community Event
ORGANIZER;CN="Atherton Tableland Agricultural Society Inc":MAILTO:info@athertonshow.com.au
GEO:-17.268407;145.482722
X-APPLE-STRUCTURED-LOCATION;VALUE=URI;X-ADDRESS=Merriland Hall Atherton Show Grounds 10 Louise Street Atherton QLD 4883 Australia;X-APPLE-RADIUS=500;X-TITLE=10 Louise Street:geo:145.482722,-17.268407
END:VEVENT
BEGIN:VEVENT
DTSTART;TZID=Australia/Brisbane:20251115T090000
DTEND;TZID=Australia/Brisbane:20251115T150000
DTSTAMP:20260422T103621
CREATED:20250915T041239Z
LAST-MODIFIED:20251114T065803Z
UID:10005540-1763197200-1763218800@www.trc.qld.gov.au
SUMMARY:Living Well Expo
DESCRIPTION:  \n  \n \n  \n  \n  \n  \n  \n  \n  \n  \n  \n.
URL:https://www.trc.qld.gov.au/event/living-well-expo/
LOCATION:Merriland Hall\, Atherton Show Grounds\, 10 Louise Street\, Atherton\, QLD\, 4883\, Australia
CATEGORIES:Community Event
ATTACH;FMTTYPE=image/jpeg:https://www.trc.qld.gov.au/wp-content/uploads/Flyer-Living-Well-Expo-2025-scaled.jpg
ORGANIZER;CN="Tablelands Regional Council":MAILTO:info@trc.qld.gov.au
GEO:-17.268407;145.482722
X-APPLE-STRUCTURED-LOCATION;VALUE=URI;X-ADDRESS=Merriland Hall Atherton Show Grounds 10 Louise Street Atherton QLD 4883 Australia;X-APPLE-RADIUS=500;X-TITLE=10 Louise Street:geo:145.482722,-17.268407
END:VEVENT
BEGIN:VEVENT
DTSTART;TZID=Australia/Brisbane:20250831T080000
DTEND;TZID=Australia/Brisbane:20250831T123000
DTSTAMP:20260422T103621
CREATED:20250113T064423Z
LAST-MODIFIED:20250113T064423Z
UID:10005281-1756627200-1756643400@www.trc.qld.gov.au
SUMMARY:Father's Day - Art & Craft Fair
DESCRIPTION:An opportunity to source the perfect gift or personal treasure from local artisans\, craftsmen and plant enthusiasts. \nThis easily accessible and undercover market has over 25 stalls. Food and drink is available.
URL:https://www.trc.qld.gov.au/event/fathers-day-art-craft-fair/
LOCATION:Merriland Hall\, Atherton Show Grounds\, 10 Louise Street\, Atherton\, QLD\, 4883\, Australia
CATEGORIES:Community Event
ATTACH;FMTTYPE=image/jpeg:https://www.trc.qld.gov.au/wp-content/uploads/artcraftpic-1.jpg
ORGANIZER;CN="Atherton Tableland Agricultural Society Inc":MAILTO:info@athertonshow.com.au
GEO:-17.268407;145.482722
X-APPLE-STRUCTURED-LOCATION;VALUE=URI;X-ADDRESS=Merriland Hall Atherton Show Grounds 10 Louise Street Atherton QLD 4883 Australia;X-APPLE-RADIUS=500;X-TITLE=10 Louise Street:geo:145.482722,-17.268407
END:VEVENT
BEGIN:VEVENT
DTSTART;TZID=Australia/Brisbane:20250427T083000
DTEND;TZID=Australia/Brisbane:20250427T123000
DTSTAMP:20260422T103621
CREATED:20250113T064311Z
LAST-MODIFIED:20250113T064436Z
UID:10005279-1745742600-1745757000@www.trc.qld.gov.au
SUMMARY:Mother's Day - Art\, Craft and Plant Fair
DESCRIPTION:An opportunity to source the perfect gift or personal treasure from local artisans\, craftsmen and plant enthusiasts. \nThis easily accessible and undercover market has over 25 stalls. Food and drink is available.
URL:https://www.trc.qld.gov.au/event/mothers-day-art-craft-and-plant-fair/
LOCATION:Merriland Hall\, Atherton Show Grounds\, 10 Louise Street\, Atherton\, QLD\, 4883\, Australia
CATEGORIES:Community Event
ATTACH;FMTTYPE=image/jpeg:https://www.trc.qld.gov.au/wp-content/uploads/artcraftpic-1.jpg
ORGANIZER;CN="Atherton Tableland Agricultural Society Inc":MAILTO:info@athertonshow.com.au
GEO:-17.268407;145.482722
X-APPLE-STRUCTURED-LOCATION;VALUE=URI;X-ADDRESS=Merriland Hall Atherton Show Grounds 10 Louise Street Atherton QLD 4883 Australia;X-APPLE-RADIUS=500;X-TITLE=10 Louise Street:geo:145.482722,-17.268407
END:VEVENT
END:VCALENDAR