BEGIN:VCALENDAR
VERSION:2.0
PRODID:-//TRC - Tablelands Regional Council - ECPv6.15.20//NONSGML v1.0//EN
CALSCALE:GREGORIAN
METHOD:PUBLISH
X-WR-CALNAME:TRC - Tablelands Regional Council
X-ORIGINAL-URL:https://www.trc.qld.gov.au
X-WR-CALDESC:Events for TRC - Tablelands Regional Council
REFRESH-INTERVAL;VALUE=DURATION:PT1H
X-Robots-Tag:noindex
X-PUBLISHED-TTL:PT1H
BEGIN:VTIMEZONE
TZID:Australia/Brisbane
BEGIN:STANDARD
TZOFFSETFROM:+1000
TZOFFSETTO:+1000
TZNAME:AEST
DTSTART:20230101T000000
END:STANDARD
END:VTIMEZONE
BEGIN:VEVENT
DTSTART;TZID=Australia/Brisbane:20251019T113000
DTEND;TZID=Australia/Brisbane:20251019T123000
DTSTAMP:20260425T071434
CREATED:20251015T024349Z
LAST-MODIFIED:20251015T024349Z
UID:10005543-1760873400-1760877000@www.trc.qld.gov.au
SUMMARY:Peckett Steam Train 120th Birthday
DESCRIPTION:
URL:https://www.trc.qld.gov.au/event/peckett-steam-train-120th-birthday/
LOCATION:Herberton Railway Station\, John Street\, Herberton\, Queensland\, 4887\, Australia
CATEGORIES:Community Event
ATTACH;FMTTYPE=image/png:https://www.trc.qld.gov.au/wp-content/uploads/120-years-Save-the-date-low_resoln.png
ORGANIZER;CN="Atherton-Herberton Historic Railway Inc.":MAILTO:sec@athrail.com.au
GEO:-17.3853547;145.3861283
X-APPLE-STRUCTURED-LOCATION;VALUE=URI;X-ADDRESS=Herberton Railway Station John Street Herberton Queensland 4887 Australia;X-APPLE-RADIUS=500;X-TITLE=John Street:geo:145.3861283,-17.3853547
END:VEVENT
BEGIN:VEVENT
DTSTART;TZID=Australia/Brisbane:20251018T100000
DTEND;TZID=Australia/Brisbane:20251018T150000
DTSTAMP:20260425T071434
CREATED:20250228T031639Z
LAST-MODIFIED:20250805T003614Z
UID:10005452-1760781600-1760799600@www.trc.qld.gov.au
SUMMARY:Herberton Jacaranda Festival
DESCRIPTION:The Jacaranda Festival is a family fun weekend showcasing the historic mining town of Herberton. \nFamily fun activities with local entertainment\, community & school group performances \, ‘Tin Town’ market & food stalls\, vintage and car displays\, Railway and Mining museums and steam train rides. \nGrace Street will be closed to traffic during the day on Saturday 18 October and then the activities will continue at the Railway station on Sunday 19 October.
URL:https://www.trc.qld.gov.au/event/herberton-jacaranda-festival-2/
LOCATION:Grace Street\, Herberton\, Grace Street\, Herberton\, Qld\, 4887\, Australia
CATEGORIES:Community Event
ATTACH;FMTTYPE=image/jpeg:https://www.trc.qld.gov.au/wp-content/uploads/Jacaranda-Festival.jpg
ORGANIZER;CN="Herberton Business & Tourism Association Inc.":MAILTO:info@herberton1880.com.au
GEO:-17.3799671;145.3822791
X-APPLE-STRUCTURED-LOCATION;VALUE=URI;X-ADDRESS=Grace Street Herberton Grace Street Herberton Qld 4887 Australia;X-APPLE-RADIUS=500;X-TITLE=Grace Street:geo:145.3822791,-17.3799671
END:VEVENT
BEGIN:VEVENT
DTSTART;TZID=Australia/Brisbane:20241230T100000
DTEND;TZID=Australia/Brisbane:20241230T140000
DTSTAMP:20260425T071434
CREATED:20241128T015603Z
LAST-MODIFIED:20241128T025925Z
UID:10005254-1735552800-1735567200@www.trc.qld.gov.au
SUMMARY:Peckett Steam Train Rides
DESCRIPTION:Book online and to check dates and times!
URL:https://www.trc.qld.gov.au/event/peckett-steam-train-rides/2024-12-30/
LOCATION:Herberton Railway Station\, John Street\, Herberton\, Queensland\, 4887\, Australia
CATEGORIES:Community Event
ATTACH;FMTTYPE=image/jpeg:https://www.trc.qld.gov.au/wp-content/uploads/Pecket-rides.jpg
ORGANIZER;CN="Atherton-Herberton Historic Railway Inc.":MAILTO:sec@athrail.com.au
GEO:-17.3853547;145.3861283
X-APPLE-STRUCTURED-LOCATION;VALUE=URI;X-ADDRESS=Herberton Railway Station John Street Herberton Queensland 4887 Australia;X-APPLE-RADIUS=500;X-TITLE=John Street:geo:145.3861283,-17.3853547
END:VEVENT
BEGIN:VEVENT
DTSTART;TZID=Australia/Brisbane:20241229T100000
DTEND;TZID=Australia/Brisbane:20241229T140000
DTSTAMP:20260425T071435
CREATED:20241128T015603Z
LAST-MODIFIED:20241128T025925Z
UID:10005253-1735466400-1735480800@www.trc.qld.gov.au
SUMMARY:Peckett Steam Train Rides
DESCRIPTION:Book online and to check dates and times!
URL:https://www.trc.qld.gov.au/event/peckett-steam-train-rides/2024-12-29/
LOCATION:Herberton Railway Station\, John Street\, Herberton\, Queensland\, 4887\, Australia
CATEGORIES:Community Event
ATTACH;FMTTYPE=image/jpeg:https://www.trc.qld.gov.au/wp-content/uploads/Pecket-rides.jpg
ORGANIZER;CN="Atherton-Herberton Historic Railway Inc.":MAILTO:sec@athrail.com.au
GEO:-17.3853547;145.3861283
X-APPLE-STRUCTURED-LOCATION;VALUE=URI;X-ADDRESS=Herberton Railway Station John Street Herberton Queensland 4887 Australia;X-APPLE-RADIUS=500;X-TITLE=John Street:geo:145.3861283,-17.3853547
END:VEVENT
BEGIN:VEVENT
DTSTART;TZID=Australia/Brisbane:20241228T100000
DTEND;TZID=Australia/Brisbane:20241228T140000
DTSTAMP:20260425T071435
CREATED:20241128T015603Z
LAST-MODIFIED:20241128T025925Z
UID:10005252-1735380000-1735394400@www.trc.qld.gov.au
SUMMARY:Peckett Steam Train Rides
DESCRIPTION:Book online and to check dates and times!
URL:https://www.trc.qld.gov.au/event/peckett-steam-train-rides/2024-12-28/
LOCATION:Herberton Railway Station\, John Street\, Herberton\, Queensland\, 4887\, Australia
CATEGORIES:Community Event
ATTACH;FMTTYPE=image/jpeg:https://www.trc.qld.gov.au/wp-content/uploads/Pecket-rides.jpg
ORGANIZER;CN="Atherton-Herberton Historic Railway Inc.":MAILTO:sec@athrail.com.au
GEO:-17.3853547;145.3861283
X-APPLE-STRUCTURED-LOCATION;VALUE=URI;X-ADDRESS=Herberton Railway Station John Street Herberton Queensland 4887 Australia;X-APPLE-RADIUS=500;X-TITLE=John Street:geo:145.3861283,-17.3853547
END:VEVENT
BEGIN:VEVENT
DTSTART;TZID=Australia/Brisbane:20241227T100000
DTEND;TZID=Australia/Brisbane:20241227T140000
DTSTAMP:20260425T071435
CREATED:20241128T015603Z
LAST-MODIFIED:20241128T025925Z
UID:10005251-1735293600-1735308000@www.trc.qld.gov.au
SUMMARY:Peckett Steam Train Rides
DESCRIPTION:Book online and to check dates and times!
URL:https://www.trc.qld.gov.au/event/peckett-steam-train-rides/2024-12-27/
LOCATION:Herberton Railway Station\, John Street\, Herberton\, Queensland\, 4887\, Australia
CATEGORIES:Community Event
ATTACH;FMTTYPE=image/jpeg:https://www.trc.qld.gov.au/wp-content/uploads/Pecket-rides.jpg
ORGANIZER;CN="Atherton-Herberton Historic Railway Inc.":MAILTO:sec@athrail.com.au
GEO:-17.3853547;145.3861283
X-APPLE-STRUCTURED-LOCATION;VALUE=URI;X-ADDRESS=Herberton Railway Station John Street Herberton Queensland 4887 Australia;X-APPLE-RADIUS=500;X-TITLE=John Street:geo:145.3861283,-17.3853547
END:VEVENT
END:VCALENDAR