BEGIN:VCALENDAR
VERSION:2.0
PRODID:-//TRC - Tablelands Regional Council - ECPv6.15.20//NONSGML v1.0//EN
CALSCALE:GREGORIAN
METHOD:PUBLISH
X-WR-CALNAME:TRC - Tablelands Regional Council
X-ORIGINAL-URL:https://www.trc.qld.gov.au
X-WR-CALDESC:Events for TRC - Tablelands Regional Council
REFRESH-INTERVAL;VALUE=DURATION:PT1H
X-Robots-Tag:noindex
X-PUBLISHED-TTL:PT1H
BEGIN:VTIMEZONE
TZID:Australia/Brisbane
BEGIN:STANDARD
TZOFFSETFROM:+1000
TZOFFSETTO:+1000
TZNAME:AEST
DTSTART:20240101T000000
END:STANDARD
END:VTIMEZONE
BEGIN:VEVENT
DTSTART;TZID=Australia/Brisbane:20251108T170000
DTEND;TZID=Australia/Brisbane:20251108T210000
DTSTAMP:20260422T184804
CREATED:20251105T063848Z
LAST-MODIFIED:20251105T063848Z
UID:10005571-1762621200-1762635600@www.trc.qld.gov.au
SUMMARY:Great Northern Bullriding Series Final
DESCRIPTION:
URL:https://www.trc.qld.gov.au/event/great-northern-bullriding-series-final/
LOCATION:Atherton Showgrounds\, Louise Street\, Atherton\, Queensland\, 4883\, Australia
CATEGORIES:Community Event
GEO:-17.2670843;145.4823009
X-APPLE-STRUCTURED-LOCATION;VALUE=URI;X-ADDRESS=Atherton Showgrounds Louise Street Atherton Queensland 4883 Australia;X-APPLE-RADIUS=500;X-TITLE=Louise Street:geo:145.4823009,-17.2670843
END:VEVENT
BEGIN:VEVENT
DTSTART;TZID=Australia/Brisbane:20251101T160000
DTEND;TZID=Australia/Brisbane:20251101T200000
DTSTAMP:20260422T184804
CREATED:20250108T025149Z
LAST-MODIFIED:20250108T025149Z
UID:10005275-1762012800-1762027200@www.trc.qld.gov.au
SUMMARY:Tolga Scarecrow Festival
DESCRIPTION:This ‘Old Skool’ country style festival celebrates our region’s farming origins encouraging the community and families to come together for some good old fashioned fun! The festival is centred around the ‘Scarecrow Competition’ and ‘Colouring Competition’. There are markets\, food stalls\, Old Skool Fete FUN-Draising stalls live entertainment and free activities like our egg & spoon races\, haybale rolling and horse shoe throwing.
URL:https://www.trc.qld.gov.au/event/tolga-scarecrow-festival/
LOCATION:Atherton Showgrounds\, Louise Street\, Atherton\, Queensland\, 4883\, Australia
CATEGORIES:Community Event
ATTACH;FMTTYPE=image/png:https://www.trc.qld.gov.au/wp-content/uploads/Tolga-Festival-no-date.png
ORGANIZER;CN="Atherton Tablelands Agricultural Society Inc.":MAILTO:info@athertonshow.com.au
GEO:-17.2670843;145.4823009
X-APPLE-STRUCTURED-LOCATION;VALUE=URI;X-ADDRESS=Atherton Showgrounds Louise Street Atherton Queensland 4883 Australia;X-APPLE-RADIUS=500;X-TITLE=Louise Street:geo:145.4823009,-17.2670843
END:VEVENT
BEGIN:VEVENT
DTSTART;TZID=Australia/Brisbane:20250630T090000
DTEND;TZID=Australia/Brisbane:20250701T160000
DTSTAMP:20260422T184804
CREATED:20250109T061435Z
LAST-MODIFIED:20250624T232117Z
UID:10005278-1751274000-1751385600@www.trc.qld.gov.au
SUMMARY:Atherton Show
DESCRIPTION:
URL:https://www.trc.qld.gov.au/event/atherton-show-2/
LOCATION:Atherton Showgrounds\, Louise Street\, Atherton\, Queensland\, 4883\, Australia
CATEGORIES:Community Event
ATTACH;FMTTYPE=image/png:https://www.trc.qld.gov.au/wp-content/uploads/Atherton-Show-logo-CMYK.fw_.png
ORGANIZER;CN="Atherton Tablelands Agricultural Society Inc.":MAILTO:info@athertonshow.com.au
GEO:-17.2670843;145.4823009
X-APPLE-STRUCTURED-LOCATION;VALUE=URI;X-ADDRESS=Atherton Showgrounds Louise Street Atherton Queensland 4883 Australia;X-APPLE-RADIUS=500;X-TITLE=Louise Street:geo:145.4823009,-17.2670843
END:VEVENT
BEGIN:VEVENT
DTSTART;TZID=Australia/Brisbane:20250614T083000
DTEND;TZID=Australia/Brisbane:20250614T130000
DTSTAMP:20260422T184804
CREATED:20250612T020518Z
LAST-MODIFIED:20250612T020518Z
UID:10005497-1749889800-1749906000@www.trc.qld.gov.au
SUMMARY:2025 Atherton Car Bike Swap Meet & Show
DESCRIPTION:
URL:https://www.trc.qld.gov.au/event/2025-atherton-car-bike-swap-meet-show/
LOCATION:Atherton Showgrounds\, Louise Street\, Atherton\, Queensland\, 4883\, Australia
CATEGORIES:Community Event
ATTACH;FMTTYPE=image/jpeg:https://www.trc.qld.gov.au/wp-content/uploads/ABCS.jpg
GEO:-17.2670843;145.4823009
X-APPLE-STRUCTURED-LOCATION;VALUE=URI;X-ADDRESS=Atherton Showgrounds Louise Street Atherton Queensland 4883 Australia;X-APPLE-RADIUS=500;X-TITLE=Louise Street:geo:145.4823009,-17.2670843
END:VEVENT
END:VCALENDAR