BEGIN:VCALENDAR
VERSION:2.0
PRODID:-//TRC - Tablelands Regional Council - ECPv6.15.20//NONSGML v1.0//EN
CALSCALE:GREGORIAN
METHOD:PUBLISH
X-ORIGINAL-URL:https://www.trc.qld.gov.au
X-WR-CALDESC:Events for TRC - Tablelands Regional Council
REFRESH-INTERVAL;VALUE=DURATION:PT1H
X-Robots-Tag:noindex
X-PUBLISHED-TTL:PT1H
BEGIN:VTIMEZONE
TZID:Australia/Brisbane
BEGIN:STANDARD
TZOFFSETFROM:+1000
TZOFFSETTO:+1000
TZNAME:AEST
DTSTART:20240101T000000
END:STANDARD
END:VTIMEZONE
BEGIN:VEVENT
DTSTART;TZID=Australia/Brisbane:20250927T090000
DTEND;TZID=Australia/Brisbane:20250927T120000
DTSTAMP:20260422T081900
CREATED:20250827T001924Z
LAST-MODIFIED:20250827T001924Z
UID:10005527-1758963600-1758974400@www.trc.qld.gov.au
SUMMARY:Colour Run\, Walk & Roll-a-thon Fundraiser
DESCRIPTION:WHEN: Saturday 27 September\, 9am – 12noon \nWHERE: Tinaroo (Foreshore Parkland\, Tinaroo Falls Dam Rd) \nTICKET PRICE: Adult $10\, Children (4-16 years) $5\, Infants (under 4) Free. \n\nMini markets\nColour Walk & Roll-a thon\nFun Run 2km or 5km\nMini Olympics\nSausage Sizzle\nGreat coffee and lots of fun!!\n\nWe can’t wait! \nWear white or black & Bring a Chair/Blanket. \nThis event is a FUNDRAISER for OUR Activities Centre ‘The Grove’ and all proceeds go directly to support people with disability in our community. \n 
URL:https://www.trc.qld.gov.au/event/colour-run-walk-roll-a-thon-fundraiser/
LOCATION:Tinaroo Foreshore\, Tinaroo Falls Dam Road\, Tinaroo\, Qld\, 4872\, Australia
CATEGORIES:Community Event
ATTACH;FMTTYPE=image/jpeg:https://www.trc.qld.gov.au/wp-content/uploads/COLOUR-RUN-FLYER-.jpg
GEO:-17.1705262;145.548344
X-APPLE-STRUCTURED-LOCATION;VALUE=URI;X-ADDRESS=Tinaroo Foreshore Tinaroo Falls Dam Road Tinaroo Qld 4872 Australia;X-APPLE-RADIUS=500;X-TITLE=Tinaroo Falls Dam Road:geo:145.548344,-17.1705262
END:VEVENT
END:VCALENDAR