BEGIN:VCALENDAR
VERSION:2.0
PRODID:-//TRC - Tablelands Regional Council - ECPv6.15.20//NONSGML v1.0//EN
CALSCALE:GREGORIAN
METHOD:PUBLISH
X-ORIGINAL-URL:https://www.trc.qld.gov.au
X-WR-CALDESC:Events for TRC - Tablelands Regional Council
REFRESH-INTERVAL;VALUE=DURATION:PT1H
X-Robots-Tag:noindex
X-PUBLISHED-TTL:PT1H
BEGIN:VTIMEZONE
TZID:Australia/Brisbane
BEGIN:STANDARD
TZOFFSETFROM:+1000
TZOFFSETTO:+1000
TZNAME:AEST
DTSTART:20230101T000000
END:STANDARD
END:VTIMEZONE
BEGIN:VEVENT
DTSTART;TZID=Australia/Brisbane:20241222T180000
DTEND;TZID=Australia/Brisbane:20241222T200000
DTSTAMP:20260422T090238
CREATED:20241113T071557Z
LAST-MODIFIED:20241114T225818Z
UID:10005235-1734890400-1734897600@www.trc.qld.gov.au
SUMMARY:Yungaburra Christmas Concert
DESCRIPTION:
URL:https://www.trc.qld.gov.au/event/yungaburra-christmas-concert/
LOCATION:Yungaburra Rotunda\, Bruce Jones Park\, 13-17 Gillies Range Road\, Yungaburra\, Qld\, 4885\, Australia
CATEGORIES:Community Event
ORGANIZER;CN="Yungaburra Beautification":MAILTO:fairleys@bigpond.com
GEO:-17.2711597;145.5837635
X-APPLE-STRUCTURED-LOCATION;VALUE=URI;X-ADDRESS=Yungaburra Rotunda Bruce Jones Park 13-17 Gillies Range Road Yungaburra Qld 4885 Australia;X-APPLE-RADIUS=500;X-TITLE=13-17 Gillies Range Road:geo:145.5837635,-17.2711597
END:VEVENT
END:VCALENDAR