BEGIN:VCALENDAR
VERSION:2.0
PRODID:-//TRC - Tablelands Regional Council - ECPv6.15.20//NONSGML v1.0//EN
CALSCALE:GREGORIAN
METHOD:PUBLISH
X-WR-CALNAME:TRC - Tablelands Regional Council
X-ORIGINAL-URL:https://www.trc.qld.gov.au
X-WR-CALDESC:Events for TRC - Tablelands Regional Council
REFRESH-INTERVAL;VALUE=DURATION:PT1H
X-Robots-Tag:noindex
X-PUBLISHED-TTL:PT1H
BEGIN:VTIMEZONE
TZID:Australia/Brisbane
BEGIN:STANDARD
TZOFFSETFROM:+1000
TZOFFSETTO:+1000
TZNAME:AEST
DTSTART:20240101T000000
END:STANDARD
END:VTIMEZONE
BEGIN:VEVENT
DTSTART;TZID=Australia/Brisbane:20251101T173000
DTEND;TZID=Australia/Brisbane:20251101T203000
DTSTAMP:20260422T103417
CREATED:20251015T000539Z
LAST-MODIFIED:20251015T000539Z
UID:10005569-1762018200-1762029000@www.trc.qld.gov.au
SUMMARY:Sunset Stories
DESCRIPTION:
URL:https://www.trc.qld.gov.au/event/sunset-stories/
LOCATION:Reflection Park\, Herberton Cemetery\, 52 Syme Road\, Herberton\, Qld\, 4887\, Australia
CATEGORIES:Community Event
GEO:-17.3940184;145.3787735
X-APPLE-STRUCTURED-LOCATION;VALUE=URI;X-ADDRESS=Reflection Park Herberton Cemetery 52 Syme Road Herberton Qld 4887 Australia;X-APPLE-RADIUS=500;X-TITLE=52 Syme Road:geo:145.3787735,-17.3940184
END:VEVENT
END:VCALENDAR