BEGIN:VCALENDAR
VERSION:2.0
PRODID:-//TRC - Tablelands Regional Council - ECPv6.15.20//NONSGML v1.0//EN
CALSCALE:GREGORIAN
METHOD:PUBLISH
X-WR-CALNAME:TRC - Tablelands Regional Council
X-ORIGINAL-URL:https://www.trc.qld.gov.au
X-WR-CALDESC:Events for TRC - Tablelands Regional Council
REFRESH-INTERVAL;VALUE=DURATION:PT1H
X-Robots-Tag:noindex
X-PUBLISHED-TTL:PT1H
BEGIN:VTIMEZONE
TZID:Australia/Brisbane
BEGIN:STANDARD
TZOFFSETFROM:+1000
TZOFFSETTO:+1000
TZNAME:AEST
DTSTART:20240101T000000
END:STANDARD
END:VTIMEZONE
BEGIN:VEVENT
DTSTART;TZID=Australia/Brisbane:20260328T103000
DTEND;TZID=Australia/Brisbane:20260328T120000
DTSTAMP:20260425T015526
CREATED:20260327T062649Z
LAST-MODIFIED:20260327T062649Z
UID:10005632-1774693800-1774699200@www.trc.qld.gov.au
SUMMARY:Country Art Case with local artist Sue Ryan (Ghost Nets Art Project)
DESCRIPTION:
URL:https://www.trc.qld.gov.au/event/country-art-case-with-local-artist-sue-ryan-ghost-nets-art-project/
LOCATION:Ravenshoe Library\, 24 Moore Street\, Ravenshoe\, QLD\, 4888\, Australia
CATEGORIES:Community Event
ATTACH;FMTTYPE=image/jpeg:https://www.trc.qld.gov.au/wp-content/uploads/TRC_Copper-Art-Case-flyer_A4-scaled.jpg
ORGANIZER;CN="Tableland Regional Gallery":MAILTO:annag@trc.qld.gov.au
GEO:-17.6110049;145.4877622
X-APPLE-STRUCTURED-LOCATION;VALUE=URI;X-ADDRESS=Ravenshoe Library 24 Moore Street Ravenshoe QLD 4888 Australia;X-APPLE-RADIUS=500;X-TITLE=24 Moore Street:geo:145.4877622,-17.6110049
END:VEVENT
BEGIN:VEVENT
DTSTART;TZID=Australia/Brisbane:20260226T090000
DTEND;TZID=Australia/Brisbane:20260226T140000
DTSTAMP:20260425T015526
CREATED:20260211T004113Z
LAST-MODIFIED:20260211T004113Z
UID:10005610-1772096400-1772114400@www.trc.qld.gov.au
SUMMARY:Queensland Government Customer Services - Digital Services Herberton
DESCRIPTION:
URL:https://www.trc.qld.gov.au/event/queensland-government-customer-services-digital-services-herberton/
LOCATION:Herberton Hall\, 40 Grace Street\, Herberton\, Queensland\, 4887\, Australia
CATEGORIES:Community Event
ATTACH;FMTTYPE=image/jpeg:https://www.trc.qld.gov.au/wp-content/uploads/022_MSC_flyer_V6_North_individual.jpg
ORGANIZER;CN="Qld Government Customer Services Digital Access":MAILTO:digitalaccess.north@qld.gov.au
GEO:-17.3798403;145.3821583
X-APPLE-STRUCTURED-LOCATION;VALUE=URI;X-ADDRESS=Herberton Hall 40 Grace Street Herberton Queensland 4887 Australia;X-APPLE-RADIUS=500;X-TITLE=40 Grace Street:geo:145.3821583,-17.3798403
END:VEVENT
BEGIN:VEVENT
DTSTART;TZID=Australia/Brisbane:20260224T090000
DTEND;TZID=Australia/Brisbane:20260224T150000
DTSTAMP:20260425T015526
CREATED:20260211T003534Z
LAST-MODIFIED:20260211T003534Z
UID:10005609-1771923600-1771945200@www.trc.qld.gov.au
SUMMARY:Queensland Government Customer Services - Digital Services Ravenshoe
DESCRIPTION:
URL:https://www.trc.qld.gov.au/event/queensland-government-customer-services-digital-services-ravenshoe/
LOCATION:Ravenshoe Mountains Institute\, 24 Moore Street\, Ravenshoe\, Qld\, 4888\, Australia
CATEGORIES:Community Event
ATTACH;FMTTYPE=image/jpeg:https://www.trc.qld.gov.au/wp-content/uploads/022_MSC_flyer_V6_North_individual.jpg
ORGANIZER;CN="Qld Government Customer Services Digital Access":MAILTO:digitalaccess.north@qld.gov.au
GEO:-17.6106292;145.4884036
X-APPLE-STRUCTURED-LOCATION;VALUE=URI;X-ADDRESS=Ravenshoe Mountains Institute 24 Moore Street Ravenshoe Qld 4888 Australia;X-APPLE-RADIUS=500;X-TITLE=24 Moore Street:geo:145.4884036,-17.6106292
END:VEVENT
BEGIN:VEVENT
DTSTART;TZID=Australia/Brisbane:20251224T180000
DTEND;TZID=Australia/Brisbane:20251224T203000
DTSTAMP:20260425T015526
CREATED:20251218T014723Z
LAST-MODIFIED:20251218T014723Z
UID:10005591-1766599200-1766608200@www.trc.qld.gov.au
SUMMARY:Christmas Cheer in the Park at Ravenshoe
DESCRIPTION:s \n 
URL:https://www.trc.qld.gov.au/event/christmas-cheer-in-the-park-at-ravenshoe/
CATEGORIES:Community Event
ATTACH;FMTTYPE=image/jpeg:https://www.trc.qld.gov.au/wp-content/uploads/Ravenshoe-Xmas-eve.jpg
END:VEVENT
BEGIN:VEVENT
DTSTART;TZID=Australia/Brisbane:20251025T180000
DTEND;TZID=Australia/Brisbane:20251025T230000
DTSTAMP:20260425T015526
CREATED:20250827T013857Z
LAST-MODIFIED:20250827T013857Z
UID:10005530-1761415200-1761433200@www.trc.qld.gov.au
SUMMARY:Torimba Festival - Gala Ball
DESCRIPTION: 
URL:https://www.trc.qld.gov.au/event/torimba-festival-gala-ball/
LOCATION:Ravenshoe Town Hall\, 54 Grigg Street\, Ravenshoe\, QLD\, 4887\, Australia
CATEGORIES:Community Event
ATTACH;FMTTYPE=image/jpeg:https://www.trc.qld.gov.au/wp-content/uploads/Torimba-logo-Green.jpg
ORGANIZER;CN="Torimba Cultural & Festival Assoc. Inc":MAILTO:torimba@hotmail.com
GEO:-17.606627;145.4826178
X-APPLE-STRUCTURED-LOCATION;VALUE=URI;X-ADDRESS=Ravenshoe Town Hall 54 Grigg Street Ravenshoe QLD 4887 Australia;X-APPLE-RADIUS=500;X-TITLE=54 Grigg Street:geo:145.4826178,-17.606627
END:VEVENT
BEGIN:VEVENT
DTSTART;TZID=Australia/Brisbane:20251018T140000
DTEND;TZID=Australia/Brisbane:20251018T210000
DTSTAMP:20260425T015526
CREATED:20250827T013613Z
LAST-MODIFIED:20250827T013613Z
UID:10005529-1760796000-1760821200@www.trc.qld.gov.au
SUMMARY:Torimba Festival - Street Parade
DESCRIPTION:
URL:https://www.trc.qld.gov.au/event/torimba-festival-street-parade/
LOCATION:Grigg Street\, Ravenshoe\, Grigg Street\, Ravenshoe\, Ravenshoe\, Qld\, 4888\, Australia
CATEGORIES:Community Event
ATTACH;FMTTYPE=image/jpeg:https://www.trc.qld.gov.au/wp-content/uploads/Torimba-logo-Green.jpg
ORGANIZER;CN="Torimba Cultural & Festival Assoc. Inc":MAILTO:torimba@hotmail.com
GEO:-17.6054855;145.4819252
X-APPLE-STRUCTURED-LOCATION;VALUE=URI;X-ADDRESS=Grigg Street Ravenshoe Grigg Street Ravenshoe Ravenshoe Qld 4888 Australia;X-APPLE-RADIUS=500;X-TITLE=Grigg Street\, Ravenshoe:geo:145.4819252,-17.6054855
END:VEVENT
BEGIN:VEVENT
DTSTART;TZID=Australia/Brisbane:20251017T180000
DTEND;TZID=Australia/Brisbane:20251017T230000
DTSTAMP:20260425T015526
CREATED:20251015T021121Z
LAST-MODIFIED:20251015T021121Z
UID:10005545-1760724000-1760742000@www.trc.qld.gov.au
SUMMARY:Ravenshoe Hoedown
DESCRIPTION:As part of the Torimba Festival\, the annual Ravenshoe Hoedown is a family friendly evening of live music under the stars. The 2025 event has the band Careless coming to help us start a full weekend of Torimba events. Food and a bar on site cater for all ages and with entry at only $10 (children under 16 are a gold coin donation) this is a great way to end your work week and get into the spirit of the weekend!
URL:https://www.trc.qld.gov.au/event/ravenshoe-hoedown/
LOCATION:Marshall Park\, 48-81 Wooroora Road\, Ravenshoe\, QLD\, 4872\, Australia
CATEGORIES:Community Event
ATTACH;FMTTYPE=image/png:https://www.trc.qld.gov.au/wp-content/uploads/Ravenshoe-Hoedown-2025.png
ORGANIZER;CN="Ravenshoe & District Chamber of Commerce":MAILTO:ravenshoechamber@hotmail.com
GEO:-17.6278466;145.4856969
X-APPLE-STRUCTURED-LOCATION;VALUE=URI;X-ADDRESS=Marshall Park 48-81 Wooroora Road Ravenshoe QLD 4872 Australia;X-APPLE-RADIUS=500;X-TITLE=48-81 Wooroora Road:geo:145.4856969,-17.6278466
END:VEVENT
BEGIN:VEVENT
DTSTART;TZID=Australia/Brisbane:20251011T133000
DTEND;TZID=Australia/Brisbane:20251011T143000
DTSTAMP:20260425T015526
CREATED:20250827T012718Z
LAST-MODIFIED:20250827T012718Z
UID:10005528-1760189400-1760193000@www.trc.qld.gov.au
SUMMARY:Torimba Festival - Opening of Festival of the Forest
DESCRIPTION: 
URL:https://www.trc.qld.gov.au/event/torimba-festival-opening-of-festival-of-the-forest/
LOCATION:Festival Hall\, Grigg Street\, Ravenshoe\, Qld\, 4888\, Australia
CATEGORIES:Community Event
ATTACH;FMTTYPE=image/jpeg:https://www.trc.qld.gov.au/wp-content/uploads/Torimba-logo-Green.jpg
ORGANIZER;CN="Torimba Cultural & Festival Assoc. Inc":MAILTO:torimba@hotmail.com
GEO:-17.6053614;145.4819793
X-APPLE-STRUCTURED-LOCATION;VALUE=URI;X-ADDRESS=Festival Hall Grigg Street Ravenshoe Qld 4888 Australia;X-APPLE-RADIUS=500;X-TITLE=Grigg Street:geo:145.4819793,-17.6053614
END:VEVENT
BEGIN:VEVENT
DTSTART;VALUE=DATE:20251011
DTEND;VALUE=DATE:20251026
DTSTAMP:20260425T015526
CREATED:20250619T231514Z
LAST-MODIFIED:20250827T012244Z
UID:10005504-1760140800-1761436799@www.trc.qld.gov.au
SUMMARY:Torimba Festival
DESCRIPTION: 
URL:https://www.trc.qld.gov.au/event/torimba-festival/
LOCATION:Grigg Street\, Ravenshoe\, Grigg Street\, Ravenshoe\, Ravenshoe\, Qld\, 4888\, Australia
CATEGORIES:Community Event
ATTACH;FMTTYPE=image/jpeg:https://www.trc.qld.gov.au/wp-content/uploads/Torimba-logo-Green.jpg
ORGANIZER;CN="Torimba Cultural & Festival Assoc. Inc":MAILTO:torimba@hotmail.com
GEO:-17.6054855;145.4819252
X-APPLE-STRUCTURED-LOCATION;VALUE=URI;X-ADDRESS=Grigg Street Ravenshoe Grigg Street Ravenshoe Ravenshoe Qld 4888 Australia;X-APPLE-RADIUS=500;X-TITLE=Grigg Street\, Ravenshoe:geo:145.4819252,-17.6054855
END:VEVENT
BEGIN:VEVENT
DTSTART;TZID=Australia/Brisbane:20250913T140000
DTEND;TZID=Australia/Brisbane:20250913T223000
DTSTAMP:20260425T015526
CREATED:20250901T225722Z
LAST-MODIFIED:20250901T225722Z
UID:10005532-1757772000-1757802600@www.trc.qld.gov.au
SUMMARY:St Teresa's 75th Anniversary Celebration
DESCRIPTION:2:00pm Time travel\, treasures and afternoon tea step back in time for an afternoon filled with fun\, laughter and discovery \n\n\n4:30pm Mass \n\n\n6:00pm Pre-dinner drinks \n\n\n7:00pm Dinner (at Ravenshoe Hotel).  This 18+ event offers a relaxed space to reconnect\, reminisce\, and share stories that will preserve the rich history of our school and community for future generations.  Semi Formal Attire. \n\n\nRSVP – Click Here  \n\n\n4095 9050 or str.75years@cns.catholic.edu.au
URL:https://www.trc.qld.gov.au/event/st-teresas-75th-anniversary-celebration/
LOCATION:St Teresa’s Primary School\, 6 Moffatt Street\, Ravenshoe\, Qld\, 4872\, Australia
CATEGORIES:Community Event
ATTACH;FMTTYPE=image/png:https://www.trc.qld.gov.au/wp-content/uploads/75th-Logo.png
ORGANIZER;CN="St Teresa's School":MAILTO:STR.75years@cns.catholic.edu.au
GEO:-27.6249164;152.7622201
X-APPLE-STRUCTURED-LOCATION;VALUE=URI;X-ADDRESS=St Teresa’s Primary School 6 Moffatt Street Ravenshoe Qld 4872 Australia;X-APPLE-RADIUS=500;X-TITLE=6 Moffatt Street:geo:152.7622201,-27.6249164
END:VEVENT
BEGIN:VEVENT
DTSTART;TZID=Australia/Brisbane:20250620T080000
DTEND;TZID=Australia/Brisbane:20250624T000000
DTSTAMP:20260425T015526
CREATED:20250328T044831Z
LAST-MODIFIED:20250328T044831Z
UID:10005460-1750406400-1750723200@www.trc.qld.gov.au
SUMMARY:NYX Festival
DESCRIPTION:After a booming fourth edition\, NYX Festival returns as Australia’s up and coming underground arts\, music and culture experience to hit the tropical paradise of North Queensland on 20-23 June 2025. \nNestled amongst the picturesque utopian rivers\, paper barks and eucalyptus forests\, the 4 day experience is set on a remote 30\,000 acre property in Ravenshoe nearby Cairns. \nThe ultimate location to reconnect with nature during perfect weather conditions over the winter solstice whilst dancing away under the millions of breathtakingly clear stars of the milky way… \nLose yourself in a world of untamed creativity set in the breathtaking Australian bushland\, featuring art\, world class music\, immersive culture\, interactive workshops\, hot showers and buses from cairns. \nNYX Festival is more than a music festival\, it is a culture and arts immersive experience.
URL:https://www.trc.qld.gov.au/event/nyx-festival/
LOCATION:Glenn Gordon Station\, Glenn Gordon Station\, Innot Hot Springs\, QLD\, 4888\, Australia
CATEGORIES:Community Event
ATTACH;FMTTYPE=image/jpeg:https://www.trc.qld.gov.au/wp-content/uploads/NYX25-Square.jpg
ORGANIZER;CN="NYX Festival Pty Ltd":MAILTO:hello@nyxfestival.com.au
GEO:-17.6659149;145.2404813
X-APPLE-STRUCTURED-LOCATION;VALUE=URI;X-ADDRESS=Glenn Gordon Station Glenn Gordon Station Innot Hot Springs QLD 4888 Australia;X-APPLE-RADIUS=500;X-TITLE=Glenn Gordon Station:geo:145.2404813,-17.6659149
END:VEVENT
BEGIN:VEVENT
DTSTART;TZID=Australia/Brisbane:20250531T180000
DTEND;TZID=Australia/Brisbane:20250531T213000
DTSTAMP:20260425T015526
CREATED:20250507T234034Z
LAST-MODIFIED:20250507T234124Z
UID:10005473-1748714400-1748727000@www.trc.qld.gov.au
SUMMARY:Pauly P live at The Platform Ravenshoe
DESCRIPTION:We got Pauly P coming to The Platform! \nSaturday May 31st 6pm to 9pm…ish $15Entry \nGlad to finally shake the election shenanigans off…and join us for a celebration of a new season with some hot tunes to warm up your winter night. We are very excited to be hosting this entertaining performer who has played from Byron Bay up to Port Douglas to boogying crowds. We encourage you to get along for the biggest party night we could muster. Pauly P is not to be missed as he delivers his energetic blend of Roots\, Reggae\, Dub\, Funk\, Rock and Hip Hop \nGrab your people…your snacks\, drinks and a chair and come join everyone for a night of superb and silky tunes. Keeping prices real at only $15 – Tickets can be pre-bought at the Barn or at the door on the night if there’s some available. This is a limited numbers venue to keep things cosy! \nOur lovely CWA ladies will have the BBQ sizzling for those that need a snag on the go…so bring your gold coins. \nRemember we all need to support artists by getting along to gigs if we want to keep live music alive and growing. \nWe promise to keep bringing live music to Ravenshoe if you just keep turning up. These nights are always happy community gatherings…cheap and cheerful…simple and damn good for the soul. \nNext to the Barn – 63 Grigg St\, Ravenshoe\, QLD – Highest town in the state. \nCamping right next door Ravenshoe Heritage Railway – Contact directly to book! \n 
URL:https://www.trc.qld.gov.au/event/pauly-p-live-at-the-platform-ravenshoe/
LOCATION:The Platform Ravenshoe\, 63 Grigg St\,\, Ravenshoe\, QLD\, 4888\, Australia
CATEGORIES:Community Event
ATTACH;FMTTYPE=image/png:https://www.trc.qld.gov.au/wp-content/uploads/Puly-P-at-the-Platform.png
ORGANIZER;CN="The Platform Ravenshoe":MAILTO:theplatformravenshoe@gmail.com
GEO:-17.6090758;145.4826965
X-APPLE-STRUCTURED-LOCATION;VALUE=URI;X-ADDRESS=The Platform Ravenshoe 63 Grigg St Ravenshoe QLD 4888 Australia;X-APPLE-RADIUS=500;X-TITLE=63 Grigg St\,:geo:145.4826965,-17.6090758
END:VEVENT
BEGIN:VEVENT
DTSTART;VALUE=DATE:20250415
DTEND;VALUE=DATE:20250510
DTSTAMP:20260425T015526
CREATED:20250408T230503Z
LAST-MODIFIED:20250408T230503Z
UID:10005465-1744675200-1746835199@www.trc.qld.gov.au
SUMMARY:BreastScreen Mobile Clinic in Ravenshoe
DESCRIPTION:Breast screening is free for women aged 40 – 74 years of age and does not require a doctor’s referral. \nBreast screening takes 30 minutes and can save your life. \nPhone 13 20 50 or visit breastscreen.qld.gov.au
URL:https://www.trc.qld.gov.au/event/breastscreen-mobile-clinic-in-ravenshoe-2/
LOCATION:Ravenshoe Primary Health Care Centre\, 27 Kuradilla Street\, Ravenshoe\, Queensland\, 4888\, Australia
CATEGORIES:Community Event
ATTACH;FMTTYPE=image/jpeg:https://www.trc.qld.gov.au/wp-content/uploads/Ravenshoe-Banner-2025.jpg
ORGANIZER;CN="BreastScreen Cairns":MAILTO:belinda.lees@health.qld.gov.au
GEO:-17.6074387;145.4821056
X-APPLE-STRUCTURED-LOCATION;VALUE=URI;X-ADDRESS=Ravenshoe Primary Health Care Centre 27 Kuradilla Street Ravenshoe Queensland 4888 Australia;X-APPLE-RADIUS=500;X-TITLE=27 Kuradilla Street:geo:145.4821056,-17.6074387
END:VEVENT
END:VCALENDAR