BEGIN:VCALENDAR
VERSION:2.0
PRODID:-//TRC - Tablelands Regional Council - ECPv6.15.20//NONSGML v1.0//EN
CALSCALE:GREGORIAN
METHOD:PUBLISH
X-WR-CALNAME:TRC - Tablelands Regional Council
X-ORIGINAL-URL:https://www.trc.qld.gov.au
X-WR-CALDESC:Events for TRC - Tablelands Regional Council
REFRESH-INTERVAL;VALUE=DURATION:PT1H
X-Robots-Tag:noindex
X-PUBLISHED-TTL:PT1H
BEGIN:VTIMEZONE
TZID:Australia/Brisbane
BEGIN:STANDARD
TZOFFSETFROM:+1000
TZOFFSETTO:+1000
TZNAME:AEST
DTSTART:20240101T000000
END:STANDARD
END:VTIMEZONE
BEGIN:VEVENT
DTSTART;TZID=Australia/Brisbane:20251224T180000
DTEND;TZID=Australia/Brisbane:20251224T203000
DTSTAMP:20260422T173948
CREATED:20251218T014723Z
LAST-MODIFIED:20251218T014723Z
UID:10005591-1766599200-1766608200@www.trc.qld.gov.au
SUMMARY:Christmas Cheer in the Park at Ravenshoe
DESCRIPTION:s \n 
URL:https://www.trc.qld.gov.au/event/christmas-cheer-in-the-park-at-ravenshoe/
LOCATION:Australia
CATEGORIES:Community Event
ATTACH;FMTTYPE=image/jpeg:https://www.trc.qld.gov.au/wp-content/uploads/Ravenshoe-Xmas-eve.jpg
END:VEVENT
END:VCALENDAR