BEGIN:VCALENDAR
VERSION:2.0
PRODID:-//TRC - Tablelands Regional Council - ECPv6.15.20//NONSGML v1.0//EN
CALSCALE:GREGORIAN
METHOD:PUBLISH
X-ORIGINAL-URL:https://www.trc.qld.gov.au
X-WR-CALDESC:Events for TRC - Tablelands Regional Council
REFRESH-INTERVAL;VALUE=DURATION:PT1H
X-Robots-Tag:noindex
X-PUBLISHED-TTL:PT1H
BEGIN:VTIMEZONE
TZID:Australia/Brisbane
BEGIN:STANDARD
TZOFFSETFROM:+1000
TZOFFSETTO:+1000
TZNAME:AEST
DTSTART:20240101T000000
END:STANDARD
END:VTIMEZONE
BEGIN:VEVENT
DTSTART;TZID=Australia/Brisbane:20250620T080000
DTEND;TZID=Australia/Brisbane:20250624T000000
DTSTAMP:20260423T084309
CREATED:20250328T044831Z
LAST-MODIFIED:20250328T044831Z
UID:10005460-1750406400-1750723200@www.trc.qld.gov.au
SUMMARY:NYX Festival
DESCRIPTION:After a booming fourth edition\, NYX Festival returns as Australia’s up and coming underground arts\, music and culture experience to hit the tropical paradise of North Queensland on 20-23 June 2025. \nNestled amongst the picturesque utopian rivers\, paper barks and eucalyptus forests\, the 4 day experience is set on a remote 30\,000 acre property in Ravenshoe nearby Cairns. \nThe ultimate location to reconnect with nature during perfect weather conditions over the winter solstice whilst dancing away under the millions of breathtakingly clear stars of the milky way… \nLose yourself in a world of untamed creativity set in the breathtaking Australian bushland\, featuring art\, world class music\, immersive culture\, interactive workshops\, hot showers and buses from cairns. \nNYX Festival is more than a music festival\, it is a culture and arts immersive experience.
URL:https://www.trc.qld.gov.au/event/nyx-festival/
LOCATION:Glenn Gordon Station\, Glenn Gordon Station\, Innot Hot Springs\, QLD\, 4888\, Australia
CATEGORIES:Community Event
ATTACH;FMTTYPE=image/jpeg:https://www.trc.qld.gov.au/wp-content/uploads/NYX25-Square.jpg
ORGANIZER;CN="NYX Festival Pty Ltd":MAILTO:hello@nyxfestival.com.au
GEO:-17.6659149;145.2404813
X-APPLE-STRUCTURED-LOCATION;VALUE=URI;X-ADDRESS=Glenn Gordon Station Glenn Gordon Station Innot Hot Springs QLD 4888 Australia;X-APPLE-RADIUS=500;X-TITLE=Glenn Gordon Station:geo:145.2404813,-17.6659149
END:VEVENT
END:VCALENDAR