BEGIN:VCALENDAR
VERSION:2.0
PRODID:-//TRC - Tablelands Regional Council - ECPv6.15.20//NONSGML v1.0//EN
CALSCALE:GREGORIAN
METHOD:PUBLISH
X-WR-CALNAME:TRC - Tablelands Regional Council
X-ORIGINAL-URL:https://www.trc.qld.gov.au
X-WR-CALDESC:Events for TRC - Tablelands Regional Council
REFRESH-INTERVAL;VALUE=DURATION:PT1H
X-Robots-Tag:noindex
X-PUBLISHED-TTL:PT1H
BEGIN:VTIMEZONE
TZID:Australia/Brisbane
BEGIN:STANDARD
TZOFFSETFROM:+1000
TZOFFSETTO:+1000
TZNAME:AEST
DTSTART:20240101T000000
END:STANDARD
END:VTIMEZONE
BEGIN:VEVENT
DTSTART;TZID=Australia/Brisbane:20250402T090000
DTEND;TZID=Australia/Brisbane:20250402T110000
DTSTAMP:20260422T005333
CREATED:20250228T030437Z
LAST-MODIFIED:20250228T030437Z
UID:10005451-1743584400-1743591600@www.trc.qld.gov.au
SUMMARY:Millaa Millaa Playgroup
DESCRIPTION:Millaa Millaa Playgroup held between 9-11am every Wednesday (excluding school holidays) at the Millaa Millaa Children’s Centre – 30 Palm Avenue. \nCOST:         $2.00 (to cover resources) \nCatering for children birth to 5 years \n***PARENT SUPERVISION REQUIRED*** \nPlease bring food and drink for you and your children \n \n 
URL:https://www.trc.qld.gov.au/event/millaa-millaa-playgroup/2025-04-02/
LOCATION:Millaa Millaa Children’s Centre\, 30 Palm Avenue\, Millaa Millaa\, Qld\, 4886\, Australia
CATEGORIES:Community Event
ATTACH;FMTTYPE=image/png:https://www.trc.qld.gov.au/wp-content/uploads/Playgroup-poster-2025.png
ORGANIZER;CN="Anne-Maree Perks":MAILTO:millaa214@bigpond.com
GEO:-17.512958;145.6096395
X-APPLE-STRUCTURED-LOCATION;VALUE=URI;X-ADDRESS=Millaa Millaa Children’s Centre 30 Palm Avenue Millaa Millaa Qld 4886 Australia;X-APPLE-RADIUS=500;X-TITLE=30 Palm Avenue:geo:145.6096395,-17.512958
END:VEVENT
BEGIN:VEVENT
DTSTART;TZID=Australia/Brisbane:20250326T090000
DTEND;TZID=Australia/Brisbane:20250326T110000
DTSTAMP:20260422T005333
CREATED:20250228T030437Z
LAST-MODIFIED:20250228T030437Z
UID:10005450-1742979600-1742986800@www.trc.qld.gov.au
SUMMARY:Millaa Millaa Playgroup
DESCRIPTION:Millaa Millaa Playgroup held between 9-11am every Wednesday (excluding school holidays) at the Millaa Millaa Children’s Centre – 30 Palm Avenue. \nCOST:         $2.00 (to cover resources) \nCatering for children birth to 5 years \n***PARENT SUPERVISION REQUIRED*** \nPlease bring food and drink for you and your children \n \n 
URL:https://www.trc.qld.gov.au/event/millaa-millaa-playgroup/2025-03-26/
LOCATION:Millaa Millaa Children’s Centre\, 30 Palm Avenue\, Millaa Millaa\, Qld\, 4886\, Australia
CATEGORIES:Community Event
ATTACH;FMTTYPE=image/png:https://www.trc.qld.gov.au/wp-content/uploads/Playgroup-poster-2025.png
ORGANIZER;CN="Anne-Maree Perks":MAILTO:millaa214@bigpond.com
GEO:-17.512958;145.6096395
X-APPLE-STRUCTURED-LOCATION;VALUE=URI;X-ADDRESS=Millaa Millaa Children’s Centre 30 Palm Avenue Millaa Millaa Qld 4886 Australia;X-APPLE-RADIUS=500;X-TITLE=30 Palm Avenue:geo:145.6096395,-17.512958
END:VEVENT
BEGIN:VEVENT
DTSTART;TZID=Australia/Brisbane:20250312T090000
DTEND;TZID=Australia/Brisbane:20250312T110000
DTSTAMP:20260422T005333
CREATED:20250228T030437Z
LAST-MODIFIED:20250228T030437Z
UID:10005449-1741770000-1741777200@www.trc.qld.gov.au
SUMMARY:Millaa Millaa Playgroup
DESCRIPTION:Millaa Millaa Playgroup held between 9-11am every Wednesday (excluding school holidays) at the Millaa Millaa Children’s Centre – 30 Palm Avenue. \nCOST:         $2.00 (to cover resources) \nCatering for children birth to 5 years \n***PARENT SUPERVISION REQUIRED*** \nPlease bring food and drink for you and your children \n \n 
URL:https://www.trc.qld.gov.au/event/millaa-millaa-playgroup/2025-03-12/
LOCATION:Millaa Millaa Children’s Centre\, 30 Palm Avenue\, Millaa Millaa\, Qld\, 4886\, Australia
CATEGORIES:Community Event
ATTACH;FMTTYPE=image/png:https://www.trc.qld.gov.au/wp-content/uploads/Playgroup-poster-2025.png
ORGANIZER;CN="Anne-Maree Perks":MAILTO:millaa214@bigpond.com
GEO:-17.512958;145.6096395
X-APPLE-STRUCTURED-LOCATION;VALUE=URI;X-ADDRESS=Millaa Millaa Children’s Centre 30 Palm Avenue Millaa Millaa Qld 4886 Australia;X-APPLE-RADIUS=500;X-TITLE=30 Palm Avenue:geo:145.6096395,-17.512958
END:VEVENT
BEGIN:VEVENT
DTSTART;TZID=Australia/Brisbane:20250305T090000
DTEND;TZID=Australia/Brisbane:20250305T110000
DTSTAMP:20260422T005333
CREATED:20250228T030437Z
LAST-MODIFIED:20250228T030437Z
UID:10005448-1741165200-1741172400@www.trc.qld.gov.au
SUMMARY:Millaa Millaa Playgroup
DESCRIPTION:Millaa Millaa Playgroup held between 9-11am every Wednesday (excluding school holidays) at the Millaa Millaa Children’s Centre – 30 Palm Avenue. \nCOST:         $2.00 (to cover resources) \nCatering for children birth to 5 years \n***PARENT SUPERVISION REQUIRED*** \nPlease bring food and drink for you and your children \n \n 
URL:https://www.trc.qld.gov.au/event/millaa-millaa-playgroup/2025-03-05/
LOCATION:Millaa Millaa Children’s Centre\, 30 Palm Avenue\, Millaa Millaa\, Qld\, 4886\, Australia
CATEGORIES:Community Event
ATTACH;FMTTYPE=image/png:https://www.trc.qld.gov.au/wp-content/uploads/Playgroup-poster-2025.png
ORGANIZER;CN="Anne-Maree Perks":MAILTO:millaa214@bigpond.com
GEO:-17.512958;145.6096395
X-APPLE-STRUCTURED-LOCATION;VALUE=URI;X-ADDRESS=Millaa Millaa Children’s Centre 30 Palm Avenue Millaa Millaa Qld 4886 Australia;X-APPLE-RADIUS=500;X-TITLE=30 Palm Avenue:geo:145.6096395,-17.512958
END:VEVENT
BEGIN:VEVENT
DTSTART;TZID=Australia/Brisbane:20250226T090000
DTEND;TZID=Australia/Brisbane:20250226T110000
DTSTAMP:20260422T005333
CREATED:20250228T030437Z
LAST-MODIFIED:20250228T030437Z
UID:10005447-1740560400-1740567600@www.trc.qld.gov.au
SUMMARY:Millaa Millaa Playgroup
DESCRIPTION:Millaa Millaa Playgroup held between 9-11am every Wednesday (excluding school holidays) at the Millaa Millaa Children’s Centre – 30 Palm Avenue. \nCOST:         $2.00 (to cover resources) \nCatering for children birth to 5 years \n***PARENT SUPERVISION REQUIRED*** \nPlease bring food and drink for you and your children \n \n 
URL:https://www.trc.qld.gov.au/event/millaa-millaa-playgroup/2025-02-26/
LOCATION:Millaa Millaa Children’s Centre\, 30 Palm Avenue\, Millaa Millaa\, Qld\, 4886\, Australia
CATEGORIES:Community Event
ATTACH;FMTTYPE=image/png:https://www.trc.qld.gov.au/wp-content/uploads/Playgroup-poster-2025.png
ORGANIZER;CN="Anne-Maree Perks":MAILTO:millaa214@bigpond.com
GEO:-17.512958;145.6096395
X-APPLE-STRUCTURED-LOCATION;VALUE=URI;X-ADDRESS=Millaa Millaa Children’s Centre 30 Palm Avenue Millaa Millaa Qld 4886 Australia;X-APPLE-RADIUS=500;X-TITLE=30 Palm Avenue:geo:145.6096395,-17.512958
END:VEVENT
END:VCALENDAR