BEGIN:VCALENDAR
VERSION:2.0
PRODID:-//TRC - Tablelands Regional Council - ECPv6.15.20//NONSGML v1.0//EN
CALSCALE:GREGORIAN
METHOD:PUBLISH
X-WR-CALNAME:TRC - Tablelands Regional Council
X-ORIGINAL-URL:https://www.trc.qld.gov.au
X-WR-CALDESC:Events for TRC - Tablelands Regional Council
REFRESH-INTERVAL;VALUE=DURATION:PT1H
X-Robots-Tag:noindex
X-PUBLISHED-TTL:PT1H
BEGIN:VTIMEZONE
TZID:Australia/Brisbane
BEGIN:STANDARD
TZOFFSETFROM:+1000
TZOFFSETTO:+1000
TZNAME:AEST
DTSTART:20250101T000000
END:STANDARD
END:VTIMEZONE
BEGIN:VEVENT
DTSTART;TZID=Australia/Brisbane:20261024T060000
DTEND;TZID=Australia/Brisbane:20261024T140000
DTSTAMP:20260425T212334
CREATED:20260227T003657Z
LAST-MODIFIED:20260227T003657Z
UID:10005618-1792821600-1792850400@www.trc.qld.gov.au
SUMMARY:Tableland Car and Bike Show
DESCRIPTION:Annual major fundraiser car and bike show with all proceeds going to Malanda Men’s Shed Inc.
URL:https://www.trc.qld.gov.au/event/tableland-car-and-bike-show/
LOCATION:Malanda Showgrounds\, Thomas Street\, Malanda\, Queensland \, 4885\, Australia
CATEGORIES:Community Event
ORGANIZER;CN="Malanda Men's Shed":MAILTO:malandamensshed@gmail.com
GEO:-17.3503747;145.5913262
X-APPLE-STRUCTURED-LOCATION;VALUE=URI;X-ADDRESS=Malanda Showgrounds Thomas Street Malanda Queensland  4885 Australia;X-APPLE-RADIUS=500;X-TITLE=Thomas Street:geo:145.5913262,-17.3503747
END:VEVENT
END:VCALENDAR