BEGIN:VCALENDAR
VERSION:2.0
PRODID:-//TRC - Tablelands Regional Council - ECPv6.15.20//NONSGML v1.0//EN
CALSCALE:GREGORIAN
METHOD:PUBLISH
X-WR-CALNAME:TRC - Tablelands Regional Council
X-ORIGINAL-URL:https://www.trc.qld.gov.au
X-WR-CALDESC:Events for TRC - Tablelands Regional Council
REFRESH-INTERVAL;VALUE=DURATION:PT1H
X-Robots-Tag:noindex
X-PUBLISHED-TTL:PT1H
BEGIN:VTIMEZONE
TZID:Australia/Brisbane
BEGIN:STANDARD
TZOFFSETFROM:+1000
TZOFFSETTO:+1000
TZNAME:AEST
DTSTART:20240101T000000
END:STANDARD
END:VTIMEZONE
BEGIN:VEVENT
DTSTART;TZID=Australia/Brisbane:20251101T160000
DTEND;TZID=Australia/Brisbane:20251101T200000
DTSTAMP:20260422T192755
CREATED:20250108T025149Z
LAST-MODIFIED:20250108T025149Z
UID:10005275-1762012800-1762027200@www.trc.qld.gov.au
SUMMARY:Tolga Scarecrow Festival
DESCRIPTION:This ‘Old Skool’ country style festival celebrates our region’s farming origins encouraging the community and families to come together for some good old fashioned fun! The festival is centred around the ‘Scarecrow Competition’ and ‘Colouring Competition’. There are markets\, food stalls\, Old Skool Fete FUN-Draising stalls live entertainment and free activities like our egg & spoon races\, haybale rolling and horse shoe throwing.
URL:https://www.trc.qld.gov.au/event/tolga-scarecrow-festival/
LOCATION:Atherton Showgrounds\, Louise Street\, Atherton\, Queensland\, 4883\, Australia
CATEGORIES:Community Event
ATTACH;FMTTYPE=image/png:https://www.trc.qld.gov.au/wp-content/uploads/Tolga-Festival-no-date.png
ORGANIZER;CN="Atherton Tablelands Agricultural Society Inc.":MAILTO:info@athertonshow.com.au
GEO:-17.2670843;145.4823009
X-APPLE-STRUCTURED-LOCATION;VALUE=URI;X-ADDRESS=Atherton Showgrounds Louise Street Atherton Queensland 4883 Australia;X-APPLE-RADIUS=500;X-TITLE=Louise Street:geo:145.4823009,-17.2670843
END:VEVENT
BEGIN:VEVENT
DTSTART;TZID=Australia/Brisbane:20251018T100000
DTEND;TZID=Australia/Brisbane:20251018T150000
DTSTAMP:20260422T192755
CREATED:20250228T031639Z
LAST-MODIFIED:20250805T003614Z
UID:10005452-1760781600-1760799600@www.trc.qld.gov.au
SUMMARY:Herberton Jacaranda Festival
DESCRIPTION:The Jacaranda Festival is a family fun weekend showcasing the historic mining town of Herberton. \nFamily fun activities with local entertainment\, community & school group performances \, ‘Tin Town’ market & food stalls\, vintage and car displays\, Railway and Mining museums and steam train rides. \nGrace Street will be closed to traffic during the day on Saturday 18 October and then the activities will continue at the Railway station on Sunday 19 October.
URL:https://www.trc.qld.gov.au/event/herberton-jacaranda-festival-2/
LOCATION:Grace Street\, Herberton\, Grace Street\, Herberton\, Qld\, 4887\, Australia
CATEGORIES:Community Event
ATTACH;FMTTYPE=image/jpeg:https://www.trc.qld.gov.au/wp-content/uploads/Jacaranda-Festival.jpg
ORGANIZER;CN="Herberton Business & Tourism Association Inc.":MAILTO:info@herberton1880.com.au
GEO:-17.3799671;145.3822791
X-APPLE-STRUCTURED-LOCATION;VALUE=URI;X-ADDRESS=Grace Street Herberton Grace Street Herberton Qld 4887 Australia;X-APPLE-RADIUS=500;X-TITLE=Grace Street:geo:145.3822791,-17.3799671
END:VEVENT
END:VCALENDAR