BEGIN:VCALENDAR
VERSION:2.0
PRODID:-//TRC - Tablelands Regional Council - ECPv6.15.20//NONSGML v1.0//EN
CALSCALE:GREGORIAN
METHOD:PUBLISH
X-WR-CALNAME:TRC - Tablelands Regional Council
X-ORIGINAL-URL:https://www.trc.qld.gov.au
X-WR-CALDESC:Events for TRC - Tablelands Regional Council
REFRESH-INTERVAL;VALUE=DURATION:PT1H
X-Robots-Tag:noindex
X-PUBLISHED-TTL:PT1H
BEGIN:VTIMEZONE
TZID:Australia/Brisbane
BEGIN:STANDARD
TZOFFSETFROM:+1000
TZOFFSETTO:+1000
TZNAME:AEST
DTSTART:20240101T000000
END:STANDARD
END:VTIMEZONE
BEGIN:VEVENT
DTSTART;TZID=Australia/Brisbane:20260313T170000
DTEND;TZID=Australia/Brisbane:20260313T190000
DTSTAMP:20260425T210631
CREATED:20260203T014342Z
LAST-MODIFIED:20260305T055120Z
UID:10005606-1773421200-1773428400@www.trc.qld.gov.au
SUMMARY:Exhibition Opening - Memories by the Thursday Painters
DESCRIPTION:Members of Thursday Painters\, a local art group and part of Tableland Region Art Society\, were encouraged over the last\nyear to respond to the theme\, ‘Memories’. Their responses are many and varied\, and in a range of styles from traditional to abstract\, as well as ceramics and sculpture. \n \n  \n 
URL:https://www.trc.qld.gov.au/event/exhibition-opening-for-memories-by-the-thursday-painters/
LOCATION:Old Post Office Gallery\, 86 Herberton Road\, Atherton \, Queensland\, 4883\, Australia
CATEGORIES:Community Event,Galleries
ATTACH;FMTTYPE=image/jpeg:https://www.trc.qld.gov.au/wp-content/uploads/Children-by-Sandra-Gray_Thursday-Painters-scaled.jpg
GEO:-17.2776238;145.471098
X-APPLE-STRUCTURED-LOCATION;VALUE=URI;X-ADDRESS=Old Post Office Gallery 86 Herberton Road Atherton  Queensland 4883 Australia;X-APPLE-RADIUS=500;X-TITLE=86 Herberton Road:geo:145.471098,-17.2776238
END:VEVENT
BEGIN:VEVENT
DTSTART;TZID=Australia/Brisbane:20260124T103000
DTEND;TZID=Australia/Brisbane:20260124T113000
DTSTAMP:20260425T210631
CREATED:20260109T054807Z
LAST-MODIFIED:20260109T054807Z
UID:10005604-1769250600-1769254200@www.trc.qld.gov.au
SUMMARY:Glimpses - Exhibition Opening
DESCRIPTION:
URL:https://www.trc.qld.gov.au/event/glimpses-exhibition-opening/
LOCATION:Tablelands Regional Gallery\, 16 Robert Street\, Atherton\, Queensland\, 4883\, Australia
CATEGORIES:Community Event
ATTACH;FMTTYPE=image/jpeg:https://www.trc.qld.gov.au/wp-content/uploads/Glimpses.jpg
ORGANIZER;CN="Tablelands Regional Council":MAILTO:info@trc.qld.gov.au
GEO:-17.2688418;145.4788811
X-APPLE-STRUCTURED-LOCATION;VALUE=URI;X-ADDRESS=Tablelands Regional Gallery 16 Robert Street Atherton Queensland 4883 Australia;X-APPLE-RADIUS=500;X-TITLE=16 Robert Street:geo:145.4788811,-17.2688418
END:VEVENT
BEGIN:VEVENT
DTSTART;TZID=Australia/Brisbane:20250816T103000
DTEND;TZID=Australia/Brisbane:20250816T120000
DTSTAMP:20260425T210631
CREATED:20250811T235349Z
LAST-MODIFIED:20250811T235349Z
UID:10005523-1755340200-1755345600@www.trc.qld.gov.au
SUMMARY:Exhibition Opening: Off the Beaten Track
DESCRIPTION:By the Saltwater Creek Fibre Artists – Bonnie Alison\, Marcia Bird\, Rosey Cummings\, Pamela Kusabs\, Tijn Meulendijks\, Toni Rogers\, Sue Ryan\, Jeanette Sproule and Pamela Westera. \nThe theme ‘Off the Beaten Track’ has inspired and encouraged Saltwater Creek Fibre Artists\, an eclectic mix of fibre artists\, basket makers and sculptors from the Tablelands and Cairns. They each break into previously uncharted creative terrain\, with new techniques\, materials and fresh ideas. \nExhibition continues until Saturday 4 October. \nImage: Toni Rogers\, I Must Go Down to the Sea Again (detail)
URL:https://www.trc.qld.gov.au/event/exhibition-opening-off-the-beaten-track/
LOCATION:Tableland Regional Gallery\, 16 Robert Street\, Atherton\, QLD\, 4883\, Australia
CATEGORIES:Community Event
ATTACH;FMTTYPE=image/jpeg:https://www.trc.qld.gov.au/wp-content/uploads/Toni-Rogers_I-must-go-down-to-the-sea-again-1-scaled.jpg
ORGANIZER;CN="Tableland Regional Gallery":MAILTO:annag@trc.qld.gov.au
GEO:-17.2680022;145.4790517
X-APPLE-STRUCTURED-LOCATION;VALUE=URI;X-ADDRESS=Tableland Regional Gallery 16 Robert Street Atherton QLD 4883 Australia;X-APPLE-RADIUS=500;X-TITLE=16 Robert Street:geo:145.4790517,-17.2680022
END:VEVENT
BEGIN:VEVENT
DTSTART;TZID=Australia/Brisbane:20250815T170000
DTEND;TZID=Australia/Brisbane:20250815T180000
DTSTAMP:20260425T210631
CREATED:20250811T235927Z
LAST-MODIFIED:20250811T235949Z
UID:10005526-1755277200-1755280800@www.trc.qld.gov.au
SUMMARY:Exhibition Opening: Artists at War the Nurse and the Cartoonist
DESCRIPTION:
URL:https://www.trc.qld.gov.au/event/exhibition-opening-artists-at-war-the-nurse-and-the-cartoonist/
LOCATION:Rocky Creek WWII Igloo\, Frazer Road\, Tolga\, Qld\, 4882\, Australia
CATEGORIES:Community Event
ATTACH;FMTTYPE=image/jpeg:https://www.trc.qld.gov.au/wp-content/uploads/Artists-at-War-Poster-A4-scaled.jpg
ORGANIZER;CN="Atherton Rotary Club":MAILTO:manager@tastesofthetablelands.com.au
GEO:-17.1875915;145.4582989
X-APPLE-STRUCTURED-LOCATION;VALUE=URI;X-ADDRESS=Rocky Creek WWII Igloo Frazer Road Tolga Qld 4882 Australia;X-APPLE-RADIUS=500;X-TITLE=Frazer Road:geo:145.4582989,-17.1875915
END:VEVENT
BEGIN:VEVENT
DTSTART;TZID=Australia/Brisbane:20250627T170000
DTEND;TZID=Australia/Brisbane:20250627T200000
DTSTAMP:20260425T210631
CREATED:20250624T232431Z
LAST-MODIFIED:20250624T232846Z
UID:10005510-1751043600-1751054400@www.trc.qld.gov.au
SUMMARY:Exhibition Opening - Changing Light by Antonia Chew
DESCRIPTION:
URL:https://www.trc.qld.gov.au/event/exhibition-opening-changing-light-by-antonia-chew/
LOCATION:Old Post Office Gallery\, 86 Herberton Road\, Atherton \, Queensland\, 4883\, Australia
CATEGORIES:Community Event
ATTACH;FMTTYPE=image/jpeg:https://www.trc.qld.gov.au/wp-content/uploads/Changing-Light-email-flyer-scaled.jpg
ORGANIZER;CN="Tablelands Regional Council":MAILTO:info@trc.qld.gov.au
GEO:-17.2776238;145.471098
X-APPLE-STRUCTURED-LOCATION;VALUE=URI;X-ADDRESS=Old Post Office Gallery 86 Herberton Road Atherton  Queensland 4883 Australia;X-APPLE-RADIUS=500;X-TITLE=86 Herberton Road:geo:145.471098,-17.2776238
END:VEVENT
END:VCALENDAR