BEGIN:VCALENDAR
VERSION:2.0
PRODID:-//TRC - Tablelands Regional Council - ECPv6.15.20//NONSGML v1.0//EN
CALSCALE:GREGORIAN
METHOD:PUBLISH
X-ORIGINAL-URL:https://www.trc.qld.gov.au
X-WR-CALDESC:Events for TRC - Tablelands Regional Council
REFRESH-INTERVAL;VALUE=DURATION:PT1H
X-Robots-Tag:noindex
X-PUBLISHED-TTL:PT1H
BEGIN:VTIMEZONE
TZID:Australia/Brisbane
BEGIN:STANDARD
TZOFFSETFROM:+1000
TZOFFSETTO:+1000
TZNAME:AEST
DTSTART:20250101T000000
END:STANDARD
END:VTIMEZONE
BEGIN:VEVENT
DTSTART;TZID=Australia/Brisbane:20260428T103000
DTEND;TZID=Australia/Brisbane:20260428T133000
DTSTAMP:20260425T013644
CREATED:20260424T064524Z
LAST-MODIFIED:20260424T064524Z
UID:10005644-1777372200-1777383000@www.trc.qld.gov.au
SUMMARY:Mt Garnet Community Connect Day
DESCRIPTION:
URL:https://www.trc.qld.gov.au/event/mt-garnet-community-connect-day/
LOCATION:Anniversary Park\, Lot 2 Kennedy Highway\, Mount Garnet\, Qld\, 4872
CATEGORIES:Community Event
GEO:-17.6761396;145.1145384
X-APPLE-STRUCTURED-LOCATION;VALUE=URI;X-ADDRESS=Anniversary Park Lot 2 Kennedy Highway Mount Garnet Qld 4872;X-APPLE-RADIUS=500;X-TITLE=Lot 2 Kennedy Highway:geo:145.1145384,-17.6761396
END:VEVENT
END:VCALENDAR