BEGIN:VCALENDAR
VERSION:2.0
PRODID:-//TRC - Tablelands Regional Council - ECPv6.15.20//NONSGML v1.0//EN
CALSCALE:GREGORIAN
METHOD:PUBLISH
X-WR-CALNAME:TRC - Tablelands Regional Council
X-ORIGINAL-URL:https://www.trc.qld.gov.au
X-WR-CALDESC:Events for TRC - Tablelands Regional Council
REFRESH-INTERVAL;VALUE=DURATION:PT1H
X-Robots-Tag:noindex
X-PUBLISHED-TTL:PT1H
BEGIN:VTIMEZONE
TZID:Australia/Brisbane
BEGIN:STANDARD
TZOFFSETFROM:+1000
TZOFFSETTO:+1000
TZNAME:AEST
DTSTART:20240101T000000
END:STANDARD
END:VTIMEZONE
BEGIN:VEVENT
DTSTART;TZID=Australia/Brisbane:20251101T060000
DTEND;TZID=Australia/Brisbane:20251101T120000
DTSTAMP:20260424T021651
CREATED:20240119T051938Z
LAST-MODIFIED:20240119T051938Z
UID:10004491-1761976800-1761998400@www.trc.qld.gov.au
SUMMARY:Atherton Markets
DESCRIPTION:Location:  \nOur Saviour Luthern Church   \n1 Golflinks Drive\, Atherton  \n  \nInformation:  \nTime: 6am-12pm  \nPreviously held at Platypus Park the Atherton Market is now being held at Our Saviour Church on Golflinks Road the first Saturday of the month. Enjoy fresh local produce\, crafts\, plants\, homemade goodies and more!    \n  \nFor more information contact Market Coordinator – Roger Strickland on 0427 753938 or email roger.strickland@bigpond.com  
URL:https://www.trc.qld.gov.au/event/atherton-markets-2/2025-11-01/
LOCATION:Our Saviour Church\, 1 Golf Links Road\, Atherton\, Qld\, 4883\, Australia
CATEGORIES:Community Event,Markets
ORGANIZER;CN="Roger Strickland":MAILTO:roger.strickland@bigpond.com
GEO:-17.2617702;145.4755038
X-APPLE-STRUCTURED-LOCATION;VALUE=URI;X-ADDRESS=Our Saviour Church 1 Golf Links Road Atherton Qld 4883 Australia;X-APPLE-RADIUS=500;X-TITLE=1 Golf Links Road:geo:145.4755038,-17.2617702
END:VEVENT
BEGIN:VEVENT
DTSTART;TZID=Australia/Brisbane:20251101T070000
DTEND;TZID=Australia/Brisbane:20251101T080000
DTSTAMP:20260424T021651
CREATED:20231206T043708Z
LAST-MODIFIED:20231206T043917Z
UID:10004286-1761980400-1761984000@www.trc.qld.gov.au
SUMMARY:Atherton Parkrun
DESCRIPTION:A free\, fun and friendly weekly 5k community event. Walk\, jog\, run\, volunteer or spectate. \nHeld every Saturday between 7 -8am on the rail trail\, starting and finishing at the corner of  Weaver Street and Atherton-Herberton Road (opposite Platypus Park). \nThe course is two laps\, one longer loop (3.3kms) and a shorter loop (1.7kms).  Participants proceed to the bollard in Priors Creek park (1st turnaround)\, back to the start (2nd turnaround)\, to the marked bollard near IGA (3rd turnaround) and back to the start to finish.
URL:https://www.trc.qld.gov.au/event/atherton-parkrun/2025-11-01/
LOCATION:Atherton Tablelands Rail Trail- opposite Platypus Park\, cnr Weaver Street & Atherton-herberton Road\, Atherton\, Qld\, 4883\, Australia
CATEGORIES:Community Event
ATTACH;FMTTYPE=image/jpeg:https://www.trc.qld.gov.au/wp-content/uploads/Parkrun.jpg
ORGANIZER;CN="Atherton Parkrun":MAILTO:athertonhelpers@parkrun.com
GEO:-25.274398;133.775136
X-APPLE-STRUCTURED-LOCATION;VALUE=URI;X-ADDRESS=Atherton Tablelands Rail Trail- opposite Platypus Park cnr Weaver Street & Atherton-herberton Road Atherton Qld 4883 Australia;X-APPLE-RADIUS=500;X-TITLE=cnr Weaver Street & Atherton-herberton Road:geo:133.775136,-25.274398
END:VEVENT
BEGIN:VEVENT
DTSTART;TZID=Australia/Brisbane:20251101T160000
DTEND;TZID=Australia/Brisbane:20251101T200000
DTSTAMP:20260424T021651
CREATED:20250108T025149Z
LAST-MODIFIED:20250108T025149Z
UID:10005275-1762012800-1762027200@www.trc.qld.gov.au
SUMMARY:Tolga Scarecrow Festival
DESCRIPTION:This ‘Old Skool’ country style festival celebrates our region’s farming origins encouraging the community and families to come together for some good old fashioned fun! The festival is centred around the ‘Scarecrow Competition’ and ‘Colouring Competition’. There are markets\, food stalls\, Old Skool Fete FUN-Draising stalls live entertainment and free activities like our egg & spoon races\, haybale rolling and horse shoe throwing.
URL:https://www.trc.qld.gov.au/event/tolga-scarecrow-festival/
LOCATION:Atherton Showgrounds\, Louise Street\, Atherton\, Queensland\, 4883\, Australia
CATEGORIES:Community Event
ATTACH;FMTTYPE=image/png:https://www.trc.qld.gov.au/wp-content/uploads/Tolga-Festival-no-date.png
ORGANIZER;CN="Atherton Tablelands Agricultural Society Inc.":MAILTO:info@athertonshow.com.au
GEO:-17.2670843;145.4823009
X-APPLE-STRUCTURED-LOCATION;VALUE=URI;X-ADDRESS=Atherton Showgrounds Louise Street Atherton Queensland 4883 Australia;X-APPLE-RADIUS=500;X-TITLE=Louise Street:geo:145.4823009,-17.2670843
END:VEVENT
BEGIN:VEVENT
DTSTART;TZID=Australia/Brisbane:20251105T180000
DTEND;TZID=Australia/Brisbane:20251105T213000
DTSTAMP:20260424T021651
CREATED:20240314T041712Z
LAST-MODIFIED:20241219T022753Z
UID:10004733-1762365600-1762378200@www.trc.qld.gov.au
SUMMARY:Tableland Social Dancers
DESCRIPTION:Sequence dancing every Wednesday night at Merriland Hall\, Atherton. \nStarting 6.15pm for lessons. 7pm to 9.30pm for dancing. \nJoin the fun. Learn many styles of ballroom sequence dancing. \nCost $5 per person. Everyone is welcome. \nBring your own supper. \nEnquires: Annette 0488 954 202 \nCheck out our Facebook Page for our program for the evening.
URL:https://www.trc.qld.gov.au/event/tableland-social-dancers-3/2025-11-05/
LOCATION:Merrilands Hall\, 10 Louise Street\, Atherton\, Qld\, 4883\, Australia
CATEGORIES:Community Event
ATTACH;FMTTYPE=image/png:https://www.trc.qld.gov.au/wp-content/uploads/Tableland-Social-Dancers.png
ORGANIZER;CN="Tableland Social Dancers":MAILTO:tablelandsocialdancers@gmail.com
GEO:-17.2697265;145.4833664
X-APPLE-STRUCTURED-LOCATION;VALUE=URI;X-ADDRESS=Merrilands Hall 10 Louise Street Atherton Qld 4883 Australia;X-APPLE-RADIUS=500;X-TITLE=10 Louise Street:geo:145.4833664,-17.2697265
END:VEVENT
BEGIN:VEVENT
DTSTART;TZID=Australia/Brisbane:20251108T070000
DTEND;TZID=Australia/Brisbane:20251108T080000
DTSTAMP:20260424T021651
CREATED:20231206T043708Z
LAST-MODIFIED:20231206T043917Z
UID:10004287-1762585200-1762588800@www.trc.qld.gov.au
SUMMARY:Atherton Parkrun
DESCRIPTION:A free\, fun and friendly weekly 5k community event. Walk\, jog\, run\, volunteer or spectate. \nHeld every Saturday between 7 -8am on the rail trail\, starting and finishing at the corner of  Weaver Street and Atherton-Herberton Road (opposite Platypus Park). \nThe course is two laps\, one longer loop (3.3kms) and a shorter loop (1.7kms).  Participants proceed to the bollard in Priors Creek park (1st turnaround)\, back to the start (2nd turnaround)\, to the marked bollard near IGA (3rd turnaround) and back to the start to finish.
URL:https://www.trc.qld.gov.au/event/atherton-parkrun/2025-11-08/
LOCATION:Atherton Tablelands Rail Trail- opposite Platypus Park\, cnr Weaver Street & Atherton-herberton Road\, Atherton\, Qld\, 4883\, Australia
CATEGORIES:Community Event
ATTACH;FMTTYPE=image/jpeg:https://www.trc.qld.gov.au/wp-content/uploads/Parkrun.jpg
ORGANIZER;CN="Atherton Parkrun":MAILTO:athertonhelpers@parkrun.com
GEO:-25.274398;133.775136
X-APPLE-STRUCTURED-LOCATION;VALUE=URI;X-ADDRESS=Atherton Tablelands Rail Trail- opposite Platypus Park cnr Weaver Street & Atherton-herberton Road Atherton Qld 4883 Australia;X-APPLE-RADIUS=500;X-TITLE=cnr Weaver Street & Atherton-herberton Road:geo:133.775136,-25.274398
END:VEVENT
BEGIN:VEVENT
DTSTART;TZID=Australia/Brisbane:20251108T170000
DTEND;TZID=Australia/Brisbane:20251108T210000
DTSTAMP:20260424T021651
CREATED:20251105T063848Z
LAST-MODIFIED:20251105T063848Z
UID:10005571-1762621200-1762635600@www.trc.qld.gov.au
SUMMARY:Great Northern Bullriding Series Final
DESCRIPTION:
URL:https://www.trc.qld.gov.au/event/great-northern-bullriding-series-final/
LOCATION:Atherton Showgrounds\, Louise Street\, Atherton\, Queensland\, 4883\, Australia
CATEGORIES:Community Event
GEO:-17.2670843;145.4823009
X-APPLE-STRUCTURED-LOCATION;VALUE=URI;X-ADDRESS=Atherton Showgrounds Louise Street Atherton Queensland 4883 Australia;X-APPLE-RADIUS=500;X-TITLE=Louise Street:geo:145.4823009,-17.2670843
END:VEVENT
BEGIN:VEVENT
DTSTART;TZID=Australia/Brisbane:20251112T180000
DTEND;TZID=Australia/Brisbane:20251112T213000
DTSTAMP:20260424T021651
CREATED:20240314T041712Z
LAST-MODIFIED:20241219T022753Z
UID:10004734-1762970400-1762983000@www.trc.qld.gov.au
SUMMARY:Tableland Social Dancers
DESCRIPTION:Sequence dancing every Wednesday night at Merriland Hall\, Atherton. \nStarting 6.15pm for lessons. 7pm to 9.30pm for dancing. \nJoin the fun. Learn many styles of ballroom sequence dancing. \nCost $5 per person. Everyone is welcome. \nBring your own supper. \nEnquires: Annette 0488 954 202 \nCheck out our Facebook Page for our program for the evening.
URL:https://www.trc.qld.gov.au/event/tableland-social-dancers-3/2025-11-12/
LOCATION:Merrilands Hall\, 10 Louise Street\, Atherton\, Qld\, 4883\, Australia
CATEGORIES:Community Event
ATTACH;FMTTYPE=image/png:https://www.trc.qld.gov.au/wp-content/uploads/Tableland-Social-Dancers.png
ORGANIZER;CN="Tableland Social Dancers":MAILTO:tablelandsocialdancers@gmail.com
GEO:-17.2697265;145.4833664
X-APPLE-STRUCTURED-LOCATION;VALUE=URI;X-ADDRESS=Merrilands Hall 10 Louise Street Atherton Qld 4883 Australia;X-APPLE-RADIUS=500;X-TITLE=10 Louise Street:geo:145.4833664,-17.2697265
END:VEVENT
BEGIN:VEVENT
DTSTART;TZID=Australia/Brisbane:20251114T170000
DTEND;TZID=Australia/Brisbane:20251114T210000
DTSTAMP:20260424T021651
CREATED:20251110T050258Z
LAST-MODIFIED:20251110T050258Z
UID:10005573-1763139600-1763154000@www.trc.qld.gov.au
SUMMARY:Atherton Ladies Shopping Night
DESCRIPTION:
URL:https://www.trc.qld.gov.au/event/atherton-ladies-shopping-night/
LOCATION:Main Street\, Atherton\, Main Street\, Atherton\, Qld\, 4883\, Australia
CATEGORIES:Community Event
ATTACH;FMTTYPE=image/jpeg:https://www.trc.qld.gov.au/wp-content/uploads/Ladies-shopping-night.jpg
ORGANIZER;CN="Atherton Tablelands Chamber of Commerce Inc.":MAILTO:info@athertonchamber.com.au
GEO:-17.2651822;145.4762435
X-APPLE-STRUCTURED-LOCATION;VALUE=URI;X-ADDRESS=Main Street Atherton Main Street Atherton Qld 4883 Australia;X-APPLE-RADIUS=500;X-TITLE=Main Street:geo:145.4762435,-17.2651822
END:VEVENT
BEGIN:VEVENT
DTSTART;TZID=Australia/Brisbane:20251115T070000
DTEND;TZID=Australia/Brisbane:20251115T080000
DTSTAMP:20260424T021651
CREATED:20231206T043708Z
LAST-MODIFIED:20231206T043917Z
UID:10004288-1763190000-1763193600@www.trc.qld.gov.au
SUMMARY:Atherton Parkrun
DESCRIPTION:A free\, fun and friendly weekly 5k community event. Walk\, jog\, run\, volunteer or spectate. \nHeld every Saturday between 7 -8am on the rail trail\, starting and finishing at the corner of  Weaver Street and Atherton-Herberton Road (opposite Platypus Park). \nThe course is two laps\, one longer loop (3.3kms) and a shorter loop (1.7kms).  Participants proceed to the bollard in Priors Creek park (1st turnaround)\, back to the start (2nd turnaround)\, to the marked bollard near IGA (3rd turnaround) and back to the start to finish.
URL:https://www.trc.qld.gov.au/event/atherton-parkrun/2025-11-15/
LOCATION:Atherton Tablelands Rail Trail- opposite Platypus Park\, cnr Weaver Street & Atherton-herberton Road\, Atherton\, Qld\, 4883\, Australia
CATEGORIES:Community Event
ATTACH;FMTTYPE=image/jpeg:https://www.trc.qld.gov.au/wp-content/uploads/Parkrun.jpg
ORGANIZER;CN="Atherton Parkrun":MAILTO:athertonhelpers@parkrun.com
GEO:-25.274398;133.775136
X-APPLE-STRUCTURED-LOCATION;VALUE=URI;X-ADDRESS=Atherton Tablelands Rail Trail- opposite Platypus Park cnr Weaver Street & Atherton-herberton Road Atherton Qld 4883 Australia;X-APPLE-RADIUS=500;X-TITLE=cnr Weaver Street & Atherton-herberton Road:geo:133.775136,-25.274398
END:VEVENT
BEGIN:VEVENT
DTSTART;TZID=Australia/Brisbane:20251115T090000
DTEND;TZID=Australia/Brisbane:20251115T150000
DTSTAMP:20260424T021651
CREATED:20250915T041239Z
LAST-MODIFIED:20251114T065803Z
UID:10005540-1763197200-1763218800@www.trc.qld.gov.au
SUMMARY:Living Well Expo
DESCRIPTION:  \n  \n \n  \n  \n  \n  \n  \n  \n  \n  \n  \n.
URL:https://www.trc.qld.gov.au/event/living-well-expo/
LOCATION:Merriland Hall\, Atherton Show Grounds\, 10 Louise Street\, Atherton\, QLD\, 4883\, Australia
CATEGORIES:Community Event
ATTACH;FMTTYPE=image/jpeg:https://www.trc.qld.gov.au/wp-content/uploads/Flyer-Living-Well-Expo-2025-scaled.jpg
ORGANIZER;CN="Tablelands Regional Council":MAILTO:info@trc.qld.gov.au
GEO:-17.268407;145.482722
X-APPLE-STRUCTURED-LOCATION;VALUE=URI;X-ADDRESS=Merriland Hall Atherton Show Grounds 10 Louise Street Atherton QLD 4883 Australia;X-APPLE-RADIUS=500;X-TITLE=10 Louise Street:geo:145.482722,-17.268407
END:VEVENT
BEGIN:VEVENT
DTSTART;TZID=Australia/Brisbane:20251119T180000
DTEND;TZID=Australia/Brisbane:20251119T213000
DTSTAMP:20260424T021651
CREATED:20240314T041712Z
LAST-MODIFIED:20241219T022753Z
UID:10004735-1763575200-1763587800@www.trc.qld.gov.au
SUMMARY:Tableland Social Dancers
DESCRIPTION:Sequence dancing every Wednesday night at Merriland Hall\, Atherton. \nStarting 6.15pm for lessons. 7pm to 9.30pm for dancing. \nJoin the fun. Learn many styles of ballroom sequence dancing. \nCost $5 per person. Everyone is welcome. \nBring your own supper. \nEnquires: Annette 0488 954 202 \nCheck out our Facebook Page for our program for the evening.
URL:https://www.trc.qld.gov.au/event/tableland-social-dancers-3/2025-11-19/
LOCATION:Merrilands Hall\, 10 Louise Street\, Atherton\, Qld\, 4883\, Australia
CATEGORIES:Community Event
ATTACH;FMTTYPE=image/png:https://www.trc.qld.gov.au/wp-content/uploads/Tableland-Social-Dancers.png
ORGANIZER;CN="Tableland Social Dancers":MAILTO:tablelandsocialdancers@gmail.com
GEO:-17.2697265;145.4833664
X-APPLE-STRUCTURED-LOCATION;VALUE=URI;X-ADDRESS=Merrilands Hall 10 Louise Street Atherton Qld 4883 Australia;X-APPLE-RADIUS=500;X-TITLE=10 Louise Street:geo:145.4833664,-17.2697265
END:VEVENT
BEGIN:VEVENT
DTSTART;TZID=Australia/Brisbane:20251122T070000
DTEND;TZID=Australia/Brisbane:20251122T080000
DTSTAMP:20260424T021651
CREATED:20231206T043708Z
LAST-MODIFIED:20231206T043917Z
UID:10004289-1763794800-1763798400@www.trc.qld.gov.au
SUMMARY:Atherton Parkrun
DESCRIPTION:A free\, fun and friendly weekly 5k community event. Walk\, jog\, run\, volunteer or spectate. \nHeld every Saturday between 7 -8am on the rail trail\, starting and finishing at the corner of  Weaver Street and Atherton-Herberton Road (opposite Platypus Park). \nThe course is two laps\, one longer loop (3.3kms) and a shorter loop (1.7kms).  Participants proceed to the bollard in Priors Creek park (1st turnaround)\, back to the start (2nd turnaround)\, to the marked bollard near IGA (3rd turnaround) and back to the start to finish.
URL:https://www.trc.qld.gov.au/event/atherton-parkrun/2025-11-22/
LOCATION:Atherton Tablelands Rail Trail- opposite Platypus Park\, cnr Weaver Street & Atherton-herberton Road\, Atherton\, Qld\, 4883\, Australia
CATEGORIES:Community Event
ATTACH;FMTTYPE=image/jpeg:https://www.trc.qld.gov.au/wp-content/uploads/Parkrun.jpg
ORGANIZER;CN="Atherton Parkrun":MAILTO:athertonhelpers@parkrun.com
GEO:-25.274398;133.775136
X-APPLE-STRUCTURED-LOCATION;VALUE=URI;X-ADDRESS=Atherton Tablelands Rail Trail- opposite Platypus Park cnr Weaver Street & Atherton-herberton Road Atherton Qld 4883 Australia;X-APPLE-RADIUS=500;X-TITLE=cnr Weaver Street & Atherton-herberton Road:geo:133.775136,-25.274398
END:VEVENT
BEGIN:VEVENT
DTSTART;TZID=Australia/Brisbane:20251126T180000
DTEND;TZID=Australia/Brisbane:20251126T213000
DTSTAMP:20260424T021651
CREATED:20240314T041712Z
LAST-MODIFIED:20241219T022753Z
UID:10004736-1764180000-1764192600@www.trc.qld.gov.au
SUMMARY:Tableland Social Dancers
DESCRIPTION:Sequence dancing every Wednesday night at Merriland Hall\, Atherton. \nStarting 6.15pm for lessons. 7pm to 9.30pm for dancing. \nJoin the fun. Learn many styles of ballroom sequence dancing. \nCost $5 per person. Everyone is welcome. \nBring your own supper. \nEnquires: Annette 0488 954 202 \nCheck out our Facebook Page for our program for the evening.
URL:https://www.trc.qld.gov.au/event/tableland-social-dancers-3/2025-11-26/
LOCATION:Merrilands Hall\, 10 Louise Street\, Atherton\, Qld\, 4883\, Australia
CATEGORIES:Community Event
ATTACH;FMTTYPE=image/png:https://www.trc.qld.gov.au/wp-content/uploads/Tableland-Social-Dancers.png
ORGANIZER;CN="Tableland Social Dancers":MAILTO:tablelandsocialdancers@gmail.com
GEO:-17.2697265;145.4833664
X-APPLE-STRUCTURED-LOCATION;VALUE=URI;X-ADDRESS=Merrilands Hall 10 Louise Street Atherton Qld 4883 Australia;X-APPLE-RADIUS=500;X-TITLE=10 Louise Street:geo:145.4833664,-17.2697265
END:VEVENT
BEGIN:VEVENT
DTSTART;TZID=Australia/Brisbane:20251128T170000
DTEND;TZID=Australia/Brisbane:20251128T200000
DTSTAMP:20260424T021651
CREATED:20251127T041037Z
LAST-MODIFIED:20251127T041037Z
UID:10005577-1764349200-1764360000@www.trc.qld.gov.au
SUMMARY:Miracles - Exhibition Opening
DESCRIPTION:
URL:https://www.trc.qld.gov.au/event/miracles-exhibition-opening/
LOCATION:Tablelands Regional Gallery\, 16 Robert Street\, Atherton\, Queensland\, 4883\, Australia
CATEGORIES:Community Event
ATTACH;FMTTYPE=image/jpeg:https://www.trc.qld.gov.au/wp-content/uploads/Miracles_Flyer_Email.jpg
ORGANIZER;CN="Tablelands Regional Council":MAILTO:info@trc.qld.gov.au
GEO:-17.2688418;145.4788811
X-APPLE-STRUCTURED-LOCATION;VALUE=URI;X-ADDRESS=Tablelands Regional Gallery 16 Robert Street Atherton Queensland 4883 Australia;X-APPLE-RADIUS=500;X-TITLE=16 Robert Street:geo:145.4788811,-17.2688418
END:VEVENT
BEGIN:VEVENT
DTSTART;TZID=Australia/Brisbane:20251129T070000
DTEND;TZID=Australia/Brisbane:20251129T080000
DTSTAMP:20260424T021651
CREATED:20231206T043708Z
LAST-MODIFIED:20231206T043917Z
UID:10004290-1764399600-1764403200@www.trc.qld.gov.au
SUMMARY:Atherton Parkrun
DESCRIPTION:A free\, fun and friendly weekly 5k community event. Walk\, jog\, run\, volunteer or spectate. \nHeld every Saturday between 7 -8am on the rail trail\, starting and finishing at the corner of  Weaver Street and Atherton-Herberton Road (opposite Platypus Park). \nThe course is two laps\, one longer loop (3.3kms) and a shorter loop (1.7kms).  Participants proceed to the bollard in Priors Creek park (1st turnaround)\, back to the start (2nd turnaround)\, to the marked bollard near IGA (3rd turnaround) and back to the start to finish.
URL:https://www.trc.qld.gov.au/event/atherton-parkrun/2025-11-29/
LOCATION:Atherton Tablelands Rail Trail- opposite Platypus Park\, cnr Weaver Street & Atherton-herberton Road\, Atherton\, Qld\, 4883\, Australia
CATEGORIES:Community Event
ATTACH;FMTTYPE=image/jpeg:https://www.trc.qld.gov.au/wp-content/uploads/Parkrun.jpg
ORGANIZER;CN="Atherton Parkrun":MAILTO:athertonhelpers@parkrun.com
GEO:-25.274398;133.775136
X-APPLE-STRUCTURED-LOCATION;VALUE=URI;X-ADDRESS=Atherton Tablelands Rail Trail- opposite Platypus Park cnr Weaver Street & Atherton-herberton Road Atherton Qld 4883 Australia;X-APPLE-RADIUS=500;X-TITLE=cnr Weaver Street & Atherton-herberton Road:geo:133.775136,-25.274398
END:VEVENT
BEGIN:VEVENT
DTSTART;TZID=Australia/Brisbane:20251129T103000
DTEND;TZID=Australia/Brisbane:20251129T113000
DTSTAMP:20260424T021651
CREATED:20251127T041237Z
LAST-MODIFIED:20251127T041237Z
UID:10005578-1764412200-1764415800@www.trc.qld.gov.au
SUMMARY:Artist Talk
DESCRIPTION:
URL:https://www.trc.qld.gov.au/event/artist-talk/
LOCATION:Tablelands Regional Gallery\, 16 Robert Street\, Atherton\, Queensland\, 4883\, Australia
CATEGORIES:Community Event
ORGANIZER;CN="Tablelands Regional Council":MAILTO:info@trc.qld.gov.au
GEO:-17.2688418;145.4788811
X-APPLE-STRUCTURED-LOCATION;VALUE=URI;X-ADDRESS=Tablelands Regional Gallery 16 Robert Street Atherton Queensland 4883 Australia;X-APPLE-RADIUS=500;X-TITLE=16 Robert Street:geo:145.4788811,-17.2688418
END:VEVENT
END:VCALENDAR