BEGIN:VCALENDAR
VERSION:2.0
PRODID:-//TRC - Tablelands Regional Council - ECPv6.15.20//NONSGML v1.0//EN
CALSCALE:GREGORIAN
METHOD:PUBLISH
X-WR-CALNAME:TRC - Tablelands Regional Council
X-ORIGINAL-URL:https://www.trc.qld.gov.au
X-WR-CALDESC:Events for TRC - Tablelands Regional Council
REFRESH-INTERVAL;VALUE=DURATION:PT1H
X-Robots-Tag:noindex
X-PUBLISHED-TTL:PT1H
BEGIN:VTIMEZONE
TZID:Australia/Brisbane
BEGIN:STANDARD
TZOFFSETFROM:+1000
TZOFFSETTO:+1000
TZNAME:AEST
DTSTART:20240101T000000
END:STANDARD
END:VTIMEZONE
BEGIN:VEVENT
DTSTART;TZID=Australia/Brisbane:20251001T180000
DTEND;TZID=Australia/Brisbane:20251001T213000
DTSTAMP:20260424T050810
CREATED:20240314T041712Z
LAST-MODIFIED:20241219T022753Z
UID:10004728-1759341600-1759354200@www.trc.qld.gov.au
SUMMARY:Tableland Social Dancers
DESCRIPTION:Sequence dancing every Wednesday night at Merriland Hall\, Atherton. \nStarting 6.15pm for lessons. 7pm to 9.30pm for dancing. \nJoin the fun. Learn many styles of ballroom sequence dancing. \nCost $5 per person. Everyone is welcome. \nBring your own supper. \nEnquires: Annette 0488 954 202 \nCheck out our Facebook Page for our program for the evening.
URL:https://www.trc.qld.gov.au/event/tableland-social-dancers-3/2025-10-01/
LOCATION:Merrilands Hall\, 10 Louise Street\, Atherton\, Qld\, 4883\, Australia
CATEGORIES:Community Event
ATTACH;FMTTYPE=image/png:https://www.trc.qld.gov.au/wp-content/uploads/Tableland-Social-Dancers.png
ORGANIZER;CN="Tableland Social Dancers":MAILTO:tablelandsocialdancers@gmail.com
GEO:-17.2697265;145.4833664
X-APPLE-STRUCTURED-LOCATION;VALUE=URI;X-ADDRESS=Merrilands Hall 10 Louise Street Atherton Qld 4883 Australia;X-APPLE-RADIUS=500;X-TITLE=10 Louise Street:geo:145.4833664,-17.2697265
END:VEVENT
BEGIN:VEVENT
DTSTART;TZID=Australia/Brisbane:20251004T060000
DTEND;TZID=Australia/Brisbane:20251004T120000
DTSTAMP:20260424T050810
CREATED:20240119T051938Z
LAST-MODIFIED:20240119T051938Z
UID:10004490-1759557600-1759579200@www.trc.qld.gov.au
SUMMARY:Atherton Markets
DESCRIPTION:Location:  \nOur Saviour Luthern Church   \n1 Golflinks Drive\, Atherton  \n  \nInformation:  \nTime: 6am-12pm  \nPreviously held at Platypus Park the Atherton Market is now being held at Our Saviour Church on Golflinks Road the first Saturday of the month. Enjoy fresh local produce\, crafts\, plants\, homemade goodies and more!    \n  \nFor more information contact Market Coordinator – Roger Strickland on 0427 753938 or email roger.strickland@bigpond.com  
URL:https://www.trc.qld.gov.au/event/atherton-markets-2/2025-10-04/
LOCATION:Our Saviour Church\, 1 Golf Links Road\, Atherton\, Qld\, 4883\, Australia
CATEGORIES:Community Event,Markets
ORGANIZER;CN="Roger Strickland":MAILTO:roger.strickland@bigpond.com
GEO:-17.2617702;145.4755038
X-APPLE-STRUCTURED-LOCATION;VALUE=URI;X-ADDRESS=Our Saviour Church 1 Golf Links Road Atherton Qld 4883 Australia;X-APPLE-RADIUS=500;X-TITLE=1 Golf Links Road:geo:145.4755038,-17.2617702
END:VEVENT
BEGIN:VEVENT
DTSTART;TZID=Australia/Brisbane:20251004T070000
DTEND;TZID=Australia/Brisbane:20251004T080000
DTSTAMP:20260424T050810
CREATED:20231206T043708Z
LAST-MODIFIED:20231206T043917Z
UID:10004282-1759561200-1759564800@www.trc.qld.gov.au
SUMMARY:Atherton Parkrun
DESCRIPTION:A free\, fun and friendly weekly 5k community event. Walk\, jog\, run\, volunteer or spectate. \nHeld every Saturday between 7 -8am on the rail trail\, starting and finishing at the corner of  Weaver Street and Atherton-Herberton Road (opposite Platypus Park). \nThe course is two laps\, one longer loop (3.3kms) and a shorter loop (1.7kms).  Participants proceed to the bollard in Priors Creek park (1st turnaround)\, back to the start (2nd turnaround)\, to the marked bollard near IGA (3rd turnaround) and back to the start to finish.
URL:https://www.trc.qld.gov.au/event/atherton-parkrun/2025-10-04/
LOCATION:Atherton Tablelands Rail Trail- opposite Platypus Park\, cnr Weaver Street & Atherton-herberton Road\, Atherton\, Qld\, 4883\, Australia
CATEGORIES:Community Event
ATTACH;FMTTYPE=image/jpeg:https://www.trc.qld.gov.au/wp-content/uploads/Parkrun.jpg
ORGANIZER;CN="Atherton Parkrun":MAILTO:athertonhelpers@parkrun.com
GEO:-25.274398;133.775136
X-APPLE-STRUCTURED-LOCATION;VALUE=URI;X-ADDRESS=Atherton Tablelands Rail Trail- opposite Platypus Park cnr Weaver Street & Atherton-herberton Road Atherton Qld 4883 Australia;X-APPLE-RADIUS=500;X-TITLE=cnr Weaver Street & Atherton-herberton Road:geo:133.775136,-25.274398
END:VEVENT
BEGIN:VEVENT
DTSTART;TZID=Australia/Brisbane:20251008T180000
DTEND;TZID=Australia/Brisbane:20251008T213000
DTSTAMP:20260424T050810
CREATED:20240314T041712Z
LAST-MODIFIED:20241219T022753Z
UID:10004729-1759946400-1759959000@www.trc.qld.gov.au
SUMMARY:Tableland Social Dancers
DESCRIPTION:Sequence dancing every Wednesday night at Merriland Hall\, Atherton. \nStarting 6.15pm for lessons. 7pm to 9.30pm for dancing. \nJoin the fun. Learn many styles of ballroom sequence dancing. \nCost $5 per person. Everyone is welcome. \nBring your own supper. \nEnquires: Annette 0488 954 202 \nCheck out our Facebook Page for our program for the evening.
URL:https://www.trc.qld.gov.au/event/tableland-social-dancers-3/2025-10-08/
LOCATION:Merrilands Hall\, 10 Louise Street\, Atherton\, Qld\, 4883\, Australia
CATEGORIES:Community Event
ATTACH;FMTTYPE=image/png:https://www.trc.qld.gov.au/wp-content/uploads/Tableland-Social-Dancers.png
ORGANIZER;CN="Tableland Social Dancers":MAILTO:tablelandsocialdancers@gmail.com
GEO:-17.2697265;145.4833664
X-APPLE-STRUCTURED-LOCATION;VALUE=URI;X-ADDRESS=Merrilands Hall 10 Louise Street Atherton Qld 4883 Australia;X-APPLE-RADIUS=500;X-TITLE=10 Louise Street:geo:145.4833664,-17.2697265
END:VEVENT
BEGIN:VEVENT
DTSTART;TZID=Australia/Brisbane:20251011T070000
DTEND;TZID=Australia/Brisbane:20251011T080000
DTSTAMP:20260424T050810
CREATED:20231206T043708Z
LAST-MODIFIED:20231206T043917Z
UID:10004283-1760166000-1760169600@www.trc.qld.gov.au
SUMMARY:Atherton Parkrun
DESCRIPTION:A free\, fun and friendly weekly 5k community event. Walk\, jog\, run\, volunteer or spectate. \nHeld every Saturday between 7 -8am on the rail trail\, starting and finishing at the corner of  Weaver Street and Atherton-Herberton Road (opposite Platypus Park). \nThe course is two laps\, one longer loop (3.3kms) and a shorter loop (1.7kms).  Participants proceed to the bollard in Priors Creek park (1st turnaround)\, back to the start (2nd turnaround)\, to the marked bollard near IGA (3rd turnaround) and back to the start to finish.
URL:https://www.trc.qld.gov.au/event/atherton-parkrun/2025-10-11/
LOCATION:Atherton Tablelands Rail Trail- opposite Platypus Park\, cnr Weaver Street & Atherton-herberton Road\, Atherton\, Qld\, 4883\, Australia
CATEGORIES:Community Event
ATTACH;FMTTYPE=image/jpeg:https://www.trc.qld.gov.au/wp-content/uploads/Parkrun.jpg
ORGANIZER;CN="Atherton Parkrun":MAILTO:athertonhelpers@parkrun.com
GEO:-25.274398;133.775136
X-APPLE-STRUCTURED-LOCATION;VALUE=URI;X-ADDRESS=Atherton Tablelands Rail Trail- opposite Platypus Park cnr Weaver Street & Atherton-herberton Road Atherton Qld 4883 Australia;X-APPLE-RADIUS=500;X-TITLE=cnr Weaver Street & Atherton-herberton Road:geo:133.775136,-25.274398
END:VEVENT
BEGIN:VEVENT
DTSTART;TZID=Australia/Brisbane:20251015T180000
DTEND;TZID=Australia/Brisbane:20251015T213000
DTSTAMP:20260424T050810
CREATED:20240314T041712Z
LAST-MODIFIED:20241219T022753Z
UID:10004730-1760551200-1760563800@www.trc.qld.gov.au
SUMMARY:Tableland Social Dancers
DESCRIPTION:Sequence dancing every Wednesday night at Merriland Hall\, Atherton. \nStarting 6.15pm for lessons. 7pm to 9.30pm for dancing. \nJoin the fun. Learn many styles of ballroom sequence dancing. \nCost $5 per person. Everyone is welcome. \nBring your own supper. \nEnquires: Annette 0488 954 202 \nCheck out our Facebook Page for our program for the evening.
URL:https://www.trc.qld.gov.au/event/tableland-social-dancers-3/2025-10-15/
LOCATION:Merrilands Hall\, 10 Louise Street\, Atherton\, Qld\, 4883\, Australia
CATEGORIES:Community Event
ATTACH;FMTTYPE=image/png:https://www.trc.qld.gov.au/wp-content/uploads/Tableland-Social-Dancers.png
ORGANIZER;CN="Tableland Social Dancers":MAILTO:tablelandsocialdancers@gmail.com
GEO:-17.2697265;145.4833664
X-APPLE-STRUCTURED-LOCATION;VALUE=URI;X-ADDRESS=Merrilands Hall 10 Louise Street Atherton Qld 4883 Australia;X-APPLE-RADIUS=500;X-TITLE=10 Louise Street:geo:145.4833664,-17.2697265
END:VEVENT
BEGIN:VEVENT
DTSTART;TZID=Australia/Brisbane:20251018T070000
DTEND;TZID=Australia/Brisbane:20251018T080000
DTSTAMP:20260424T050810
CREATED:20231206T043708Z
LAST-MODIFIED:20231206T043917Z
UID:10004284-1760770800-1760774400@www.trc.qld.gov.au
SUMMARY:Atherton Parkrun
DESCRIPTION:A free\, fun and friendly weekly 5k community event. Walk\, jog\, run\, volunteer or spectate. \nHeld every Saturday between 7 -8am on the rail trail\, starting and finishing at the corner of  Weaver Street and Atherton-Herberton Road (opposite Platypus Park). \nThe course is two laps\, one longer loop (3.3kms) and a shorter loop (1.7kms).  Participants proceed to the bollard in Priors Creek park (1st turnaround)\, back to the start (2nd turnaround)\, to the marked bollard near IGA (3rd turnaround) and back to the start to finish.
URL:https://www.trc.qld.gov.au/event/atherton-parkrun/2025-10-18/
LOCATION:Atherton Tablelands Rail Trail- opposite Platypus Park\, cnr Weaver Street & Atherton-herberton Road\, Atherton\, Qld\, 4883\, Australia
CATEGORIES:Community Event
ATTACH;FMTTYPE=image/jpeg:https://www.trc.qld.gov.au/wp-content/uploads/Parkrun.jpg
ORGANIZER;CN="Atherton Parkrun":MAILTO:athertonhelpers@parkrun.com
GEO:-25.274398;133.775136
X-APPLE-STRUCTURED-LOCATION;VALUE=URI;X-ADDRESS=Atherton Tablelands Rail Trail- opposite Platypus Park cnr Weaver Street & Atherton-herberton Road Atherton Qld 4883 Australia;X-APPLE-RADIUS=500;X-TITLE=cnr Weaver Street & Atherton-herberton Road:geo:133.775136,-25.274398
END:VEVENT
BEGIN:VEVENT
DTSTART;TZID=Australia/Brisbane:20251022T180000
DTEND;TZID=Australia/Brisbane:20251022T213000
DTSTAMP:20260424T050810
CREATED:20240314T041712Z
LAST-MODIFIED:20241219T022753Z
UID:10004731-1761156000-1761168600@www.trc.qld.gov.au
SUMMARY:Tableland Social Dancers
DESCRIPTION:Sequence dancing every Wednesday night at Merriland Hall\, Atherton. \nStarting 6.15pm for lessons. 7pm to 9.30pm for dancing. \nJoin the fun. Learn many styles of ballroom sequence dancing. \nCost $5 per person. Everyone is welcome. \nBring your own supper. \nEnquires: Annette 0488 954 202 \nCheck out our Facebook Page for our program for the evening.
URL:https://www.trc.qld.gov.au/event/tableland-social-dancers-3/2025-10-22/
LOCATION:Merrilands Hall\, 10 Louise Street\, Atherton\, Qld\, 4883\, Australia
CATEGORIES:Community Event
ATTACH;FMTTYPE=image/png:https://www.trc.qld.gov.au/wp-content/uploads/Tableland-Social-Dancers.png
ORGANIZER;CN="Tableland Social Dancers":MAILTO:tablelandsocialdancers@gmail.com
GEO:-17.2697265;145.4833664
X-APPLE-STRUCTURED-LOCATION;VALUE=URI;X-ADDRESS=Merrilands Hall 10 Louise Street Atherton Qld 4883 Australia;X-APPLE-RADIUS=500;X-TITLE=10 Louise Street:geo:145.4833664,-17.2697265
END:VEVENT
BEGIN:VEVENT
DTSTART;TZID=Australia/Brisbane:20251025T070000
DTEND;TZID=Australia/Brisbane:20251025T080000
DTSTAMP:20260424T050810
CREATED:20231206T043708Z
LAST-MODIFIED:20231206T043917Z
UID:10004285-1761375600-1761379200@www.trc.qld.gov.au
SUMMARY:Atherton Parkrun
DESCRIPTION:A free\, fun and friendly weekly 5k community event. Walk\, jog\, run\, volunteer or spectate. \nHeld every Saturday between 7 -8am on the rail trail\, starting and finishing at the corner of  Weaver Street and Atherton-Herberton Road (opposite Platypus Park). \nThe course is two laps\, one longer loop (3.3kms) and a shorter loop (1.7kms).  Participants proceed to the bollard in Priors Creek park (1st turnaround)\, back to the start (2nd turnaround)\, to the marked bollard near IGA (3rd turnaround) and back to the start to finish.
URL:https://www.trc.qld.gov.au/event/atherton-parkrun/2025-10-25/
LOCATION:Atherton Tablelands Rail Trail- opposite Platypus Park\, cnr Weaver Street & Atherton-herberton Road\, Atherton\, Qld\, 4883\, Australia
CATEGORIES:Community Event
ATTACH;FMTTYPE=image/jpeg:https://www.trc.qld.gov.au/wp-content/uploads/Parkrun.jpg
ORGANIZER;CN="Atherton Parkrun":MAILTO:athertonhelpers@parkrun.com
GEO:-25.274398;133.775136
X-APPLE-STRUCTURED-LOCATION;VALUE=URI;X-ADDRESS=Atherton Tablelands Rail Trail- opposite Platypus Park cnr Weaver Street & Atherton-herberton Road Atherton Qld 4883 Australia;X-APPLE-RADIUS=500;X-TITLE=cnr Weaver Street & Atherton-herberton Road:geo:133.775136,-25.274398
END:VEVENT
BEGIN:VEVENT
DTSTART;TZID=Australia/Brisbane:20251025T083000
DTEND;TZID=Australia/Brisbane:20251026T170000
DTSTAMP:20260424T050810
CREATED:20251015T025039Z
LAST-MODIFIED:20251015T025039Z
UID:10005541-1761381000-1761498000@www.trc.qld.gov.au
SUMMARY:Atherton Clay Target Club Annual Trap Carnival
DESCRIPTION:The Atherton Clay Target Club’s annual trap competition welcomes competitors from across Queensland and interstate. \nFour events take place across two days\, with the $2500 Handicap\, sponsored by Alan and Jackie Poggioli\, as the premier event. \nHigh Guns to be presented on Sunday afternoon at the completion of the competition.
URL:https://www.trc.qld.gov.au/event/atherton-clay-target-club-annual-trap-carnival/
LOCATION:Atherton Clay Target Club\, 153 Rifle Range Road\, Atherton\, Queensland\, 4883\, Australia
CATEGORIES:Community Event
ATTACH;FMTTYPE=image/jpeg:https://www.trc.qld.gov.au/wp-content/uploads/Clint-and-Degan-Wilkinson.jpeg
ORGANIZER;CN="Atherton Clay Target Club":MAILTO:admin@athertonclaytargetclub.com
GEO:-17.2720708;145.4640393
X-APPLE-STRUCTURED-LOCATION;VALUE=URI;X-ADDRESS=Atherton Clay Target Club 153 Rifle Range Road Atherton Queensland 4883 Australia;X-APPLE-RADIUS=500;X-TITLE=153 Rifle Range Road:geo:145.4640393,-17.2720708
END:VEVENT
BEGIN:VEVENT
DTSTART;TZID=Australia/Brisbane:20251028T090000
DTEND;TZID=Australia/Brisbane:20251028T163000
DTSTAMP:20260424T050810
CREATED:20251015T015823Z
LAST-MODIFIED:20251015T015823Z
UID:10005566-1761642000-1761669000@www.trc.qld.gov.au
SUMMARY:Atherton Community Assistance Day
DESCRIPTION:This free event is open to everyone in the community. \nNo need to book – just come along! Bring your questions\, your bills and any paperwork you’d like help with.
URL:https://www.trc.qld.gov.au/event/atherton-community-assistance-day/
LOCATION:Atherton Coordination Centre\, 15 Vernon Street\, Atherton
CATEGORIES:Community Event
ATTACH;FMTTYPE=image/png:https://www.trc.qld.gov.au/wp-content/uploads/Atherton-LinkedIn-and-Facebook-Post.png
ORGANIZER;CN="Energy and Water Ombudsman Queensland":MAILTO:info@ewoq.com.au
GEO:-17.2676622;145.4761633
X-APPLE-STRUCTURED-LOCATION;VALUE=URI;X-ADDRESS=Atherton Coordination Centre 15 Vernon Street Atherton;X-APPLE-RADIUS=500;X-TITLE=15 Vernon Street:geo:145.4761633,-17.2676622
END:VEVENT
BEGIN:VEVENT
DTSTART;TZID=Australia/Brisbane:20251029T180000
DTEND;TZID=Australia/Brisbane:20251029T213000
DTSTAMP:20260424T050810
CREATED:20240314T041712Z
LAST-MODIFIED:20241219T022753Z
UID:10004732-1761760800-1761773400@www.trc.qld.gov.au
SUMMARY:Tableland Social Dancers
DESCRIPTION:Sequence dancing every Wednesday night at Merriland Hall\, Atherton. \nStarting 6.15pm for lessons. 7pm to 9.30pm for dancing. \nJoin the fun. Learn many styles of ballroom sequence dancing. \nCost $5 per person. Everyone is welcome. \nBring your own supper. \nEnquires: Annette 0488 954 202 \nCheck out our Facebook Page for our program for the evening.
URL:https://www.trc.qld.gov.au/event/tableland-social-dancers-3/2025-10-29/
LOCATION:Merrilands Hall\, 10 Louise Street\, Atherton\, Qld\, 4883\, Australia
CATEGORIES:Community Event
ATTACH;FMTTYPE=image/png:https://www.trc.qld.gov.au/wp-content/uploads/Tableland-Social-Dancers.png
ORGANIZER;CN="Tableland Social Dancers":MAILTO:tablelandsocialdancers@gmail.com
GEO:-17.2697265;145.4833664
X-APPLE-STRUCTURED-LOCATION;VALUE=URI;X-ADDRESS=Merrilands Hall 10 Louise Street Atherton Qld 4883 Australia;X-APPLE-RADIUS=500;X-TITLE=10 Louise Street:geo:145.4833664,-17.2697265
END:VEVENT
END:VCALENDAR