BEGIN:VCALENDAR
VERSION:2.0
PRODID:-//TRC - Tablelands Regional Council - ECPv6.15.20//NONSGML v1.0//EN
CALSCALE:GREGORIAN
METHOD:PUBLISH
X-ORIGINAL-URL:https://www.trc.qld.gov.au
X-WR-CALDESC:Events for TRC - Tablelands Regional Council
REFRESH-INTERVAL;VALUE=DURATION:PT1H
X-Robots-Tag:noindex
X-PUBLISHED-TTL:PT1H
BEGIN:VTIMEZONE
TZID:Australia/Brisbane
BEGIN:STANDARD
TZOFFSETFROM:+1000
TZOFFSETTO:+1000
TZNAME:AEST
DTSTART:20240101T000000
END:STANDARD
END:VTIMEZONE
BEGIN:VEVENT
DTSTART;TZID=Australia/Brisbane:20250903T180000
DTEND;TZID=Australia/Brisbane:20250903T213000
DTSTAMP:20260424T062635
CREATED:20240314T041712Z
LAST-MODIFIED:20241219T022753Z
UID:10004724-1756922400-1756935000@www.trc.qld.gov.au
SUMMARY:Tableland Social Dancers
DESCRIPTION:Sequence dancing every Wednesday night at Merriland Hall\, Atherton. \nStarting 6.15pm for lessons. 7pm to 9.30pm for dancing. \nJoin the fun. Learn many styles of ballroom sequence dancing. \nCost $5 per person. Everyone is welcome. \nBring your own supper. \nEnquires: Annette 0488 954 202 \nCheck out our Facebook Page for our program for the evening.
URL:https://www.trc.qld.gov.au/event/tableland-social-dancers-3/2025-09-03/
LOCATION:Merrilands Hall\, 10 Louise Street\, Atherton\, Qld\, 4883\, Australia
CATEGORIES:Community Event
ATTACH;FMTTYPE=image/png:https://www.trc.qld.gov.au/wp-content/uploads/Tableland-Social-Dancers.png
ORGANIZER;CN="Tableland Social Dancers":MAILTO:tablelandsocialdancers@gmail.com
GEO:-17.2697265;145.4833664
X-APPLE-STRUCTURED-LOCATION;VALUE=URI;X-ADDRESS=Merrilands Hall 10 Louise Street Atherton Qld 4883 Australia;X-APPLE-RADIUS=500;X-TITLE=10 Louise Street:geo:145.4833664,-17.2697265
END:VEVENT
BEGIN:VEVENT
DTSTART;TZID=Australia/Brisbane:20250906T060000
DTEND;TZID=Australia/Brisbane:20250906T120000
DTSTAMP:20260424T062635
CREATED:20240119T051938Z
LAST-MODIFIED:20240119T051938Z
UID:10004489-1757138400-1757160000@www.trc.qld.gov.au
SUMMARY:Atherton Markets
DESCRIPTION:Location:  \nOur Saviour Luthern Church   \n1 Golflinks Drive\, Atherton  \n  \nInformation:  \nTime: 6am-12pm  \nPreviously held at Platypus Park the Atherton Market is now being held at Our Saviour Church on Golflinks Road the first Saturday of the month. Enjoy fresh local produce\, crafts\, plants\, homemade goodies and more!    \n  \nFor more information contact Market Coordinator – Roger Strickland on 0427 753938 or email roger.strickland@bigpond.com  
URL:https://www.trc.qld.gov.au/event/atherton-markets-2/2025-09-06/
LOCATION:Our Saviour Church\, 1 Golf Links Road\, Atherton\, Qld\, 4883\, Australia
CATEGORIES:Community Event,Markets
ORGANIZER;CN="Roger Strickland":MAILTO:roger.strickland@bigpond.com
GEO:-17.2617702;145.4755038
X-APPLE-STRUCTURED-LOCATION;VALUE=URI;X-ADDRESS=Our Saviour Church 1 Golf Links Road Atherton Qld 4883 Australia;X-APPLE-RADIUS=500;X-TITLE=1 Golf Links Road:geo:145.4755038,-17.2617702
END:VEVENT
BEGIN:VEVENT
DTSTART;TZID=Australia/Brisbane:20250906T070000
DTEND;TZID=Australia/Brisbane:20250906T080000
DTSTAMP:20260424T062635
CREATED:20231206T043708Z
LAST-MODIFIED:20231206T043917Z
UID:10004278-1757142000-1757145600@www.trc.qld.gov.au
SUMMARY:Atherton Parkrun
DESCRIPTION:A free\, fun and friendly weekly 5k community event. Walk\, jog\, run\, volunteer or spectate. \nHeld every Saturday between 7 -8am on the rail trail\, starting and finishing at the corner of  Weaver Street and Atherton-Herberton Road (opposite Platypus Park). \nThe course is two laps\, one longer loop (3.3kms) and a shorter loop (1.7kms).  Participants proceed to the bollard in Priors Creek park (1st turnaround)\, back to the start (2nd turnaround)\, to the marked bollard near IGA (3rd turnaround) and back to the start to finish.
URL:https://www.trc.qld.gov.au/event/atherton-parkrun/2025-09-06/
LOCATION:Atherton Tablelands Rail Trail- opposite Platypus Park\, cnr Weaver Street & Atherton-herberton Road\, Atherton\, Qld\, 4883\, Australia
CATEGORIES:Community Event
ATTACH;FMTTYPE=image/jpeg:https://www.trc.qld.gov.au/wp-content/uploads/Parkrun.jpg
ORGANIZER;CN="Atherton Parkrun":MAILTO:athertonhelpers@parkrun.com
GEO:-25.274398;133.775136
X-APPLE-STRUCTURED-LOCATION;VALUE=URI;X-ADDRESS=Atherton Tablelands Rail Trail- opposite Platypus Park cnr Weaver Street & Atherton-herberton Road Atherton Qld 4883 Australia;X-APPLE-RADIUS=500;X-TITLE=cnr Weaver Street & Atherton-herberton Road:geo:133.775136,-25.274398
END:VEVENT
BEGIN:VEVENT
DTSTART;TZID=Australia/Brisbane:20250910T180000
DTEND;TZID=Australia/Brisbane:20250910T213000
DTSTAMP:20260424T062635
CREATED:20240314T041712Z
LAST-MODIFIED:20241219T022753Z
UID:10004725-1757527200-1757539800@www.trc.qld.gov.au
SUMMARY:Tableland Social Dancers
DESCRIPTION:Sequence dancing every Wednesday night at Merriland Hall\, Atherton. \nStarting 6.15pm for lessons. 7pm to 9.30pm for dancing. \nJoin the fun. Learn many styles of ballroom sequence dancing. \nCost $5 per person. Everyone is welcome. \nBring your own supper. \nEnquires: Annette 0488 954 202 \nCheck out our Facebook Page for our program for the evening.
URL:https://www.trc.qld.gov.au/event/tableland-social-dancers-3/2025-09-10/
LOCATION:Merrilands Hall\, 10 Louise Street\, Atherton\, Qld\, 4883\, Australia
CATEGORIES:Community Event
ATTACH;FMTTYPE=image/png:https://www.trc.qld.gov.au/wp-content/uploads/Tableland-Social-Dancers.png
ORGANIZER;CN="Tableland Social Dancers":MAILTO:tablelandsocialdancers@gmail.com
GEO:-17.2697265;145.4833664
X-APPLE-STRUCTURED-LOCATION;VALUE=URI;X-ADDRESS=Merrilands Hall 10 Louise Street Atherton Qld 4883 Australia;X-APPLE-RADIUS=500;X-TITLE=10 Louise Street:geo:145.4833664,-17.2697265
END:VEVENT
BEGIN:VEVENT
DTSTART;TZID=Australia/Brisbane:20250913T070000
DTEND;TZID=Australia/Brisbane:20250913T080000
DTSTAMP:20260424T062635
CREATED:20231206T043708Z
LAST-MODIFIED:20231206T043917Z
UID:10004279-1757746800-1757750400@www.trc.qld.gov.au
SUMMARY:Atherton Parkrun
DESCRIPTION:A free\, fun and friendly weekly 5k community event. Walk\, jog\, run\, volunteer or spectate. \nHeld every Saturday between 7 -8am on the rail trail\, starting and finishing at the corner of  Weaver Street and Atherton-Herberton Road (opposite Platypus Park). \nThe course is two laps\, one longer loop (3.3kms) and a shorter loop (1.7kms).  Participants proceed to the bollard in Priors Creek park (1st turnaround)\, back to the start (2nd turnaround)\, to the marked bollard near IGA (3rd turnaround) and back to the start to finish.
URL:https://www.trc.qld.gov.au/event/atherton-parkrun/2025-09-13/
LOCATION:Atherton Tablelands Rail Trail- opposite Platypus Park\, cnr Weaver Street & Atherton-herberton Road\, Atherton\, Qld\, 4883\, Australia
CATEGORIES:Community Event
ATTACH;FMTTYPE=image/jpeg:https://www.trc.qld.gov.au/wp-content/uploads/Parkrun.jpg
ORGANIZER;CN="Atherton Parkrun":MAILTO:athertonhelpers@parkrun.com
GEO:-25.274398;133.775136
X-APPLE-STRUCTURED-LOCATION;VALUE=URI;X-ADDRESS=Atherton Tablelands Rail Trail- opposite Platypus Park cnr Weaver Street & Atherton-herberton Road Atherton Qld 4883 Australia;X-APPLE-RADIUS=500;X-TITLE=cnr Weaver Street & Atherton-herberton Road:geo:133.775136,-25.274398
END:VEVENT
BEGIN:VEVENT
DTSTART;TZID=Australia/Brisbane:20250917T180000
DTEND;TZID=Australia/Brisbane:20250917T213000
DTSTAMP:20260424T062635
CREATED:20240314T041712Z
LAST-MODIFIED:20241219T022753Z
UID:10004726-1758132000-1758144600@www.trc.qld.gov.au
SUMMARY:Tableland Social Dancers
DESCRIPTION:Sequence dancing every Wednesday night at Merriland Hall\, Atherton. \nStarting 6.15pm for lessons. 7pm to 9.30pm for dancing. \nJoin the fun. Learn many styles of ballroom sequence dancing. \nCost $5 per person. Everyone is welcome. \nBring your own supper. \nEnquires: Annette 0488 954 202 \nCheck out our Facebook Page for our program for the evening.
URL:https://www.trc.qld.gov.au/event/tableland-social-dancers-3/2025-09-17/
LOCATION:Merrilands Hall\, 10 Louise Street\, Atherton\, Qld\, 4883\, Australia
CATEGORIES:Community Event
ATTACH;FMTTYPE=image/png:https://www.trc.qld.gov.au/wp-content/uploads/Tableland-Social-Dancers.png
ORGANIZER;CN="Tableland Social Dancers":MAILTO:tablelandsocialdancers@gmail.com
GEO:-17.2697265;145.4833664
X-APPLE-STRUCTURED-LOCATION;VALUE=URI;X-ADDRESS=Merrilands Hall 10 Louise Street Atherton Qld 4883 Australia;X-APPLE-RADIUS=500;X-TITLE=10 Louise Street:geo:145.4833664,-17.2697265
END:VEVENT
BEGIN:VEVENT
DTSTART;TZID=Australia/Brisbane:20250920T070000
DTEND;TZID=Australia/Brisbane:20250920T080000
DTSTAMP:20260424T062635
CREATED:20231206T043708Z
LAST-MODIFIED:20231206T043917Z
UID:10004280-1758351600-1758355200@www.trc.qld.gov.au
SUMMARY:Atherton Parkrun
DESCRIPTION:A free\, fun and friendly weekly 5k community event. Walk\, jog\, run\, volunteer or spectate. \nHeld every Saturday between 7 -8am on the rail trail\, starting and finishing at the corner of  Weaver Street and Atherton-Herberton Road (opposite Platypus Park). \nThe course is two laps\, one longer loop (3.3kms) and a shorter loop (1.7kms).  Participants proceed to the bollard in Priors Creek park (1st turnaround)\, back to the start (2nd turnaround)\, to the marked bollard near IGA (3rd turnaround) and back to the start to finish.
URL:https://www.trc.qld.gov.au/event/atherton-parkrun/2025-09-20/
LOCATION:Atherton Tablelands Rail Trail- opposite Platypus Park\, cnr Weaver Street & Atherton-herberton Road\, Atherton\, Qld\, 4883\, Australia
CATEGORIES:Community Event
ATTACH;FMTTYPE=image/jpeg:https://www.trc.qld.gov.au/wp-content/uploads/Parkrun.jpg
ORGANIZER;CN="Atherton Parkrun":MAILTO:athertonhelpers@parkrun.com
GEO:-25.274398;133.775136
X-APPLE-STRUCTURED-LOCATION;VALUE=URI;X-ADDRESS=Atherton Tablelands Rail Trail- opposite Platypus Park cnr Weaver Street & Atherton-herberton Road Atherton Qld 4883 Australia;X-APPLE-RADIUS=500;X-TITLE=cnr Weaver Street & Atherton-herberton Road:geo:133.775136,-25.274398
END:VEVENT
BEGIN:VEVENT
DTSTART;TZID=Australia/Brisbane:20250924T180000
DTEND;TZID=Australia/Brisbane:20250924T213000
DTSTAMP:20260424T062635
CREATED:20240314T041712Z
LAST-MODIFIED:20241219T022753Z
UID:10004727-1758736800-1758749400@www.trc.qld.gov.au
SUMMARY:Tableland Social Dancers
DESCRIPTION:Sequence dancing every Wednesday night at Merriland Hall\, Atherton. \nStarting 6.15pm for lessons. 7pm to 9.30pm for dancing. \nJoin the fun. Learn many styles of ballroom sequence dancing. \nCost $5 per person. Everyone is welcome. \nBring your own supper. \nEnquires: Annette 0488 954 202 \nCheck out our Facebook Page for our program for the evening.
URL:https://www.trc.qld.gov.au/event/tableland-social-dancers-3/2025-09-24/
LOCATION:Merrilands Hall\, 10 Louise Street\, Atherton\, Qld\, 4883\, Australia
CATEGORIES:Community Event
ATTACH;FMTTYPE=image/png:https://www.trc.qld.gov.au/wp-content/uploads/Tableland-Social-Dancers.png
ORGANIZER;CN="Tableland Social Dancers":MAILTO:tablelandsocialdancers@gmail.com
GEO:-17.2697265;145.4833664
X-APPLE-STRUCTURED-LOCATION;VALUE=URI;X-ADDRESS=Merrilands Hall 10 Louise Street Atherton Qld 4883 Australia;X-APPLE-RADIUS=500;X-TITLE=10 Louise Street:geo:145.4833664,-17.2697265
END:VEVENT
BEGIN:VEVENT
DTSTART;TZID=Australia/Brisbane:20250927T070000
DTEND;TZID=Australia/Brisbane:20250927T080000
DTSTAMP:20260424T062635
CREATED:20231206T043708Z
LAST-MODIFIED:20231206T043917Z
UID:10004281-1758956400-1758960000@www.trc.qld.gov.au
SUMMARY:Atherton Parkrun
DESCRIPTION:A free\, fun and friendly weekly 5k community event. Walk\, jog\, run\, volunteer or spectate. \nHeld every Saturday between 7 -8am on the rail trail\, starting and finishing at the corner of  Weaver Street and Atherton-Herberton Road (opposite Platypus Park). \nThe course is two laps\, one longer loop (3.3kms) and a shorter loop (1.7kms).  Participants proceed to the bollard in Priors Creek park (1st turnaround)\, back to the start (2nd turnaround)\, to the marked bollard near IGA (3rd turnaround) and back to the start to finish.
URL:https://www.trc.qld.gov.au/event/atherton-parkrun/2025-09-27/
LOCATION:Atherton Tablelands Rail Trail- opposite Platypus Park\, cnr Weaver Street & Atherton-herberton Road\, Atherton\, Qld\, 4883\, Australia
CATEGORIES:Community Event
ATTACH;FMTTYPE=image/jpeg:https://www.trc.qld.gov.au/wp-content/uploads/Parkrun.jpg
ORGANIZER;CN="Atherton Parkrun":MAILTO:athertonhelpers@parkrun.com
GEO:-25.274398;133.775136
X-APPLE-STRUCTURED-LOCATION;VALUE=URI;X-ADDRESS=Atherton Tablelands Rail Trail- opposite Platypus Park cnr Weaver Street & Atherton-herberton Road Atherton Qld 4883 Australia;X-APPLE-RADIUS=500;X-TITLE=cnr Weaver Street & Atherton-herberton Road:geo:133.775136,-25.274398
END:VEVENT
END:VCALENDAR