BEGIN:VCALENDAR
VERSION:2.0
PRODID:-//TRC - Tablelands Regional Council - ECPv6.15.20//NONSGML v1.0//EN
CALSCALE:GREGORIAN
METHOD:PUBLISH
X-ORIGINAL-URL:https://www.trc.qld.gov.au
X-WR-CALDESC:Events for TRC - Tablelands Regional Council
REFRESH-INTERVAL;VALUE=DURATION:PT1H
X-Robots-Tag:noindex
X-PUBLISHED-TTL:PT1H
BEGIN:VTIMEZONE
TZID:Australia/Brisbane
BEGIN:STANDARD
TZOFFSETFROM:+1000
TZOFFSETTO:+1000
TZNAME:AEST
DTSTART:20240101T000000
END:STANDARD
END:VTIMEZONE
BEGIN:VEVENT
DTSTART;TZID=Australia/Brisbane:20250802T060000
DTEND;TZID=Australia/Brisbane:20250802T120000
DTSTAMP:20260424T130642
CREATED:20240119T051938Z
LAST-MODIFIED:20240119T051938Z
UID:10004488-1754114400-1754136000@www.trc.qld.gov.au
SUMMARY:Atherton Markets
DESCRIPTION:Location:  \nOur Saviour Luthern Church   \n1 Golflinks Drive\, Atherton  \n  \nInformation:  \nTime: 6am-12pm  \nPreviously held at Platypus Park the Atherton Market is now being held at Our Saviour Church on Golflinks Road the first Saturday of the month. Enjoy fresh local produce\, crafts\, plants\, homemade goodies and more!    \n  \nFor more information contact Market Coordinator – Roger Strickland on 0427 753938 or email roger.strickland@bigpond.com  
URL:https://www.trc.qld.gov.au/event/atherton-markets-2/2025-08-02/
LOCATION:Our Saviour Church\, 1 Golf Links Road\, Atherton\, Qld\, 4883\, Australia
CATEGORIES:Community Event,Markets
ORGANIZER;CN="Roger Strickland":MAILTO:roger.strickland@bigpond.com
GEO:-17.2617702;145.4755038
X-APPLE-STRUCTURED-LOCATION;VALUE=URI;X-ADDRESS=Our Saviour Church 1 Golf Links Road Atherton Qld 4883 Australia;X-APPLE-RADIUS=500;X-TITLE=1 Golf Links Road:geo:145.4755038,-17.2617702
END:VEVENT
BEGIN:VEVENT
DTSTART;TZID=Australia/Brisbane:20250802T070000
DTEND;TZID=Australia/Brisbane:20250802T080000
DTSTAMP:20260424T130642
CREATED:20231206T043708Z
LAST-MODIFIED:20231206T043917Z
UID:10004273-1754118000-1754121600@www.trc.qld.gov.au
SUMMARY:Atherton Parkrun
DESCRIPTION:A free\, fun and friendly weekly 5k community event. Walk\, jog\, run\, volunteer or spectate. \nHeld every Saturday between 7 -8am on the rail trail\, starting and finishing at the corner of  Weaver Street and Atherton-Herberton Road (opposite Platypus Park). \nThe course is two laps\, one longer loop (3.3kms) and a shorter loop (1.7kms).  Participants proceed to the bollard in Priors Creek park (1st turnaround)\, back to the start (2nd turnaround)\, to the marked bollard near IGA (3rd turnaround) and back to the start to finish.
URL:https://www.trc.qld.gov.au/event/atherton-parkrun/2025-08-02/
LOCATION:Atherton Tablelands Rail Trail- opposite Platypus Park\, cnr Weaver Street & Atherton-herberton Road\, Atherton\, Qld\, 4883\, Australia
CATEGORIES:Community Event
ATTACH;FMTTYPE=image/jpeg:https://www.trc.qld.gov.au/wp-content/uploads/Parkrun.jpg
ORGANIZER;CN="Atherton Parkrun":MAILTO:athertonhelpers@parkrun.com
GEO:-25.274398;133.775136
X-APPLE-STRUCTURED-LOCATION;VALUE=URI;X-ADDRESS=Atherton Tablelands Rail Trail- opposite Platypus Park cnr Weaver Street & Atherton-herberton Road Atherton Qld 4883 Australia;X-APPLE-RADIUS=500;X-TITLE=cnr Weaver Street & Atherton-herberton Road:geo:133.775136,-25.274398
END:VEVENT
BEGIN:VEVENT
DTSTART;TZID=Australia/Brisbane:20250806T180000
DTEND;TZID=Australia/Brisbane:20250806T213000
DTSTAMP:20260424T130642
CREATED:20240314T041712Z
LAST-MODIFIED:20241219T022753Z
UID:10004720-1754503200-1754515800@www.trc.qld.gov.au
SUMMARY:Tableland Social Dancers
DESCRIPTION:Sequence dancing every Wednesday night at Merriland Hall\, Atherton. \nStarting 6.15pm for lessons. 7pm to 9.30pm for dancing. \nJoin the fun. Learn many styles of ballroom sequence dancing. \nCost $5 per person. Everyone is welcome. \nBring your own supper. \nEnquires: Annette 0488 954 202 \nCheck out our Facebook Page for our program for the evening.
URL:https://www.trc.qld.gov.au/event/tableland-social-dancers-3/2025-08-06/
LOCATION:Merrilands Hall\, 10 Louise Street\, Atherton\, Qld\, 4883\, Australia
CATEGORIES:Community Event
ATTACH;FMTTYPE=image/png:https://www.trc.qld.gov.au/wp-content/uploads/Tableland-Social-Dancers.png
ORGANIZER;CN="Tableland Social Dancers":MAILTO:tablelandsocialdancers@gmail.com
GEO:-17.2697265;145.4833664
X-APPLE-STRUCTURED-LOCATION;VALUE=URI;X-ADDRESS=Merrilands Hall 10 Louise Street Atherton Qld 4883 Australia;X-APPLE-RADIUS=500;X-TITLE=10 Louise Street:geo:145.4833664,-17.2697265
END:VEVENT
BEGIN:VEVENT
DTSTART;TZID=Australia/Brisbane:20250809T070000
DTEND;TZID=Australia/Brisbane:20250809T080000
DTSTAMP:20260424T130642
CREATED:20231206T043708Z
LAST-MODIFIED:20231206T043917Z
UID:10004274-1754722800-1754726400@www.trc.qld.gov.au
SUMMARY:Atherton Parkrun
DESCRIPTION:A free\, fun and friendly weekly 5k community event. Walk\, jog\, run\, volunteer or spectate. \nHeld every Saturday between 7 -8am on the rail trail\, starting and finishing at the corner of  Weaver Street and Atherton-Herberton Road (opposite Platypus Park). \nThe course is two laps\, one longer loop (3.3kms) and a shorter loop (1.7kms).  Participants proceed to the bollard in Priors Creek park (1st turnaround)\, back to the start (2nd turnaround)\, to the marked bollard near IGA (3rd turnaround) and back to the start to finish.
URL:https://www.trc.qld.gov.au/event/atherton-parkrun/2025-08-09/
LOCATION:Atherton Tablelands Rail Trail- opposite Platypus Park\, cnr Weaver Street & Atherton-herberton Road\, Atherton\, Qld\, 4883\, Australia
CATEGORIES:Community Event
ATTACH;FMTTYPE=image/jpeg:https://www.trc.qld.gov.au/wp-content/uploads/Parkrun.jpg
ORGANIZER;CN="Atherton Parkrun":MAILTO:athertonhelpers@parkrun.com
GEO:-25.274398;133.775136
X-APPLE-STRUCTURED-LOCATION;VALUE=URI;X-ADDRESS=Atherton Tablelands Rail Trail- opposite Platypus Park cnr Weaver Street & Atherton-herberton Road Atherton Qld 4883 Australia;X-APPLE-RADIUS=500;X-TITLE=cnr Weaver Street & Atherton-herberton Road:geo:133.775136,-25.274398
END:VEVENT
BEGIN:VEVENT
DTSTART;TZID=Australia/Brisbane:20250813T180000
DTEND;TZID=Australia/Brisbane:20250813T213000
DTSTAMP:20260424T130642
CREATED:20240314T041712Z
LAST-MODIFIED:20241219T022753Z
UID:10004721-1755108000-1755120600@www.trc.qld.gov.au
SUMMARY:Tableland Social Dancers
DESCRIPTION:Sequence dancing every Wednesday night at Merriland Hall\, Atherton. \nStarting 6.15pm for lessons. 7pm to 9.30pm for dancing. \nJoin the fun. Learn many styles of ballroom sequence dancing. \nCost $5 per person. Everyone is welcome. \nBring your own supper. \nEnquires: Annette 0488 954 202 \nCheck out our Facebook Page for our program for the evening.
URL:https://www.trc.qld.gov.au/event/tableland-social-dancers-3/2025-08-13/
LOCATION:Merrilands Hall\, 10 Louise Street\, Atherton\, Qld\, 4883\, Australia
CATEGORIES:Community Event
ATTACH;FMTTYPE=image/png:https://www.trc.qld.gov.au/wp-content/uploads/Tableland-Social-Dancers.png
ORGANIZER;CN="Tableland Social Dancers":MAILTO:tablelandsocialdancers@gmail.com
GEO:-17.2697265;145.4833664
X-APPLE-STRUCTURED-LOCATION;VALUE=URI;X-ADDRESS=Merrilands Hall 10 Louise Street Atherton Qld 4883 Australia;X-APPLE-RADIUS=500;X-TITLE=10 Louise Street:geo:145.4833664,-17.2697265
END:VEVENT
BEGIN:VEVENT
DTSTART;TZID=Australia/Brisbane:20250816T070000
DTEND;TZID=Australia/Brisbane:20250816T080000
DTSTAMP:20260424T130643
CREATED:20231206T043708Z
LAST-MODIFIED:20231206T043917Z
UID:10004275-1755327600-1755331200@www.trc.qld.gov.au
SUMMARY:Atherton Parkrun
DESCRIPTION:A free\, fun and friendly weekly 5k community event. Walk\, jog\, run\, volunteer or spectate. \nHeld every Saturday between 7 -8am on the rail trail\, starting and finishing at the corner of  Weaver Street and Atherton-Herberton Road (opposite Platypus Park). \nThe course is two laps\, one longer loop (3.3kms) and a shorter loop (1.7kms).  Participants proceed to the bollard in Priors Creek park (1st turnaround)\, back to the start (2nd turnaround)\, to the marked bollard near IGA (3rd turnaround) and back to the start to finish.
URL:https://www.trc.qld.gov.au/event/atherton-parkrun/2025-08-16/
LOCATION:Atherton Tablelands Rail Trail- opposite Platypus Park\, cnr Weaver Street & Atherton-herberton Road\, Atherton\, Qld\, 4883\, Australia
CATEGORIES:Community Event
ATTACH;FMTTYPE=image/jpeg:https://www.trc.qld.gov.au/wp-content/uploads/Parkrun.jpg
ORGANIZER;CN="Atherton Parkrun":MAILTO:athertonhelpers@parkrun.com
GEO:-25.274398;133.775136
X-APPLE-STRUCTURED-LOCATION;VALUE=URI;X-ADDRESS=Atherton Tablelands Rail Trail- opposite Platypus Park cnr Weaver Street & Atherton-herberton Road Atherton Qld 4883 Australia;X-APPLE-RADIUS=500;X-TITLE=cnr Weaver Street & Atherton-herberton Road:geo:133.775136,-25.274398
END:VEVENT
BEGIN:VEVENT
DTSTART;TZID=Australia/Brisbane:20250816T103000
DTEND;TZID=Australia/Brisbane:20250816T120000
DTSTAMP:20260424T130643
CREATED:20250811T235349Z
LAST-MODIFIED:20250811T235349Z
UID:10005523-1755340200-1755345600@www.trc.qld.gov.au
SUMMARY:Exhibition Opening: Off the Beaten Track
DESCRIPTION:By the Saltwater Creek Fibre Artists – Bonnie Alison\, Marcia Bird\, Rosey Cummings\, Pamela Kusabs\, Tijn Meulendijks\, Toni Rogers\, Sue Ryan\, Jeanette Sproule and Pamela Westera. \nThe theme ‘Off the Beaten Track’ has inspired and encouraged Saltwater Creek Fibre Artists\, an eclectic mix of fibre artists\, basket makers and sculptors from the Tablelands and Cairns. They each break into previously uncharted creative terrain\, with new techniques\, materials and fresh ideas. \nExhibition continues until Saturday 4 October. \nImage: Toni Rogers\, I Must Go Down to the Sea Again (detail)
URL:https://www.trc.qld.gov.au/event/exhibition-opening-off-the-beaten-track/
LOCATION:Tableland Regional Gallery\, 16 Robert Street\, Atherton\, QLD\, 4883\, Australia
CATEGORIES:Community Event
ATTACH;FMTTYPE=image/jpeg:https://www.trc.qld.gov.au/wp-content/uploads/Toni-Rogers_I-must-go-down-to-the-sea-again-1-scaled.jpg
ORGANIZER;CN="Tableland Regional Gallery":MAILTO:annag@trc.qld.gov.au
GEO:-17.2680022;145.4790517
X-APPLE-STRUCTURED-LOCATION;VALUE=URI;X-ADDRESS=Tableland Regional Gallery 16 Robert Street Atherton QLD 4883 Australia;X-APPLE-RADIUS=500;X-TITLE=16 Robert Street:geo:145.4790517,-17.2680022
END:VEVENT
BEGIN:VEVENT
DTSTART;TZID=Australia/Brisbane:20250820T180000
DTEND;TZID=Australia/Brisbane:20250820T213000
DTSTAMP:20260424T130643
CREATED:20240314T041712Z
LAST-MODIFIED:20241219T022753Z
UID:10004722-1755712800-1755725400@www.trc.qld.gov.au
SUMMARY:Tableland Social Dancers
DESCRIPTION:Sequence dancing every Wednesday night at Merriland Hall\, Atherton. \nStarting 6.15pm for lessons. 7pm to 9.30pm for dancing. \nJoin the fun. Learn many styles of ballroom sequence dancing. \nCost $5 per person. Everyone is welcome. \nBring your own supper. \nEnquires: Annette 0488 954 202 \nCheck out our Facebook Page for our program for the evening.
URL:https://www.trc.qld.gov.au/event/tableland-social-dancers-3/2025-08-20/
LOCATION:Merrilands Hall\, 10 Louise Street\, Atherton\, Qld\, 4883\, Australia
CATEGORIES:Community Event
ATTACH;FMTTYPE=image/png:https://www.trc.qld.gov.au/wp-content/uploads/Tableland-Social-Dancers.png
ORGANIZER;CN="Tableland Social Dancers":MAILTO:tablelandsocialdancers@gmail.com
GEO:-17.2697265;145.4833664
X-APPLE-STRUCTURED-LOCATION;VALUE=URI;X-ADDRESS=Merrilands Hall 10 Louise Street Atherton Qld 4883 Australia;X-APPLE-RADIUS=500;X-TITLE=10 Louise Street:geo:145.4833664,-17.2697265
END:VEVENT
BEGIN:VEVENT
DTSTART;TZID=Australia/Brisbane:20250823T070000
DTEND;TZID=Australia/Brisbane:20250823T080000
DTSTAMP:20260424T130643
CREATED:20231206T043708Z
LAST-MODIFIED:20231206T043917Z
UID:10004276-1755932400-1755936000@www.trc.qld.gov.au
SUMMARY:Atherton Parkrun
DESCRIPTION:A free\, fun and friendly weekly 5k community event. Walk\, jog\, run\, volunteer or spectate. \nHeld every Saturday between 7 -8am on the rail trail\, starting and finishing at the corner of  Weaver Street and Atherton-Herberton Road (opposite Platypus Park). \nThe course is two laps\, one longer loop (3.3kms) and a shorter loop (1.7kms).  Participants proceed to the bollard in Priors Creek park (1st turnaround)\, back to the start (2nd turnaround)\, to the marked bollard near IGA (3rd turnaround) and back to the start to finish.
URL:https://www.trc.qld.gov.au/event/atherton-parkrun/2025-08-23/
LOCATION:Atherton Tablelands Rail Trail- opposite Platypus Park\, cnr Weaver Street & Atherton-herberton Road\, Atherton\, Qld\, 4883\, Australia
CATEGORIES:Community Event
ATTACH;FMTTYPE=image/jpeg:https://www.trc.qld.gov.au/wp-content/uploads/Parkrun.jpg
ORGANIZER;CN="Atherton Parkrun":MAILTO:athertonhelpers@parkrun.com
GEO:-25.274398;133.775136
X-APPLE-STRUCTURED-LOCATION;VALUE=URI;X-ADDRESS=Atherton Tablelands Rail Trail- opposite Platypus Park cnr Weaver Street & Atherton-herberton Road Atherton Qld 4883 Australia;X-APPLE-RADIUS=500;X-TITLE=cnr Weaver Street & Atherton-herberton Road:geo:133.775136,-25.274398
END:VEVENT
BEGIN:VEVENT
DTSTART;TZID=Australia/Brisbane:20250827T180000
DTEND;TZID=Australia/Brisbane:20250827T213000
DTSTAMP:20260424T130643
CREATED:20240314T041712Z
LAST-MODIFIED:20241219T022753Z
UID:10004723-1756317600-1756330200@www.trc.qld.gov.au
SUMMARY:Tableland Social Dancers
DESCRIPTION:Sequence dancing every Wednesday night at Merriland Hall\, Atherton. \nStarting 6.15pm for lessons. 7pm to 9.30pm for dancing. \nJoin the fun. Learn many styles of ballroom sequence dancing. \nCost $5 per person. Everyone is welcome. \nBring your own supper. \nEnquires: Annette 0488 954 202 \nCheck out our Facebook Page for our program for the evening.
URL:https://www.trc.qld.gov.au/event/tableland-social-dancers-3/2025-08-27/
LOCATION:Merrilands Hall\, 10 Louise Street\, Atherton\, Qld\, 4883\, Australia
CATEGORIES:Community Event
ATTACH;FMTTYPE=image/png:https://www.trc.qld.gov.au/wp-content/uploads/Tableland-Social-Dancers.png
ORGANIZER;CN="Tableland Social Dancers":MAILTO:tablelandsocialdancers@gmail.com
GEO:-17.2697265;145.4833664
X-APPLE-STRUCTURED-LOCATION;VALUE=URI;X-ADDRESS=Merrilands Hall 10 Louise Street Atherton Qld 4883 Australia;X-APPLE-RADIUS=500;X-TITLE=10 Louise Street:geo:145.4833664,-17.2697265
END:VEVENT
BEGIN:VEVENT
DTSTART;TZID=Australia/Brisbane:20250830T070000
DTEND;TZID=Australia/Brisbane:20250830T080000
DTSTAMP:20260424T130643
CREATED:20231206T043708Z
LAST-MODIFIED:20231206T043917Z
UID:10004277-1756537200-1756540800@www.trc.qld.gov.au
SUMMARY:Atherton Parkrun
DESCRIPTION:A free\, fun and friendly weekly 5k community event. Walk\, jog\, run\, volunteer or spectate. \nHeld every Saturday between 7 -8am on the rail trail\, starting and finishing at the corner of  Weaver Street and Atherton-Herberton Road (opposite Platypus Park). \nThe course is two laps\, one longer loop (3.3kms) and a shorter loop (1.7kms).  Participants proceed to the bollard in Priors Creek park (1st turnaround)\, back to the start (2nd turnaround)\, to the marked bollard near IGA (3rd turnaround) and back to the start to finish.
URL:https://www.trc.qld.gov.au/event/atherton-parkrun/2025-08-30/
LOCATION:Atherton Tablelands Rail Trail- opposite Platypus Park\, cnr Weaver Street & Atherton-herberton Road\, Atherton\, Qld\, 4883\, Australia
CATEGORIES:Community Event
ATTACH;FMTTYPE=image/jpeg:https://www.trc.qld.gov.au/wp-content/uploads/Parkrun.jpg
ORGANIZER;CN="Atherton Parkrun":MAILTO:athertonhelpers@parkrun.com
GEO:-25.274398;133.775136
X-APPLE-STRUCTURED-LOCATION;VALUE=URI;X-ADDRESS=Atherton Tablelands Rail Trail- opposite Platypus Park cnr Weaver Street & Atherton-herberton Road Atherton Qld 4883 Australia;X-APPLE-RADIUS=500;X-TITLE=cnr Weaver Street & Atherton-herberton Road:geo:133.775136,-25.274398
END:VEVENT
BEGIN:VEVENT
DTSTART;TZID=Australia/Brisbane:20250831T080000
DTEND;TZID=Australia/Brisbane:20250831T123000
DTSTAMP:20260424T130643
CREATED:20250113T064423Z
LAST-MODIFIED:20250113T064423Z
UID:10005281-1756627200-1756643400@www.trc.qld.gov.au
SUMMARY:Father's Day - Art & Craft Fair
DESCRIPTION:An opportunity to source the perfect gift or personal treasure from local artisans\, craftsmen and plant enthusiasts. \nThis easily accessible and undercover market has over 25 stalls. Food and drink is available.
URL:https://www.trc.qld.gov.au/event/fathers-day-art-craft-fair/
LOCATION:Merriland Hall\, Atherton Show Grounds\, 10 Louise Street\, Atherton\, QLD\, 4883\, Australia
CATEGORIES:Community Event
ATTACH;FMTTYPE=image/jpeg:https://www.trc.qld.gov.au/wp-content/uploads/artcraftpic-1.jpg
ORGANIZER;CN="Atherton Tableland Agricultural Society Inc":MAILTO:info@athertonshow.com.au
GEO:-17.268407;145.482722
X-APPLE-STRUCTURED-LOCATION;VALUE=URI;X-ADDRESS=Merriland Hall Atherton Show Grounds 10 Louise Street Atherton QLD 4883 Australia;X-APPLE-RADIUS=500;X-TITLE=10 Louise Street:geo:145.482722,-17.268407
END:VEVENT
END:VCALENDAR