BEGIN:VCALENDAR
VERSION:2.0
PRODID:-//TRC - Tablelands Regional Council - ECPv6.15.20//NONSGML v1.0//EN
CALSCALE:GREGORIAN
METHOD:PUBLISH
X-WR-CALNAME:TRC - Tablelands Regional Council
X-ORIGINAL-URL:https://www.trc.qld.gov.au
X-WR-CALDESC:Events for TRC - Tablelands Regional Council
REFRESH-INTERVAL;VALUE=DURATION:PT1H
X-Robots-Tag:noindex
X-PUBLISHED-TTL:PT1H
BEGIN:VTIMEZONE
TZID:Australia/Brisbane
BEGIN:STANDARD
TZOFFSETFROM:+1000
TZOFFSETTO:+1000
TZNAME:AEST
DTSTART:20240101T000000
END:STANDARD
END:VTIMEZONE
BEGIN:VEVENT
DTSTART;TZID=Australia/Brisbane:20250201T060000
DTEND;TZID=Australia/Brisbane:20250201T120000
DTSTAMP:20260425T044739
CREATED:20240119T051938Z
LAST-MODIFIED:20240119T051938Z
UID:10004482-1738389600-1738411200@www.trc.qld.gov.au
SUMMARY:Atherton Markets
DESCRIPTION:Location:  \nOur Saviour Luthern Church   \n1 Golflinks Drive\, Atherton  \n  \nInformation:  \nTime: 6am-12pm  \nPreviously held at Platypus Park the Atherton Market is now being held at Our Saviour Church on Golflinks Road the first Saturday of the month. Enjoy fresh local produce\, crafts\, plants\, homemade goodies and more!    \n  \nFor more information contact Market Coordinator – Roger Strickland on 0427 753938 or email roger.strickland@bigpond.com  
URL:https://www.trc.qld.gov.au/event/atherton-markets-2/2025-02-01/
LOCATION:Our Saviour Church\, 1 Golf Links Road\, Atherton\, Qld\, 4883\, Australia
CATEGORIES:Community Event,Markets
ORGANIZER;CN="Roger Strickland":MAILTO:roger.strickland@bigpond.com
GEO:-17.2617702;145.4755038
X-APPLE-STRUCTURED-LOCATION;VALUE=URI;X-ADDRESS=Our Saviour Church 1 Golf Links Road Atherton Qld 4883 Australia;X-APPLE-RADIUS=500;X-TITLE=1 Golf Links Road:geo:145.4755038,-17.2617702
END:VEVENT
BEGIN:VEVENT
DTSTART;TZID=Australia/Brisbane:20250201T070000
DTEND;TZID=Australia/Brisbane:20250201T080000
DTSTAMP:20260425T044739
CREATED:20231206T043708Z
LAST-MODIFIED:20231206T043917Z
UID:10004247-1738393200-1738396800@www.trc.qld.gov.au
SUMMARY:Atherton Parkrun
DESCRIPTION:A free\, fun and friendly weekly 5k community event. Walk\, jog\, run\, volunteer or spectate. \nHeld every Saturday between 7 -8am on the rail trail\, starting and finishing at the corner of  Weaver Street and Atherton-Herberton Road (opposite Platypus Park). \nThe course is two laps\, one longer loop (3.3kms) and a shorter loop (1.7kms).  Participants proceed to the bollard in Priors Creek park (1st turnaround)\, back to the start (2nd turnaround)\, to the marked bollard near IGA (3rd turnaround) and back to the start to finish.
URL:https://www.trc.qld.gov.au/event/atherton-parkrun/2025-02-01/
LOCATION:Atherton Tablelands Rail Trail- opposite Platypus Park\, cnr Weaver Street & Atherton-herberton Road\, Atherton\, Qld\, 4883\, Australia
CATEGORIES:Community Event
ATTACH;FMTTYPE=image/jpeg:https://www.trc.qld.gov.au/wp-content/uploads/Parkrun.jpg
ORGANIZER;CN="Atherton Parkrun":MAILTO:athertonhelpers@parkrun.com
GEO:-25.274398;133.775136
X-APPLE-STRUCTURED-LOCATION;VALUE=URI;X-ADDRESS=Atherton Tablelands Rail Trail- opposite Platypus Park cnr Weaver Street & Atherton-herberton Road Atherton Qld 4883 Australia;X-APPLE-RADIUS=500;X-TITLE=cnr Weaver Street & Atherton-herberton Road:geo:133.775136,-25.274398
END:VEVENT
BEGIN:VEVENT
DTSTART;TZID=Australia/Brisbane:20250204T090000
DTEND;TZID=Australia/Brisbane:20250204T120000
DTSTAMP:20260425T044739
CREATED:20250204T043936Z
LAST-MODIFIED:20250204T043936Z
UID:10005368-1738659600-1738670400@www.trc.qld.gov.au
SUMMARY:Women's Welcome & Wellbeing - Cooking & Conversation
DESCRIPTION:Women of all ages welcome for a morning of socialising and fun activities. Every Tuesday this month in February.
URL:https://www.trc.qld.gov.au/event/womens-welcome-wellbeing-cooking-conversation-2/
LOCATION:Atherton Girl Guides Hall\, 12 Robert Street\, Atheton\, Qld\, 4883\, Australia
CATEGORIES:Community Event
ATTACH;FMTTYPE=image/jpeg:https://www.trc.qld.gov.au/wp-content/uploads/WWW-Feb.jpg
ORGANIZER;CN="Tablelands Women's Centre":MAILTO:twc.wellbeing@gmail.com
GEO:-17.2687577;145.4775405
X-APPLE-STRUCTURED-LOCATION;VALUE=URI;X-ADDRESS=Atherton Girl Guides Hall 12 Robert Street Atheton Qld 4883 Australia;X-APPLE-RADIUS=500;X-TITLE=12 Robert Street:geo:145.4775405,-17.2687577
END:VEVENT
BEGIN:VEVENT
DTSTART;TZID=Australia/Brisbane:20250205T180000
DTEND;TZID=Australia/Brisbane:20250205T213000
DTSTAMP:20260425T044739
CREATED:20240314T041712Z
LAST-MODIFIED:20241219T022753Z
UID:10004694-1738778400-1738791000@www.trc.qld.gov.au
SUMMARY:Tableland Social Dancers
DESCRIPTION:Sequence dancing every Wednesday night at Merriland Hall\, Atherton. \nStarting 6.15pm for lessons. 7pm to 9.30pm for dancing. \nJoin the fun. Learn many styles of ballroom sequence dancing. \nCost $5 per person. Everyone is welcome. \nBring your own supper. \nEnquires: Annette 0488 954 202 \nCheck out our Facebook Page for our program for the evening.
URL:https://www.trc.qld.gov.au/event/tableland-social-dancers-3/2025-02-05/
LOCATION:Merrilands Hall\, 10 Louise Street\, Atherton\, Qld\, 4883\, Australia
CATEGORIES:Community Event
ATTACH;FMTTYPE=image/png:https://www.trc.qld.gov.au/wp-content/uploads/Tableland-Social-Dancers.png
ORGANIZER;CN="Tableland Social Dancers":MAILTO:tablelandsocialdancers@gmail.com
GEO:-17.2697265;145.4833664
X-APPLE-STRUCTURED-LOCATION;VALUE=URI;X-ADDRESS=Merrilands Hall 10 Louise Street Atherton Qld 4883 Australia;X-APPLE-RADIUS=500;X-TITLE=10 Louise Street:geo:145.4833664,-17.2697265
END:VEVENT
BEGIN:VEVENT
DTSTART;TZID=Australia/Brisbane:20250208T070000
DTEND;TZID=Australia/Brisbane:20250208T080000
DTSTAMP:20260425T044739
CREATED:20231206T043708Z
LAST-MODIFIED:20231206T043917Z
UID:10004248-1738998000-1739001600@www.trc.qld.gov.au
SUMMARY:Atherton Parkrun
DESCRIPTION:A free\, fun and friendly weekly 5k community event. Walk\, jog\, run\, volunteer or spectate. \nHeld every Saturday between 7 -8am on the rail trail\, starting and finishing at the corner of  Weaver Street and Atherton-Herberton Road (opposite Platypus Park). \nThe course is two laps\, one longer loop (3.3kms) and a shorter loop (1.7kms).  Participants proceed to the bollard in Priors Creek park (1st turnaround)\, back to the start (2nd turnaround)\, to the marked bollard near IGA (3rd turnaround) and back to the start to finish.
URL:https://www.trc.qld.gov.au/event/atherton-parkrun/2025-02-08/
LOCATION:Atherton Tablelands Rail Trail- opposite Platypus Park\, cnr Weaver Street & Atherton-herberton Road\, Atherton\, Qld\, 4883\, Australia
CATEGORIES:Community Event
ATTACH;FMTTYPE=image/jpeg:https://www.trc.qld.gov.au/wp-content/uploads/Parkrun.jpg
ORGANIZER;CN="Atherton Parkrun":MAILTO:athertonhelpers@parkrun.com
GEO:-25.274398;133.775136
X-APPLE-STRUCTURED-LOCATION;VALUE=URI;X-ADDRESS=Atherton Tablelands Rail Trail- opposite Platypus Park cnr Weaver Street & Atherton-herberton Road Atherton Qld 4883 Australia;X-APPLE-RADIUS=500;X-TITLE=cnr Weaver Street & Atherton-herberton Road:geo:133.775136,-25.274398
END:VEVENT
BEGIN:VEVENT
DTSTART;TZID=Australia/Brisbane:20250208T100000
DTEND;TZID=Australia/Brisbane:20250208T143000
DTSTAMP:20260425T044739
CREATED:20250129T020925Z
LAST-MODIFIED:20250129T020925Z
UID:10005367-1739008800-1739025000@www.trc.qld.gov.au
SUMMARY:Pencil Masterclass
DESCRIPTION:Take your pencil drawing skills to the next level in this pencil master class with John Rainbird.
URL:https://www.trc.qld.gov.au/event/pencil-masterclass/
LOCATION:Old Post Office Gallery\, 86 Herberton Road\, Atherton \, Queensland\, 4883\, Australia
CATEGORIES:Community Event
ATTACH;FMTTYPE=image/jpeg:https://www.trc.qld.gov.au/wp-content/uploads/Pencil-Masterclass.jpg
ORGANIZER;CN="Tableland Regional Gallery":MAILTO:annag@trc.qld.gov.au
GEO:-17.2776238;145.471098
X-APPLE-STRUCTURED-LOCATION;VALUE=URI;X-ADDRESS=Old Post Office Gallery 86 Herberton Road Atherton  Queensland 4883 Australia;X-APPLE-RADIUS=500;X-TITLE=86 Herberton Road:geo:145.471098,-17.2776238
END:VEVENT
BEGIN:VEVENT
DTSTART;TZID=Australia/Brisbane:20250211T090000
DTEND;TZID=Australia/Brisbane:20250211T120000
DTSTAMP:20260425T044739
CREATED:20250204T043851Z
LAST-MODIFIED:20250204T043851Z
UID:10005369-1739264400-1739275200@www.trc.qld.gov.au
SUMMARY:Women's Welcome & Wellbeing - Art & Craft
DESCRIPTION:Women of all ages welcome for a morning of socialising and fun activities. Every Tuesday this month in February.
URL:https://www.trc.qld.gov.au/event/womens-welcome-wellbeing-art-craft-2/
LOCATION:Atherton Girl Guides Hall\, 12 Robert Street\, Atheton\, Qld\, 4883\, Australia
CATEGORIES:Community Event
ATTACH;FMTTYPE=image/jpeg:https://www.trc.qld.gov.au/wp-content/uploads/WWW-Feb-1.jpg
ORGANIZER;CN="Tablelands Women's Centre":MAILTO:twc.wellbeing@gmail.com
GEO:-17.2687577;145.4775405
X-APPLE-STRUCTURED-LOCATION;VALUE=URI;X-ADDRESS=Atherton Girl Guides Hall 12 Robert Street Atheton Qld 4883 Australia;X-APPLE-RADIUS=500;X-TITLE=12 Robert Street:geo:145.4775405,-17.2687577
END:VEVENT
BEGIN:VEVENT
DTSTART;TZID=Australia/Brisbane:20250212T180000
DTEND;TZID=Australia/Brisbane:20250212T213000
DTSTAMP:20260425T044739
CREATED:20240314T041712Z
LAST-MODIFIED:20241219T022753Z
UID:10004695-1739383200-1739395800@www.trc.qld.gov.au
SUMMARY:Tableland Social Dancers
DESCRIPTION:Sequence dancing every Wednesday night at Merriland Hall\, Atherton. \nStarting 6.15pm for lessons. 7pm to 9.30pm for dancing. \nJoin the fun. Learn many styles of ballroom sequence dancing. \nCost $5 per person. Everyone is welcome. \nBring your own supper. \nEnquires: Annette 0488 954 202 \nCheck out our Facebook Page for our program for the evening.
URL:https://www.trc.qld.gov.au/event/tableland-social-dancers-3/2025-02-12/
LOCATION:Merrilands Hall\, 10 Louise Street\, Atherton\, Qld\, 4883\, Australia
CATEGORIES:Community Event
ATTACH;FMTTYPE=image/png:https://www.trc.qld.gov.au/wp-content/uploads/Tableland-Social-Dancers.png
ORGANIZER;CN="Tableland Social Dancers":MAILTO:tablelandsocialdancers@gmail.com
GEO:-17.2697265;145.4833664
X-APPLE-STRUCTURED-LOCATION;VALUE=URI;X-ADDRESS=Merrilands Hall 10 Louise Street Atherton Qld 4883 Australia;X-APPLE-RADIUS=500;X-TITLE=10 Louise Street:geo:145.4833664,-17.2697265
END:VEVENT
BEGIN:VEVENT
DTSTART;TZID=Australia/Brisbane:20250215T070000
DTEND;TZID=Australia/Brisbane:20250215T080000
DTSTAMP:20260425T044739
CREATED:20231206T043708Z
LAST-MODIFIED:20231206T043917Z
UID:10004249-1739602800-1739606400@www.trc.qld.gov.au
SUMMARY:Atherton Parkrun
DESCRIPTION:A free\, fun and friendly weekly 5k community event. Walk\, jog\, run\, volunteer or spectate. \nHeld every Saturday between 7 -8am on the rail trail\, starting and finishing at the corner of  Weaver Street and Atherton-Herberton Road (opposite Platypus Park). \nThe course is two laps\, one longer loop (3.3kms) and a shorter loop (1.7kms).  Participants proceed to the bollard in Priors Creek park (1st turnaround)\, back to the start (2nd turnaround)\, to the marked bollard near IGA (3rd turnaround) and back to the start to finish.
URL:https://www.trc.qld.gov.au/event/atherton-parkrun/2025-02-15/
LOCATION:Atherton Tablelands Rail Trail- opposite Platypus Park\, cnr Weaver Street & Atherton-herberton Road\, Atherton\, Qld\, 4883\, Australia
CATEGORIES:Community Event
ATTACH;FMTTYPE=image/jpeg:https://www.trc.qld.gov.au/wp-content/uploads/Parkrun.jpg
ORGANIZER;CN="Atherton Parkrun":MAILTO:athertonhelpers@parkrun.com
GEO:-25.274398;133.775136
X-APPLE-STRUCTURED-LOCATION;VALUE=URI;X-ADDRESS=Atherton Tablelands Rail Trail- opposite Platypus Park cnr Weaver Street & Atherton-herberton Road Atherton Qld 4883 Australia;X-APPLE-RADIUS=500;X-TITLE=cnr Weaver Street & Atherton-herberton Road:geo:133.775136,-25.274398
END:VEVENT
BEGIN:VEVENT
DTSTART;TZID=Australia/Brisbane:20250215T100000
DTEND;TZID=Australia/Brisbane:20250215T120000
DTSTAMP:20260425T044739
CREATED:20250129T021533Z
LAST-MODIFIED:20250129T021533Z
UID:10005354-1739613600-1739620800@www.trc.qld.gov.au
SUMMARY:Tablelands Galleries Networking Event
DESCRIPTION:Join us for a casual networking event where artists of all kinds can connect\, share ideas\, and get inspired!
URL:https://www.trc.qld.gov.au/event/tablelands-galleries-networking-event/
LOCATION:Tableland Regional Gallery\, 16 Robert Street\, Atherton\, QLD\, 4883\, Australia
CATEGORIES:Community Event,Galleries
ATTACH;FMTTYPE=image/jpeg:https://www.trc.qld.gov.au/wp-content/uploads/Networking-Event.jpg
ORGANIZER;CN="Tableland Regional Gallery":MAILTO:annag@trc.qld.gov.au
GEO:-17.2680022;145.4790517
X-APPLE-STRUCTURED-LOCATION;VALUE=URI;X-ADDRESS=Tableland Regional Gallery 16 Robert Street Atherton QLD 4883 Australia;X-APPLE-RADIUS=500;X-TITLE=16 Robert Street:geo:145.4790517,-17.2680022
END:VEVENT
BEGIN:VEVENT
DTSTART;TZID=Australia/Brisbane:20250218T090000
DTEND;TZID=Australia/Brisbane:20250218T120000
DTSTAMP:20260425T044739
CREATED:20250204T043807Z
LAST-MODIFIED:20250204T043807Z
UID:10005370-1739869200-1739880000@www.trc.qld.gov.au
SUMMARY:Women's Welcome & Wellbeing - Games & Exercise
DESCRIPTION:Women of all ages welcome for a morning of socialising and fun activities. Every Tuesday this month in February.
URL:https://www.trc.qld.gov.au/event/womens-welcome-wellbeing-games-exercise/
LOCATION:Atherton Girl Guides Hall\, 12 Robert Street\, Atheton\, Qld\, 4883\, Australia
CATEGORIES:Community Event
ATTACH;FMTTYPE=image/jpeg:https://www.trc.qld.gov.au/wp-content/uploads/WWW-Feb-2.jpg
ORGANIZER;CN="Tablelands Women's Centre":MAILTO:twc.wellbeing@gmail.com
GEO:-17.2687577;145.4775405
X-APPLE-STRUCTURED-LOCATION;VALUE=URI;X-ADDRESS=Atherton Girl Guides Hall 12 Robert Street Atheton Qld 4883 Australia;X-APPLE-RADIUS=500;X-TITLE=12 Robert Street:geo:145.4775405,-17.2687577
END:VEVENT
BEGIN:VEVENT
DTSTART;TZID=Australia/Brisbane:20250219T180000
DTEND;TZID=Australia/Brisbane:20250219T213000
DTSTAMP:20260425T044739
CREATED:20240314T041712Z
LAST-MODIFIED:20241219T022753Z
UID:10004696-1739988000-1740000600@www.trc.qld.gov.au
SUMMARY:Tableland Social Dancers
DESCRIPTION:Sequence dancing every Wednesday night at Merriland Hall\, Atherton. \nStarting 6.15pm for lessons. 7pm to 9.30pm for dancing. \nJoin the fun. Learn many styles of ballroom sequence dancing. \nCost $5 per person. Everyone is welcome. \nBring your own supper. \nEnquires: Annette 0488 954 202 \nCheck out our Facebook Page for our program for the evening.
URL:https://www.trc.qld.gov.au/event/tableland-social-dancers-3/2025-02-19/
LOCATION:Merrilands Hall\, 10 Louise Street\, Atherton\, Qld\, 4883\, Australia
CATEGORIES:Community Event
ATTACH;FMTTYPE=image/png:https://www.trc.qld.gov.au/wp-content/uploads/Tableland-Social-Dancers.png
ORGANIZER;CN="Tableland Social Dancers":MAILTO:tablelandsocialdancers@gmail.com
GEO:-17.2697265;145.4833664
X-APPLE-STRUCTURED-LOCATION;VALUE=URI;X-ADDRESS=Merrilands Hall 10 Louise Street Atherton Qld 4883 Australia;X-APPLE-RADIUS=500;X-TITLE=10 Louise Street:geo:145.4833664,-17.2697265
END:VEVENT
BEGIN:VEVENT
DTSTART;TZID=Australia/Brisbane:20250222T070000
DTEND;TZID=Australia/Brisbane:20250222T080000
DTSTAMP:20260425T044739
CREATED:20231206T043708Z
LAST-MODIFIED:20231206T043917Z
UID:10004250-1740207600-1740211200@www.trc.qld.gov.au
SUMMARY:Atherton Parkrun
DESCRIPTION:A free\, fun and friendly weekly 5k community event. Walk\, jog\, run\, volunteer or spectate. \nHeld every Saturday between 7 -8am on the rail trail\, starting and finishing at the corner of  Weaver Street and Atherton-Herberton Road (opposite Platypus Park). \nThe course is two laps\, one longer loop (3.3kms) and a shorter loop (1.7kms).  Participants proceed to the bollard in Priors Creek park (1st turnaround)\, back to the start (2nd turnaround)\, to the marked bollard near IGA (3rd turnaround) and back to the start to finish.
URL:https://www.trc.qld.gov.au/event/atherton-parkrun/2025-02-22/
LOCATION:Atherton Tablelands Rail Trail- opposite Platypus Park\, cnr Weaver Street & Atherton-herberton Road\, Atherton\, Qld\, 4883\, Australia
CATEGORIES:Community Event
ATTACH;FMTTYPE=image/jpeg:https://www.trc.qld.gov.au/wp-content/uploads/Parkrun.jpg
ORGANIZER;CN="Atherton Parkrun":MAILTO:athertonhelpers@parkrun.com
GEO:-25.274398;133.775136
X-APPLE-STRUCTURED-LOCATION;VALUE=URI;X-ADDRESS=Atherton Tablelands Rail Trail- opposite Platypus Park cnr Weaver Street & Atherton-herberton Road Atherton Qld 4883 Australia;X-APPLE-RADIUS=500;X-TITLE=cnr Weaver Street & Atherton-herberton Road:geo:133.775136,-25.274398
END:VEVENT
BEGIN:VEVENT
DTSTART;TZID=Australia/Brisbane:20250226T180000
DTEND;TZID=Australia/Brisbane:20250226T213000
DTSTAMP:20260425T044739
CREATED:20240314T041712Z
LAST-MODIFIED:20241219T022753Z
UID:10004697-1740592800-1740605400@www.trc.qld.gov.au
SUMMARY:Tableland Social Dancers
DESCRIPTION:Sequence dancing every Wednesday night at Merriland Hall\, Atherton. \nStarting 6.15pm for lessons. 7pm to 9.30pm for dancing. \nJoin the fun. Learn many styles of ballroom sequence dancing. \nCost $5 per person. Everyone is welcome. \nBring your own supper. \nEnquires: Annette 0488 954 202 \nCheck out our Facebook Page for our program for the evening.
URL:https://www.trc.qld.gov.au/event/tableland-social-dancers-3/2025-02-26/
LOCATION:Merrilands Hall\, 10 Louise Street\, Atherton\, Qld\, 4883\, Australia
CATEGORIES:Community Event
ATTACH;FMTTYPE=image/png:https://www.trc.qld.gov.au/wp-content/uploads/Tableland-Social-Dancers.png
ORGANIZER;CN="Tableland Social Dancers":MAILTO:tablelandsocialdancers@gmail.com
GEO:-17.2697265;145.4833664
X-APPLE-STRUCTURED-LOCATION;VALUE=URI;X-ADDRESS=Merrilands Hall 10 Louise Street Atherton Qld 4883 Australia;X-APPLE-RADIUS=500;X-TITLE=10 Louise Street:geo:145.4833664,-17.2697265
END:VEVENT
END:VCALENDAR