BEGIN:VCALENDAR
VERSION:2.0
PRODID:-//TRC - Tablelands Regional Council - ECPv6.15.20//NONSGML v1.0//EN
CALSCALE:GREGORIAN
METHOD:PUBLISH
X-WR-CALNAME:TRC - Tablelands Regional Council
X-ORIGINAL-URL:https://www.trc.qld.gov.au
X-WR-CALDESC:Events for TRC - Tablelands Regional Council
REFRESH-INTERVAL;VALUE=DURATION:PT1H
X-Robots-Tag:noindex
X-PUBLISHED-TTL:PT1H
BEGIN:VTIMEZONE
TZID:Australia/Brisbane
BEGIN:STANDARD
TZOFFSETFROM:+1000
TZOFFSETTO:+1000
TZNAME:AEST
DTSTART:20250101T000000
END:STANDARD
END:VTIMEZONE
BEGIN:VEVENT
DTSTART;TZID=Australia/Brisbane:20260227T123000
DTEND;TZID=Australia/Brisbane:20260227T130000
DTSTAMP:20260422T215257
CREATED:20260223T224214Z
LAST-MODIFIED:20260223T224214Z
UID:10005616-1772195400-1772197200@www.trc.qld.gov.au
SUMMARY:Meet the Artist - Bruce Kilpatrick
DESCRIPTION:
URL:https://www.trc.qld.gov.au/event/meet-the-artist-bruce-kilpatrick/
LOCATION:The Foyer Gallery\, 45 Mabel Street\, Atherton\, Queensland\, 4883\, Australia
CATEGORIES:Community Event
ATTACH;FMTTYPE=image/jpeg:https://www.trc.qld.gov.au/wp-content/uploads/Yesterday-Today-Tomorrow-flyer.jpg
ORGANIZER;CN="Tablelands Regional Council":MAILTO:info@trc.qld.gov.au
GEO:-17.267158;145.476206
X-APPLE-STRUCTURED-LOCATION;VALUE=URI;X-ADDRESS=The Foyer Gallery 45 Mabel Street Atherton Queensland 4883 Australia;X-APPLE-RADIUS=500;X-TITLE=45 Mabel Street:geo:145.476206,-17.267158
END:VEVENT
END:VCALENDAR