BEGIN:VCALENDAR
VERSION:2.0
PRODID:-//TRC - Tablelands Regional Council - ECPv6.15.20//NONSGML v1.0//EN
CALSCALE:GREGORIAN
METHOD:PUBLISH
X-ORIGINAL-URL:https://www.trc.qld.gov.au
X-WR-CALDESC:Events for TRC - Tablelands Regional Council
REFRESH-INTERVAL;VALUE=DURATION:PT1H
X-Robots-Tag:noindex
X-PUBLISHED-TTL:PT1H
BEGIN:VTIMEZONE
TZID:Australia/Brisbane
BEGIN:STANDARD
TZOFFSETFROM:+1000
TZOFFSETTO:+1000
TZNAME:AEST
DTSTART:20240101T000000
END:STANDARD
END:VTIMEZONE
BEGIN:VEVENT
DTSTART;TZID=Australia/Brisbane:20250913T140000
DTEND;TZID=Australia/Brisbane:20250913T223000
DTSTAMP:20260423T084019
CREATED:20250901T225722Z
LAST-MODIFIED:20250901T225722Z
UID:10005532-1757772000-1757802600@www.trc.qld.gov.au
SUMMARY:St Teresa's 75th Anniversary Celebration
DESCRIPTION:2:00pm Time travel\, treasures and afternoon tea step back in time for an afternoon filled with fun\, laughter and discovery \n\n\n4:30pm Mass \n\n\n6:00pm Pre-dinner drinks \n\n\n7:00pm Dinner (at Ravenshoe Hotel).  This 18+ event offers a relaxed space to reconnect\, reminisce\, and share stories that will preserve the rich history of our school and community for future generations.  Semi Formal Attire. \n\n\nRSVP – Click Here  \n\n\n4095 9050 or str.75years@cns.catholic.edu.au
URL:https://www.trc.qld.gov.au/event/st-teresas-75th-anniversary-celebration/
LOCATION:St Teresa’s Primary School\, 6 Moffatt Street\, Ravenshoe\, Qld\, 4872\, Australia
CATEGORIES:Community Event
ATTACH;FMTTYPE=image/png:https://www.trc.qld.gov.au/wp-content/uploads/75th-Logo.png
ORGANIZER;CN="St Teresa's School":MAILTO:STR.75years@cns.catholic.edu.au
GEO:-27.6249164;152.7622201
X-APPLE-STRUCTURED-LOCATION;VALUE=URI;X-ADDRESS=St Teresa’s Primary School 6 Moffatt Street Ravenshoe Qld 4872 Australia;X-APPLE-RADIUS=500;X-TITLE=6 Moffatt Street:geo:152.7622201,-27.6249164
END:VEVENT
END:VCALENDAR