BEGIN:VCALENDAR
VERSION:2.0
PRODID:-//TRC - Tablelands Regional Council - ECPv6.15.20//NONSGML v1.0//EN
CALSCALE:GREGORIAN
METHOD:PUBLISH
X-ORIGINAL-URL:https://www.trc.qld.gov.au
X-WR-CALDESC:Events for TRC - Tablelands Regional Council
REFRESH-INTERVAL;VALUE=DURATION:PT1H
X-Robots-Tag:noindex
X-PUBLISHED-TTL:PT1H
BEGIN:VTIMEZONE
TZID:Australia/Brisbane
BEGIN:STANDARD
TZOFFSETFROM:+1000
TZOFFSETTO:+1000
TZNAME:AEST
DTSTART:20260101T000000
END:STANDARD
END:VTIMEZONE
BEGIN:VEVENT
DTSTART;TZID=Australia/Brisbane:20271106T090000
DTEND;TZID=Australia/Brisbane:20271106T120000
DTSTAMP:20260422T011728
CREATED:20250204T043003Z
LAST-MODIFIED:20250204T043307Z
UID:10005406-1825491600-1825502400@www.trc.qld.gov.au
SUMMARY:Mend Make Create
DESCRIPTION:Transform old favourite clothes into personalised\, signature fashion pieces.\n\n\n\n\n\n\nUncover the secrets of sewing with expert tips and tricks! Learn how to breathe new life into your old favourites. Your wardrobe deserves a second chance\, and so do you! \nBy Donation. All welcome.
URL:https://www.trc.qld.gov.au/event/mend-make-create/2027-11-06/
LOCATION:Yungaburra QCWA Hall\, Yungburra\, Qld\, 4884\, Australia
CATEGORIES:Community Event
ORGANIZER;CN="Virginia":MAILTO:vberry@westnet.com.au
GEO:-17.271111;145.583056
END:VEVENT
BEGIN:VEVENT
DTSTART;TZID=Australia/Brisbane:20271204T090000
DTEND;TZID=Australia/Brisbane:20271204T120000
DTSTAMP:20260422T011728
CREATED:20250204T043003Z
LAST-MODIFIED:20250204T043307Z
UID:10005407-1827910800-1827921600@www.trc.qld.gov.au
SUMMARY:Mend Make Create
DESCRIPTION:Transform old favourite clothes into personalised\, signature fashion pieces.\n\n\n\n\n\n\nUncover the secrets of sewing with expert tips and tricks! Learn how to breathe new life into your old favourites. Your wardrobe deserves a second chance\, and so do you! \nBy Donation. All welcome.
URL:https://www.trc.qld.gov.au/event/mend-make-create/2027-12-04/
LOCATION:Yungaburra QCWA Hall\, Yungburra\, Qld\, 4884\, Australia
CATEGORIES:Community Event
ORGANIZER;CN="Virginia":MAILTO:vberry@westnet.com.au
GEO:-17.271111;145.583056
END:VEVENT
BEGIN:VEVENT
DTSTART;TZID=Australia/Brisbane:20280101T090000
DTEND;TZID=Australia/Brisbane:20280101T120000
DTSTAMP:20260422T011728
CREATED:20250204T043003Z
LAST-MODIFIED:20250204T043307Z
UID:10005408-1830330000-1830340800@www.trc.qld.gov.au
SUMMARY:Mend Make Create
DESCRIPTION:Transform old favourite clothes into personalised\, signature fashion pieces.\n\n\n\n\n\n\nUncover the secrets of sewing with expert tips and tricks! Learn how to breathe new life into your old favourites. Your wardrobe deserves a second chance\, and so do you! \nBy Donation. All welcome.
URL:https://www.trc.qld.gov.au/event/mend-make-create/2028-01-01/
LOCATION:Yungaburra QCWA Hall\, Yungburra\, Qld\, 4884\, Australia
CATEGORIES:Community Event
ORGANIZER;CN="Virginia":MAILTO:vberry@westnet.com.au
GEO:-17.271111;145.583056
END:VEVENT
BEGIN:VEVENT
DTSTART;TZID=Australia/Brisbane:20280205T090000
DTEND;TZID=Australia/Brisbane:20280205T120000
DTSTAMP:20260422T011728
CREATED:20250204T043003Z
LAST-MODIFIED:20250204T043307Z
UID:10005409-1833354000-1833364800@www.trc.qld.gov.au
SUMMARY:Mend Make Create
DESCRIPTION:Transform old favourite clothes into personalised\, signature fashion pieces.\n\n\n\n\n\n\nUncover the secrets of sewing with expert tips and tricks! Learn how to breathe new life into your old favourites. Your wardrobe deserves a second chance\, and so do you! \nBy Donation. All welcome.
URL:https://www.trc.qld.gov.au/event/mend-make-create/2028-02-05/
LOCATION:Yungaburra QCWA Hall\, Yungburra\, Qld\, 4884\, Australia
CATEGORIES:Community Event
ORGANIZER;CN="Virginia":MAILTO:vberry@westnet.com.au
GEO:-17.271111;145.583056
END:VEVENT
BEGIN:VEVENT
DTSTART;TZID=Australia/Brisbane:20280304T090000
DTEND;TZID=Australia/Brisbane:20280304T120000
DTSTAMP:20260422T011728
CREATED:20250204T043003Z
LAST-MODIFIED:20250204T043307Z
UID:10005410-1835773200-1835784000@www.trc.qld.gov.au
SUMMARY:Mend Make Create
DESCRIPTION:Transform old favourite clothes into personalised\, signature fashion pieces.\n\n\n\n\n\n\nUncover the secrets of sewing with expert tips and tricks! Learn how to breathe new life into your old favourites. Your wardrobe deserves a second chance\, and so do you! \nBy Donation. All welcome.
URL:https://www.trc.qld.gov.au/event/mend-make-create/2028-03-04/
LOCATION:Yungaburra QCWA Hall\, Yungburra\, Qld\, 4884\, Australia
CATEGORIES:Community Event
ORGANIZER;CN="Virginia":MAILTO:vberry@westnet.com.au
GEO:-17.271111;145.583056
END:VEVENT
BEGIN:VEVENT
DTSTART;TZID=Australia/Brisbane:20280401T090000
DTEND;TZID=Australia/Brisbane:20280401T120000
DTSTAMP:20260422T011728
CREATED:20250204T043003Z
LAST-MODIFIED:20250204T043307Z
UID:10005411-1838192400-1838203200@www.trc.qld.gov.au
SUMMARY:Mend Make Create
DESCRIPTION:Transform old favourite clothes into personalised\, signature fashion pieces.\n\n\n\n\n\n\nUncover the secrets of sewing with expert tips and tricks! Learn how to breathe new life into your old favourites. Your wardrobe deserves a second chance\, and so do you! \nBy Donation. All welcome.
URL:https://www.trc.qld.gov.au/event/mend-make-create/2028-04-01/
LOCATION:Yungaburra QCWA Hall\, Yungburra\, Qld\, 4884\, Australia
CATEGORIES:Community Event
ORGANIZER;CN="Virginia":MAILTO:vberry@westnet.com.au
GEO:-17.271111;145.583056
END:VEVENT
BEGIN:VEVENT
DTSTART;TZID=Australia/Brisbane:20280506T090000
DTEND;TZID=Australia/Brisbane:20280506T120000
DTSTAMP:20260422T011728
CREATED:20250204T043003Z
LAST-MODIFIED:20250204T043307Z
UID:10005412-1841216400-1841227200@www.trc.qld.gov.au
SUMMARY:Mend Make Create
DESCRIPTION:Transform old favourite clothes into personalised\, signature fashion pieces.\n\n\n\n\n\n\nUncover the secrets of sewing with expert tips and tricks! Learn how to breathe new life into your old favourites. Your wardrobe deserves a second chance\, and so do you! \nBy Donation. All welcome.
URL:https://www.trc.qld.gov.au/event/mend-make-create/2028-05-06/
LOCATION:Yungaburra QCWA Hall\, Yungburra\, Qld\, 4884\, Australia
CATEGORIES:Community Event
ORGANIZER;CN="Virginia":MAILTO:vberry@westnet.com.au
GEO:-17.271111;145.583056
END:VEVENT
BEGIN:VEVENT
DTSTART;TZID=Australia/Brisbane:20280603T090000
DTEND;TZID=Australia/Brisbane:20280603T120000
DTSTAMP:20260422T011728
CREATED:20250204T043003Z
LAST-MODIFIED:20250204T043307Z
UID:10005413-1843635600-1843646400@www.trc.qld.gov.au
SUMMARY:Mend Make Create
DESCRIPTION:Transform old favourite clothes into personalised\, signature fashion pieces.\n\n\n\n\n\n\nUncover the secrets of sewing with expert tips and tricks! Learn how to breathe new life into your old favourites. Your wardrobe deserves a second chance\, and so do you! \nBy Donation. All welcome.
URL:https://www.trc.qld.gov.au/event/mend-make-create/2028-06-03/
LOCATION:Yungaburra QCWA Hall\, Yungburra\, Qld\, 4884\, Australia
CATEGORIES:Community Event
ORGANIZER;CN="Virginia":MAILTO:vberry@westnet.com.au
GEO:-17.271111;145.583056
END:VEVENT
BEGIN:VEVENT
DTSTART;TZID=Australia/Brisbane:20280701T090000
DTEND;TZID=Australia/Brisbane:20280701T120000
DTSTAMP:20260422T011728
CREATED:20250204T043003Z
LAST-MODIFIED:20250204T043307Z
UID:10005414-1846054800-1846065600@www.trc.qld.gov.au
SUMMARY:Mend Make Create
DESCRIPTION:Transform old favourite clothes into personalised\, signature fashion pieces.\n\n\n\n\n\n\nUncover the secrets of sewing with expert tips and tricks! Learn how to breathe new life into your old favourites. Your wardrobe deserves a second chance\, and so do you! \nBy Donation. All welcome.
URL:https://www.trc.qld.gov.au/event/mend-make-create/2028-07-01/
LOCATION:Yungaburra QCWA Hall\, Yungburra\, Qld\, 4884\, Australia
CATEGORIES:Community Event
ORGANIZER;CN="Virginia":MAILTO:vberry@westnet.com.au
GEO:-17.271111;145.583056
END:VEVENT
BEGIN:VEVENT
DTSTART;TZID=Australia/Brisbane:20280805T090000
DTEND;TZID=Australia/Brisbane:20280805T120000
DTSTAMP:20260422T011728
CREATED:20250204T043003Z
LAST-MODIFIED:20250204T043307Z
UID:10005415-1849078800-1849089600@www.trc.qld.gov.au
SUMMARY:Mend Make Create
DESCRIPTION:Transform old favourite clothes into personalised\, signature fashion pieces.\n\n\n\n\n\n\nUncover the secrets of sewing with expert tips and tricks! Learn how to breathe new life into your old favourites. Your wardrobe deserves a second chance\, and so do you! \nBy Donation. All welcome.
URL:https://www.trc.qld.gov.au/event/mend-make-create/2028-08-05/
LOCATION:Yungaburra QCWA Hall\, Yungburra\, Qld\, 4884\, Australia
CATEGORIES:Community Event
ORGANIZER;CN="Virginia":MAILTO:vberry@westnet.com.au
GEO:-17.271111;145.583056
END:VEVENT
BEGIN:VEVENT
DTSTART;TZID=Australia/Brisbane:20280902T090000
DTEND;TZID=Australia/Brisbane:20280902T120000
DTSTAMP:20260422T011728
CREATED:20250204T043003Z
LAST-MODIFIED:20250204T043307Z
UID:10005416-1851498000-1851508800@www.trc.qld.gov.au
SUMMARY:Mend Make Create
DESCRIPTION:Transform old favourite clothes into personalised\, signature fashion pieces.\n\n\n\n\n\n\nUncover the secrets of sewing with expert tips and tricks! Learn how to breathe new life into your old favourites. Your wardrobe deserves a second chance\, and so do you! \nBy Donation. All welcome.
URL:https://www.trc.qld.gov.au/event/mend-make-create/2028-09-02/
LOCATION:Yungaburra QCWA Hall\, Yungburra\, Qld\, 4884\, Australia
CATEGORIES:Community Event
ORGANIZER;CN="Virginia":MAILTO:vberry@westnet.com.au
GEO:-17.271111;145.583056
END:VEVENT
BEGIN:VEVENT
DTSTART;TZID=Australia/Brisbane:20281007T090000
DTEND;TZID=Australia/Brisbane:20281007T120000
DTSTAMP:20260422T011728
CREATED:20250204T043003Z
LAST-MODIFIED:20250204T043307Z
UID:10005417-1854522000-1854532800@www.trc.qld.gov.au
SUMMARY:Mend Make Create
DESCRIPTION:Transform old favourite clothes into personalised\, signature fashion pieces.\n\n\n\n\n\n\nUncover the secrets of sewing with expert tips and tricks! Learn how to breathe new life into your old favourites. Your wardrobe deserves a second chance\, and so do you! \nBy Donation. All welcome.
URL:https://www.trc.qld.gov.au/event/mend-make-create/2028-10-07/
LOCATION:Yungaburra QCWA Hall\, Yungburra\, Qld\, 4884\, Australia
CATEGORIES:Community Event
ORGANIZER;CN="Virginia":MAILTO:vberry@westnet.com.au
GEO:-17.271111;145.583056
END:VEVENT
BEGIN:VEVENT
DTSTART;TZID=Australia/Brisbane:20281104T090000
DTEND;TZID=Australia/Brisbane:20281104T120000
DTSTAMP:20260422T011728
CREATED:20250204T043003Z
LAST-MODIFIED:20250204T043307Z
UID:10005418-1856941200-1856952000@www.trc.qld.gov.au
SUMMARY:Mend Make Create
DESCRIPTION:Transform old favourite clothes into personalised\, signature fashion pieces.\n\n\n\n\n\n\nUncover the secrets of sewing with expert tips and tricks! Learn how to breathe new life into your old favourites. Your wardrobe deserves a second chance\, and so do you! \nBy Donation. All welcome.
URL:https://www.trc.qld.gov.au/event/mend-make-create/2028-11-04/
LOCATION:Yungaburra QCWA Hall\, Yungburra\, Qld\, 4884\, Australia
CATEGORIES:Community Event
ORGANIZER;CN="Virginia":MAILTO:vberry@westnet.com.au
GEO:-17.271111;145.583056
END:VEVENT
BEGIN:VEVENT
DTSTART;TZID=Australia/Brisbane:20281202T090000
DTEND;TZID=Australia/Brisbane:20281202T120000
DTSTAMP:20260422T011728
CREATED:20250204T043003Z
LAST-MODIFIED:20250204T043307Z
UID:10005419-1859360400-1859371200@www.trc.qld.gov.au
SUMMARY:Mend Make Create
DESCRIPTION:Transform old favourite clothes into personalised\, signature fashion pieces.\n\n\n\n\n\n\nUncover the secrets of sewing with expert tips and tricks! Learn how to breathe new life into your old favourites. Your wardrobe deserves a second chance\, and so do you! \nBy Donation. All welcome.
URL:https://www.trc.qld.gov.au/event/mend-make-create/2028-12-02/
LOCATION:Yungaburra QCWA Hall\, Yungburra\, Qld\, 4884\, Australia
CATEGORIES:Community Event
ORGANIZER;CN="Virginia":MAILTO:vberry@westnet.com.au
GEO:-17.271111;145.583056
END:VEVENT
BEGIN:VEVENT
DTSTART;TZID=Australia/Brisbane:20290106T090000
DTEND;TZID=Australia/Brisbane:20290106T120000
DTSTAMP:20260422T011728
CREATED:20250204T043003Z
LAST-MODIFIED:20250204T043307Z
UID:10005420-1862384400-1862395200@www.trc.qld.gov.au
SUMMARY:Mend Make Create
DESCRIPTION:Transform old favourite clothes into personalised\, signature fashion pieces.\n\n\n\n\n\n\nUncover the secrets of sewing with expert tips and tricks! Learn how to breathe new life into your old favourites. Your wardrobe deserves a second chance\, and so do you! \nBy Donation. All welcome.
URL:https://www.trc.qld.gov.au/event/mend-make-create/2029-01-06/
LOCATION:Yungaburra QCWA Hall\, Yungburra\, Qld\, 4884\, Australia
CATEGORIES:Community Event
ORGANIZER;CN="Virginia":MAILTO:vberry@westnet.com.au
GEO:-17.271111;145.583056
END:VEVENT
BEGIN:VEVENT
DTSTART;TZID=Australia/Brisbane:20290203T090000
DTEND;TZID=Australia/Brisbane:20290203T120000
DTSTAMP:20260422T011728
CREATED:20250204T043003Z
LAST-MODIFIED:20250204T043307Z
UID:10005421-1864803600-1864814400@www.trc.qld.gov.au
SUMMARY:Mend Make Create
DESCRIPTION:Transform old favourite clothes into personalised\, signature fashion pieces.\n\n\n\n\n\n\nUncover the secrets of sewing with expert tips and tricks! Learn how to breathe new life into your old favourites. Your wardrobe deserves a second chance\, and so do you! \nBy Donation. All welcome.
URL:https://www.trc.qld.gov.au/event/mend-make-create/2029-02-03/
LOCATION:Yungaburra QCWA Hall\, Yungburra\, Qld\, 4884\, Australia
CATEGORIES:Community Event
ORGANIZER;CN="Virginia":MAILTO:vberry@westnet.com.au
GEO:-17.271111;145.583056
END:VEVENT
BEGIN:VEVENT
DTSTART;TZID=Australia/Brisbane:20290303T090000
DTEND;TZID=Australia/Brisbane:20290303T120000
DTSTAMP:20260422T011728
CREATED:20250204T043003Z
LAST-MODIFIED:20250204T043307Z
UID:10005422-1867222800-1867233600@www.trc.qld.gov.au
SUMMARY:Mend Make Create
DESCRIPTION:Transform old favourite clothes into personalised\, signature fashion pieces.\n\n\n\n\n\n\nUncover the secrets of sewing with expert tips and tricks! Learn how to breathe new life into your old favourites. Your wardrobe deserves a second chance\, and so do you! \nBy Donation. All welcome.
URL:https://www.trc.qld.gov.au/event/mend-make-create/2029-03-03/
LOCATION:Yungaburra QCWA Hall\, Yungburra\, Qld\, 4884\, Australia
CATEGORIES:Community Event
ORGANIZER;CN="Virginia":MAILTO:vberry@westnet.com.au
GEO:-17.271111;145.583056
END:VEVENT
BEGIN:VEVENT
DTSTART;TZID=Australia/Brisbane:20290407T090000
DTEND;TZID=Australia/Brisbane:20290407T120000
DTSTAMP:20260422T011728
CREATED:20250204T043003Z
LAST-MODIFIED:20250204T043307Z
UID:10005423-1870246800-1870257600@www.trc.qld.gov.au
SUMMARY:Mend Make Create
DESCRIPTION:Transform old favourite clothes into personalised\, signature fashion pieces.\n\n\n\n\n\n\nUncover the secrets of sewing with expert tips and tricks! Learn how to breathe new life into your old favourites. Your wardrobe deserves a second chance\, and so do you! \nBy Donation. All welcome.
URL:https://www.trc.qld.gov.au/event/mend-make-create/2029-04-07/
LOCATION:Yungaburra QCWA Hall\, Yungburra\, Qld\, 4884\, Australia
CATEGORIES:Community Event
ORGANIZER;CN="Virginia":MAILTO:vberry@westnet.com.au
GEO:-17.271111;145.583056
END:VEVENT
BEGIN:VEVENT
DTSTART;TZID=Australia/Brisbane:20290505T090000
DTEND;TZID=Australia/Brisbane:20290505T120000
DTSTAMP:20260422T011728
CREATED:20250204T043003Z
LAST-MODIFIED:20250204T043307Z
UID:10005424-1872666000-1872676800@www.trc.qld.gov.au
SUMMARY:Mend Make Create
DESCRIPTION:Transform old favourite clothes into personalised\, signature fashion pieces.\n\n\n\n\n\n\nUncover the secrets of sewing with expert tips and tricks! Learn how to breathe new life into your old favourites. Your wardrobe deserves a second chance\, and so do you! \nBy Donation. All welcome.
URL:https://www.trc.qld.gov.au/event/mend-make-create/2029-05-05/
LOCATION:Yungaburra QCWA Hall\, Yungburra\, Qld\, 4884\, Australia
CATEGORIES:Community Event
ORGANIZER;CN="Virginia":MAILTO:vberry@westnet.com.au
GEO:-17.271111;145.583056
END:VEVENT
BEGIN:VEVENT
DTSTART;TZID=Australia/Brisbane:20290602T090000
DTEND;TZID=Australia/Brisbane:20290602T120000
DTSTAMP:20260422T011728
CREATED:20250204T043003Z
LAST-MODIFIED:20250204T043307Z
UID:10005425-1875085200-1875096000@www.trc.qld.gov.au
SUMMARY:Mend Make Create
DESCRIPTION:Transform old favourite clothes into personalised\, signature fashion pieces.\n\n\n\n\n\n\nUncover the secrets of sewing with expert tips and tricks! Learn how to breathe new life into your old favourites. Your wardrobe deserves a second chance\, and so do you! \nBy Donation. All welcome.
URL:https://www.trc.qld.gov.au/event/mend-make-create/2029-06-02/
LOCATION:Yungaburra QCWA Hall\, Yungburra\, Qld\, 4884\, Australia
CATEGORIES:Community Event
ORGANIZER;CN="Virginia":MAILTO:vberry@westnet.com.au
GEO:-17.271111;145.583056
END:VEVENT
BEGIN:VEVENT
DTSTART;TZID=Australia/Brisbane:20290707T090000
DTEND;TZID=Australia/Brisbane:20290707T120000
DTSTAMP:20260422T011728
CREATED:20250204T043003Z
LAST-MODIFIED:20250204T043307Z
UID:10005426-1878109200-1878120000@www.trc.qld.gov.au
SUMMARY:Mend Make Create
DESCRIPTION:Transform old favourite clothes into personalised\, signature fashion pieces.\n\n\n\n\n\n\nUncover the secrets of sewing with expert tips and tricks! Learn how to breathe new life into your old favourites. Your wardrobe deserves a second chance\, and so do you! \nBy Donation. All welcome.
URL:https://www.trc.qld.gov.au/event/mend-make-create/2029-07-07/
LOCATION:Yungaburra QCWA Hall\, Yungburra\, Qld\, 4884\, Australia
CATEGORIES:Community Event
ORGANIZER;CN="Virginia":MAILTO:vberry@westnet.com.au
GEO:-17.271111;145.583056
END:VEVENT
BEGIN:VEVENT
DTSTART;TZID=Australia/Brisbane:20290804T090000
DTEND;TZID=Australia/Brisbane:20290804T120000
DTSTAMP:20260422T011728
CREATED:20250204T043003Z
LAST-MODIFIED:20250204T043307Z
UID:10005427-1880528400-1880539200@www.trc.qld.gov.au
SUMMARY:Mend Make Create
DESCRIPTION:Transform old favourite clothes into personalised\, signature fashion pieces.\n\n\n\n\n\n\nUncover the secrets of sewing with expert tips and tricks! Learn how to breathe new life into your old favourites. Your wardrobe deserves a second chance\, and so do you! \nBy Donation. All welcome.
URL:https://www.trc.qld.gov.au/event/mend-make-create/2029-08-04/
LOCATION:Yungaburra QCWA Hall\, Yungburra\, Qld\, 4884\, Australia
CATEGORIES:Community Event
ORGANIZER;CN="Virginia":MAILTO:vberry@westnet.com.au
GEO:-17.271111;145.583056
END:VEVENT
BEGIN:VEVENT
DTSTART;TZID=Australia/Brisbane:20290901T090000
DTEND;TZID=Australia/Brisbane:20290901T120000
DTSTAMP:20260422T011728
CREATED:20250204T043003Z
LAST-MODIFIED:20250204T043307Z
UID:10005428-1882947600-1882958400@www.trc.qld.gov.au
SUMMARY:Mend Make Create
DESCRIPTION:Transform old favourite clothes into personalised\, signature fashion pieces.\n\n\n\n\n\n\nUncover the secrets of sewing with expert tips and tricks! Learn how to breathe new life into your old favourites. Your wardrobe deserves a second chance\, and so do you! \nBy Donation. All welcome.
URL:https://www.trc.qld.gov.au/event/mend-make-create/2029-09-01/
LOCATION:Yungaburra QCWA Hall\, Yungburra\, Qld\, 4884\, Australia
CATEGORIES:Community Event
ORGANIZER;CN="Virginia":MAILTO:vberry@westnet.com.au
GEO:-17.271111;145.583056
END:VEVENT
BEGIN:VEVENT
DTSTART;TZID=Australia/Brisbane:20291006T090000
DTEND;TZID=Australia/Brisbane:20291006T120000
DTSTAMP:20260422T011728
CREATED:20250204T043003Z
LAST-MODIFIED:20250204T043307Z
UID:10005429-1885971600-1885982400@www.trc.qld.gov.au
SUMMARY:Mend Make Create
DESCRIPTION:Transform old favourite clothes into personalised\, signature fashion pieces.\n\n\n\n\n\n\nUncover the secrets of sewing with expert tips and tricks! Learn how to breathe new life into your old favourites. Your wardrobe deserves a second chance\, and so do you! \nBy Donation. All welcome.
URL:https://www.trc.qld.gov.au/event/mend-make-create/2029-10-06/
LOCATION:Yungaburra QCWA Hall\, Yungburra\, Qld\, 4884\, Australia
CATEGORIES:Community Event
ORGANIZER;CN="Virginia":MAILTO:vberry@westnet.com.au
GEO:-17.271111;145.583056
END:VEVENT
BEGIN:VEVENT
DTSTART;TZID=Australia/Brisbane:20291103T090000
DTEND;TZID=Australia/Brisbane:20291103T120000
DTSTAMP:20260422T011728
CREATED:20250204T043003Z
LAST-MODIFIED:20250204T043307Z
UID:10005430-1888390800-1888401600@www.trc.qld.gov.au
SUMMARY:Mend Make Create
DESCRIPTION:Transform old favourite clothes into personalised\, signature fashion pieces.\n\n\n\n\n\n\nUncover the secrets of sewing with expert tips and tricks! Learn how to breathe new life into your old favourites. Your wardrobe deserves a second chance\, and so do you! \nBy Donation. All welcome.
URL:https://www.trc.qld.gov.au/event/mend-make-create/2029-11-03/
LOCATION:Yungaburra QCWA Hall\, Yungburra\, Qld\, 4884\, Australia
CATEGORIES:Community Event
ORGANIZER;CN="Virginia":MAILTO:vberry@westnet.com.au
GEO:-17.271111;145.583056
END:VEVENT
BEGIN:VEVENT
DTSTART;TZID=Australia/Brisbane:20291201T090000
DTEND;TZID=Australia/Brisbane:20291201T120000
DTSTAMP:20260422T011728
CREATED:20250204T043003Z
LAST-MODIFIED:20250204T043307Z
UID:10005431-1890810000-1890820800@www.trc.qld.gov.au
SUMMARY:Mend Make Create
DESCRIPTION:Transform old favourite clothes into personalised\, signature fashion pieces.\n\n\n\n\n\n\nUncover the secrets of sewing with expert tips and tricks! Learn how to breathe new life into your old favourites. Your wardrobe deserves a second chance\, and so do you! \nBy Donation. All welcome.
URL:https://www.trc.qld.gov.au/event/mend-make-create/2029-12-01/
LOCATION:Yungaburra QCWA Hall\, Yungburra\, Qld\, 4884\, Australia
CATEGORIES:Community Event
ORGANIZER;CN="Virginia":MAILTO:vberry@westnet.com.au
GEO:-17.271111;145.583056
END:VEVENT
BEGIN:VEVENT
DTSTART;TZID=Australia/Brisbane:20300105T090000
DTEND;TZID=Australia/Brisbane:20300105T120000
DTSTAMP:20260422T011728
CREATED:20250204T043003Z
LAST-MODIFIED:20250204T043307Z
UID:10005432-1893834000-1893844800@www.trc.qld.gov.au
SUMMARY:Mend Make Create
DESCRIPTION:Transform old favourite clothes into personalised\, signature fashion pieces.\n\n\n\n\n\n\nUncover the secrets of sewing with expert tips and tricks! Learn how to breathe new life into your old favourites. Your wardrobe deserves a second chance\, and so do you! \nBy Donation. All welcome.
URL:https://www.trc.qld.gov.au/event/mend-make-create/2030-01-05/
LOCATION:Yungaburra QCWA Hall\, Yungburra\, Qld\, 4884\, Australia
CATEGORIES:Community Event
ORGANIZER;CN="Virginia":MAILTO:vberry@westnet.com.au
GEO:-17.271111;145.583056
END:VEVENT
BEGIN:VEVENT
DTSTART;TZID=Australia/Brisbane:20300202T090000
DTEND;TZID=Australia/Brisbane:20300202T120000
DTSTAMP:20260422T011728
CREATED:20250204T043003Z
LAST-MODIFIED:20250204T043307Z
UID:10005433-1896253200-1896264000@www.trc.qld.gov.au
SUMMARY:Mend Make Create
DESCRIPTION:Transform old favourite clothes into personalised\, signature fashion pieces.\n\n\n\n\n\n\nUncover the secrets of sewing with expert tips and tricks! Learn how to breathe new life into your old favourites. Your wardrobe deserves a second chance\, and so do you! \nBy Donation. All welcome.
URL:https://www.trc.qld.gov.au/event/mend-make-create/2030-02-02/
LOCATION:Yungaburra QCWA Hall\, Yungburra\, Qld\, 4884\, Australia
CATEGORIES:Community Event
ORGANIZER;CN="Virginia":MAILTO:vberry@westnet.com.au
GEO:-17.271111;145.583056
END:VEVENT
END:VCALENDAR