BEGIN:VCALENDAR
VERSION:2.0
PRODID:-//TRC - Tablelands Regional Council - ECPv6.15.20//NONSGML v1.0//EN
CALSCALE:GREGORIAN
METHOD:PUBLISH
X-ORIGINAL-URL:https://www.trc.qld.gov.au
X-WR-CALDESC:Events for TRC - Tablelands Regional Council
REFRESH-INTERVAL;VALUE=DURATION:PT1H
X-Robots-Tag:noindex
X-PUBLISHED-TTL:PT1H
BEGIN:VTIMEZONE
TZID:Australia/Brisbane
BEGIN:STANDARD
TZOFFSETFROM:+1000
TZOFFSETTO:+1000
TZNAME:AEST
DTSTART:20240101T000000
END:STANDARD
END:VTIMEZONE
BEGIN:VEVENT
DTSTART;TZID=Australia/Brisbane:20250104T060000
DTEND;TZID=Australia/Brisbane:20250104T120000
DTSTAMP:20260422T155532
CREATED:20240119T051938Z
LAST-MODIFIED:20240119T051938Z
UID:10004481-1735970400-1735992000@www.trc.qld.gov.au
SUMMARY:Atherton Markets
DESCRIPTION:Location:  \nOur Saviour Luthern Church   \n1 Golflinks Drive\, Atherton  \n  \nInformation:  \nTime: 6am-12pm  \nPreviously held at Platypus Park the Atherton Market is now being held at Our Saviour Church on Golflinks Road the first Saturday of the month. Enjoy fresh local produce\, crafts\, plants\, homemade goodies and more!    \n  \nFor more information contact Market Coordinator – Roger Strickland on 0427 753938 or email roger.strickland@bigpond.com  
URL:https://www.trc.qld.gov.au/event/atherton-markets-2/2025-01-04/
LOCATION:Our Saviour Church\, 1 Golf Links Road\, Atherton\, Qld\, 4883\, Australia
CATEGORIES:Community Event,Markets
ORGANIZER;CN="Roger Strickland":MAILTO:roger.strickland@bigpond.com
GEO:-17.2617702;145.4755038
X-APPLE-STRUCTURED-LOCATION;VALUE=URI;X-ADDRESS=Our Saviour Church 1 Golf Links Road Atherton Qld 4883 Australia;X-APPLE-RADIUS=500;X-TITLE=1 Golf Links Road:geo:145.4755038,-17.2617702
END:VEVENT
END:VCALENDAR