BEGIN:VCALENDAR
VERSION:2.0
PRODID:-//TRC - Tablelands Regional Council - ECPv6.15.20//NONSGML v1.0//EN
CALSCALE:GREGORIAN
METHOD:PUBLISH
X-ORIGINAL-URL:https://www.trc.qld.gov.au
X-WR-CALDESC:Events for TRC - Tablelands Regional Council
REFRESH-INTERVAL;VALUE=DURATION:PT1H
X-Robots-Tag:noindex
X-PUBLISHED-TTL:PT1H
BEGIN:VTIMEZONE
TZID:Australia/Brisbane
BEGIN:STANDARD
TZOFFSETFROM:+1000
TZOFFSETTO:+1000
TZNAME:AEST
DTSTART:20250101T000000
END:STANDARD
END:VTIMEZONE
BEGIN:VEVENT
DTSTART;TZID=Australia/Brisbane:20260502T080000
DTEND;TZID=Australia/Brisbane:20260502T170000
DTSTAMP:20260421T232543
CREATED:20260420T025859Z
LAST-MODIFIED:20260420T030110Z
UID:10005639-1777708800-1777741200@www.trc.qld.gov.au
SUMMARY:Millaa Millaa Market Day
DESCRIPTION:Handmade and Grown @ the Millaa Millaa Hotel | Secondhand goods at the CWA Hall | An Antiques Roadshow at the Millaa Millaa Museum and\, the Millaa Millaa Garden Club Plant Sale! \n 
URL:https://www.trc.qld.gov.au/event/millaa-millaa-market-day/2026-05-02/1/
LOCATION:Main Street\, Millaa Millaa\, Main Street\, Millaa Millaa\, Qld\, 4886\, Australia
CATEGORIES:Community Event,Markets
ATTACH;FMTTYPE=image/png:https://www.trc.qld.gov.au/wp-content/uploads/A4-poster-3.png
ORGANIZER;CN="Millaa Millaa Progress Association":MAILTO:millaaprogress@gmail.com
GEO:-17.5112708;145.6138886
X-APPLE-STRUCTURED-LOCATION;VALUE=URI;X-ADDRESS=Main Street Millaa Millaa Main Street Millaa Millaa Qld 4886 Australia;X-APPLE-RADIUS=500;X-TITLE=Main Street:geo:145.6138886,-17.5112708
END:VEVENT
BEGIN:VEVENT
DTSTART;TZID=Australia/Brisbane:20260502T100000
DTEND;TZID=Australia/Brisbane:20260502T100000
DTSTAMP:20260421T232543
CREATED:20260420T025859Z
LAST-MODIFIED:20260420T030110Z
UID:10005643-1777716000-1777716000@www.trc.qld.gov.au
SUMMARY:Millaa Millaa Market Day
DESCRIPTION:Handmade and Grown @ the Millaa Millaa Hotel | Secondhand goods at the CWA Hall | An Antiques Roadshow at the Millaa Millaa Museum and\, the Millaa Millaa Garden Club Plant Sale! \n 
URL:https://www.trc.qld.gov.au/event/millaa-millaa-market-day/2026-05-02/3/
LOCATION:Main Street\, Millaa Millaa\, Main Street\, Millaa Millaa\, Qld\, 4886\, Australia
CATEGORIES:Community Event,Markets
ATTACH;FMTTYPE=image/png:https://www.trc.qld.gov.au/wp-content/uploads/A4-poster-3.png
ORGANIZER;CN="Millaa Millaa Progress Association":MAILTO:millaaprogress@gmail.com
GEO:-17.5112708;145.6138886
X-APPLE-STRUCTURED-LOCATION;VALUE=URI;X-ADDRESS=Main Street Millaa Millaa Main Street Millaa Millaa Qld 4886 Australia;X-APPLE-RADIUS=500;X-TITLE=Main Street:geo:145.6138886,-17.5112708
END:VEVENT
BEGIN:VEVENT
DTSTART;TZID=Australia/Brisbane:20260503T080000
DTEND;TZID=Australia/Brisbane:20260503T123000
DTSTAMP:20260421T232543
CREATED:20260106T001727Z
LAST-MODIFIED:20260106T001727Z
UID:10005596-1777795200-1777811400@www.trc.qld.gov.au
SUMMARY:Mother's Day - Art\, Craft and Plant Fair
DESCRIPTION:🌸 Mother’s Day Art\, Craft and Plant Fair 2026 🌸\nCelebrate mums and creativity at the Atherton Tableland Agricultural Society’s Mother’s Day Art\, Craft and Plant Fair 2026. This vibrant fair will showcase handmade art\, crafts\, and gifts perfect for Mother’s Day. Local artisans will offer unique treasures from jewellery and homewares to delicious treats. Adding to the atmosphere\, stalls will feature beautiful plants and garden creations\, giving families the chance to find living gifts that grow with love. With live demonstrations\, a relaxed community vibe\, and opportunities to support local talent\, the fair is the ideal way to find that perfect local gift for mums while enjoying the spirit of the Tablelands.
URL:https://www.trc.qld.gov.au/event/mothers-day-art-craft-and-plant-fair-2/
LOCATION:Merriland Hall\, Atherton Show Grounds\, 10 Louise Street\, Atherton\, QLD\, 4883\, Australia
CATEGORIES:Community Event,Markets
ATTACH;FMTTYPE=image/png:https://www.trc.qld.gov.au/wp-content/uploads/Mothers-day-fair-scaled.png
ORGANIZER;CN="Atherton Tableland Agricultural Society Inc":MAILTO:info@athertonshow.com.au
GEO:-17.268407;145.482722
X-APPLE-STRUCTURED-LOCATION;VALUE=URI;X-ADDRESS=Merriland Hall Atherton Show Grounds 10 Louise Street Atherton QLD 4883 Australia;X-APPLE-RADIUS=500;X-TITLE=10 Louise Street:geo:145.482722,-17.268407
END:VEVENT
END:VCALENDAR