BEGIN:VCALENDAR
VERSION:2.0
PRODID:-//TRC - Tablelands Regional Council - ECPv6.15.20//NONSGML v1.0//EN
CALSCALE:GREGORIAN
METHOD:PUBLISH
X-ORIGINAL-URL:https://www.trc.qld.gov.au
X-WR-CALDESC:Events for TRC - Tablelands Regional Council
REFRESH-INTERVAL;VALUE=DURATION:PT1H
X-Robots-Tag:noindex
X-PUBLISHED-TTL:PT1H
BEGIN:VTIMEZONE
TZID:Australia/Brisbane
BEGIN:STANDARD
TZOFFSETFROM:+1000
TZOFFSETTO:+1000
TZNAME:AEST
DTSTART:20250101T000000
END:STANDARD
END:VTIMEZONE
BEGIN:VEVENT
DTSTART;TZID=Australia/Brisbane:20260509T070000
DTEND;TZID=Australia/Brisbane:20260509T080000
DTSTAMP:20260422T011904
CREATED:20231206T043708Z
LAST-MODIFIED:20231206T043917Z
UID:10004313-1778310000-1778313600@www.trc.qld.gov.au
SUMMARY:Atherton Parkrun
DESCRIPTION:A free\, fun and friendly weekly 5k community event. Walk\, jog\, run\, volunteer or spectate. \nHeld every Saturday between 7 -8am on the rail trail\, starting and finishing at the corner of  Weaver Street and Atherton-Herberton Road (opposite Platypus Park). \nThe course is two laps\, one longer loop (3.3kms) and a shorter loop (1.7kms).  Participants proceed to the bollard in Priors Creek park (1st turnaround)\, back to the start (2nd turnaround)\, to the marked bollard near IGA (3rd turnaround) and back to the start to finish.
URL:https://www.trc.qld.gov.au/event/atherton-parkrun/2026-05-09/
LOCATION:Atherton Tablelands Rail Trail- opposite Platypus Park\, cnr Weaver Street & Atherton-herberton Road\, Atherton\, Qld\, 4883\, Australia
CATEGORIES:Community Event
ATTACH;FMTTYPE=image/jpeg:https://www.trc.qld.gov.au/wp-content/uploads/Parkrun.jpg
ORGANIZER;CN="Atherton Parkrun":MAILTO:athertonhelpers@parkrun.com
GEO:-25.274398;133.775136
X-APPLE-STRUCTURED-LOCATION;VALUE=URI;X-ADDRESS=Atherton Tablelands Rail Trail- opposite Platypus Park cnr Weaver Street & Atherton-herberton Road Atherton Qld 4883 Australia;X-APPLE-RADIUS=500;X-TITLE=cnr Weaver Street & Atherton-herberton Road:geo:133.775136,-25.274398
END:VEVENT
BEGIN:VEVENT
DTSTART;TZID=Australia/Brisbane:20260509T083000
DTEND;TZID=Australia/Brisbane:20260509T120000
DTSTAMP:20260422T011904
CREATED:20260420T025023Z
LAST-MODIFIED:20260420T025023Z
UID:10005642-1778315400-1778328000@www.trc.qld.gov.au
SUMMARY:Cake Stall for Cord Blood Research
DESCRIPTION:Inner Wheel Club of FNQ Tablelands a Women’s Club for Friendship and Service are holding a Cake Stall outside the Barron Valley Hotel on Saturday 9th May 2026 to raise funds and awareness for Cord Blood Research. Cord Blood Research is the Inner Wheel Australia National project. Since 2001 Inner Wheel Australia has raised monies for 67 grants. Come along and support our project. We look forward to seeing everyone.
URL:https://www.trc.qld.gov.au/event/cake-stall-for-cord-blood-research/
LOCATION:Barron Valley Hotel\, 53 Main Street\, Atheton\, Qld\, 4883\, Australia
CATEGORIES:Community Event
ORGANIZER;CN="Inner Wheel Club of FNQ Tablelands":MAILTO:iiw.au.fnqtablelands@gmail.com
GEO:-17.2651529;145.4758191
X-APPLE-STRUCTURED-LOCATION;VALUE=URI;X-ADDRESS=Barron Valley Hotel 53 Main Street Atheton Qld 4883 Australia;X-APPLE-RADIUS=500;X-TITLE=53 Main Street:geo:145.4758191,-17.2651529
END:VEVENT
END:VCALENDAR