BEGIN:VCALENDAR
VERSION:2.0
PRODID:-//TRC - Tablelands Regional Council - ECPv6.15.20//NONSGML v1.0//EN
CALSCALE:GREGORIAN
METHOD:PUBLISH
X-WR-CALNAME:TRC - Tablelands Regional Council
X-ORIGINAL-URL:https://www.trc.qld.gov.au
X-WR-CALDESC:Events for TRC - Tablelands Regional Council
REFRESH-INTERVAL;VALUE=DURATION:PT1H
X-Robots-Tag:noindex
X-PUBLISHED-TTL:PT1H
BEGIN:VTIMEZONE
TZID:Australia/Brisbane
BEGIN:STANDARD
TZOFFSETFROM:+1000
TZOFFSETTO:+1000
TZNAME:AEST
DTSTART:20250101T000000
END:STANDARD
END:VTIMEZONE
BEGIN:VEVENT
DTSTART;TZID=Australia/Brisbane:20260313T170000
DTEND;TZID=Australia/Brisbane:20260313T190000
DTSTAMP:20260422T005315
CREATED:20260203T014342Z
LAST-MODIFIED:20260305T055120Z
UID:10005606-1773421200-1773428400@www.trc.qld.gov.au
SUMMARY:Exhibition Opening - Memories by the Thursday Painters
DESCRIPTION:Members of Thursday Painters\, a local art group and part of Tableland Region Art Society\, were encouraged over the last\nyear to respond to the theme\, ‘Memories’. Their responses are many and varied\, and in a range of styles from traditional to abstract\, as well as ceramics and sculpture. \n \n  \n 
URL:https://www.trc.qld.gov.au/event/exhibition-opening-for-memories-by-the-thursday-painters/
LOCATION:Old Post Office Gallery\, 86 Herberton Road\, Atherton \, Queensland\, 4883\, Australia
CATEGORIES:Community Event,Galleries
ATTACH;FMTTYPE=image/jpeg:https://www.trc.qld.gov.au/wp-content/uploads/Children-by-Sandra-Gray_Thursday-Painters-scaled.jpg
GEO:-17.2776238;145.471098
X-APPLE-STRUCTURED-LOCATION;VALUE=URI;X-ADDRESS=Old Post Office Gallery 86 Herberton Road Atherton  Queensland 4883 Australia;X-APPLE-RADIUS=500;X-TITLE=86 Herberton Road:geo:145.471098,-17.2776238
END:VEVENT
END:VCALENDAR