BEGIN:VCALENDAR
VERSION:2.0
PRODID:-//TRC - Tablelands Regional Council - ECPv6.15.20//NONSGML v1.0//EN
CALSCALE:GREGORIAN
METHOD:PUBLISH
X-ORIGINAL-URL:https://www.trc.qld.gov.au
X-WR-CALDESC:Events for TRC - Tablelands Regional Council
REFRESH-INTERVAL;VALUE=DURATION:PT1H
X-Robots-Tag:noindex
X-PUBLISHED-TTL:PT1H
BEGIN:VTIMEZONE
TZID:Australia/Brisbane
BEGIN:STANDARD
TZOFFSETFROM:+1000
TZOFFSETTO:+1000
TZNAME:AEST
DTSTART:20240101T000000
END:STANDARD
END:VTIMEZONE
BEGIN:VEVENT
DTSTART;TZID=Australia/Brisbane:20251219T160000
DTEND;TZID=Australia/Brisbane:20251219T200000
DTSTAMP:20260422T063042
CREATED:20251218T004646Z
LAST-MODIFIED:20251218T004646Z
UID:10005589-1766160000-1766174400@www.trc.qld.gov.au
SUMMARY:Yungaburra's Candlelight Christmas Shopping Night
DESCRIPTION:
URL:https://www.trc.qld.gov.au/event/yungaburras-candlelight-christmas-shopping-night/
LOCATION:Yungaburra Village\, Maude Kehoe Place\, Yungaburra\, QLD\, 4884\, Australia
CATEGORIES:Community Event
ATTACH;FMTTYPE=image/jpeg:https://www.trc.qld.gov.au/wp-content/uploads/Yungaburra-Shopping-Night.jpg
GEO:-17.2699491;145.5831019
X-APPLE-STRUCTURED-LOCATION;VALUE=URI;X-ADDRESS=Yungaburra Village Maude Kehoe Place Yungaburra QLD 4884 Australia;X-APPLE-RADIUS=500;X-TITLE=Maude Kehoe Place:geo:145.5831019,-17.2699491
END:VEVENT
END:VCALENDAR