BEGIN:VCALENDAR
VERSION:2.0
PRODID:-//TRC - Tablelands Regional Council - ECPv6.15.20//NONSGML v1.0//EN
CALSCALE:GREGORIAN
METHOD:PUBLISH
X-ORIGINAL-URL:https://www.trc.qld.gov.au
X-WR-CALDESC:Events for TRC - Tablelands Regional Council
REFRESH-INTERVAL;VALUE=DURATION:PT1H
X-Robots-Tag:noindex
X-PUBLISHED-TTL:PT1H
BEGIN:VTIMEZONE
TZID:Australia/Brisbane
BEGIN:STANDARD
TZOFFSETFROM:+1000
TZOFFSETTO:+1000
TZNAME:AEST
DTSTART:20240101T000000
END:STANDARD
END:VTIMEZONE
BEGIN:VEVENT
DTSTART;VALUE=DATE:20250913
DTEND;VALUE=DATE:20250914
DTSTAMP:20260422T142823
CREATED:20250915T001955Z
LAST-MODIFIED:20250915T001955Z
UID:10005534-1757721600-1757807999@www.trc.qld.gov.au
SUMMARY:Mount Garnet Annual Car Bike Show and Swap meet
DESCRIPTION:Come along to the Mount Garnet Car Bike Show and Swap meet\, 10 Categories\, Swap meet and Stalls\, Live Bands\, Bar and plenty of Hot and Cold Food Trucks\, Jumping Castle and Face Painting\, Best dressed Rockabilly competition\, raffles and heaps more fun to come…. Camping available. Keep updated on our Facebook page for more exciting updates!! Please DM to secure your camp site or stall. \n \n 
URL:https://www.trc.qld.gov.au/event/mount-garnet-annual-car-bike-show-and-swap-meet/2025-09-13/1/
LOCATION:Mount Garnet Turf Club\, Kennedy Highway\, Mount Garnet\, Qld\, 4872\, Australia
CATEGORIES:Community Event
ATTACH;FMTTYPE=image/jpeg:https://www.trc.qld.gov.au/wp-content/uploads/New-Logo.jpg
ORGANIZER;CN="Old Scool Kruisers Qld Inc.":MAILTO:donnalitzow@y7mail.com
GEO:-17.7013619;145.0803888
X-APPLE-STRUCTURED-LOCATION;VALUE=URI;X-ADDRESS=Mount Garnet Turf Club Kennedy Highway Mount Garnet Qld 4872 Australia;X-APPLE-RADIUS=500;X-TITLE=Kennedy Highway:geo:145.0803888,-17.7013619
END:VEVENT
BEGIN:VEVENT
DTSTART;TZID=Australia/Brisbane:20250913T070000
DTEND;TZID=Australia/Brisbane:20250913T080000
DTSTAMP:20260422T142823
CREATED:20231206T043708Z
LAST-MODIFIED:20231206T043917Z
UID:10004279-1757746800-1757750400@www.trc.qld.gov.au
SUMMARY:Atherton Parkrun
DESCRIPTION:A free\, fun and friendly weekly 5k community event. Walk\, jog\, run\, volunteer or spectate. \nHeld every Saturday between 7 -8am on the rail trail\, starting and finishing at the corner of  Weaver Street and Atherton-Herberton Road (opposite Platypus Park). \nThe course is two laps\, one longer loop (3.3kms) and a shorter loop (1.7kms).  Participants proceed to the bollard in Priors Creek park (1st turnaround)\, back to the start (2nd turnaround)\, to the marked bollard near IGA (3rd turnaround) and back to the start to finish.
URL:https://www.trc.qld.gov.au/event/atherton-parkrun/2025-09-13/
LOCATION:Atherton Tablelands Rail Trail- opposite Platypus Park\, cnr Weaver Street & Atherton-herberton Road\, Atherton\, Qld\, 4883\, Australia
CATEGORIES:Community Event
ATTACH;FMTTYPE=image/jpeg:https://www.trc.qld.gov.au/wp-content/uploads/Parkrun.jpg
ORGANIZER;CN="Atherton Parkrun":MAILTO:athertonhelpers@parkrun.com
GEO:-25.274398;133.775136
X-APPLE-STRUCTURED-LOCATION;VALUE=URI;X-ADDRESS=Atherton Tablelands Rail Trail- opposite Platypus Park cnr Weaver Street & Atherton-herberton Road Atherton Qld 4883 Australia;X-APPLE-RADIUS=500;X-TITLE=cnr Weaver Street & Atherton-herberton Road:geo:133.775136,-25.274398
END:VEVENT
BEGIN:VEVENT
DTSTART;VALUE=DATE:20250913
DTEND;VALUE=DATE:20250914
DTSTAMP:20260422T142823
CREATED:20250915T001955Z
LAST-MODIFIED:20250915T001955Z
UID:10005535-1757750400-1757782800@www.trc.qld.gov.au
SUMMARY:Mount Garnet Annual Car Bike Show and Swap meet
DESCRIPTION:Come along to the Mount Garnet Car Bike Show and Swap meet\, 10 Categories\, Swap meet and Stalls\, Live Bands\, Bar and plenty of Hot and Cold Food Trucks\, Jumping Castle and Face Painting\, Best dressed Rockabilly competition\, raffles and heaps more fun to come…. Camping available. Keep updated on our Facebook page for more exciting updates!! Please DM to secure your camp site or stall. \n \n 
URL:https://www.trc.qld.gov.au/event/mount-garnet-annual-car-bike-show-and-swap-meet/2025-09-13/2/
LOCATION:Mount Garnet Turf Club\, Kennedy Highway\, Mount Garnet\, Qld\, 4872\, Australia
CATEGORIES:Community Event
ATTACH;FMTTYPE=image/jpeg:https://www.trc.qld.gov.au/wp-content/uploads/New-Logo.jpg
ORGANIZER;CN="Old Scool Kruisers Qld Inc.":MAILTO:donnalitzow@y7mail.com
GEO:-17.7013619;145.0803888
X-APPLE-STRUCTURED-LOCATION;VALUE=URI;X-ADDRESS=Mount Garnet Turf Club Kennedy Highway Mount Garnet Qld 4872 Australia;X-APPLE-RADIUS=500;X-TITLE=Kennedy Highway:geo:145.0803888,-17.7013619
END:VEVENT
BEGIN:VEVENT
DTSTART;TZID=Australia/Brisbane:20250913T140000
DTEND;TZID=Australia/Brisbane:20250913T223000
DTSTAMP:20260422T142823
CREATED:20250901T225722Z
LAST-MODIFIED:20250901T225722Z
UID:10005532-1757772000-1757802600@www.trc.qld.gov.au
SUMMARY:St Teresa's 75th Anniversary Celebration
DESCRIPTION:2:00pm Time travel\, treasures and afternoon tea step back in time for an afternoon filled with fun\, laughter and discovery \n\n\n4:30pm Mass \n\n\n6:00pm Pre-dinner drinks \n\n\n7:00pm Dinner (at Ravenshoe Hotel).  This 18+ event offers a relaxed space to reconnect\, reminisce\, and share stories that will preserve the rich history of our school and community for future generations.  Semi Formal Attire. \n\n\nRSVP – Click Here  \n\n\n4095 9050 or str.75years@cns.catholic.edu.au
URL:https://www.trc.qld.gov.au/event/st-teresas-75th-anniversary-celebration/
LOCATION:St Teresa’s Primary School\, 6 Moffatt Street\, Ravenshoe\, Qld\, 4872\, Australia
CATEGORIES:Community Event
ATTACH;FMTTYPE=image/png:https://www.trc.qld.gov.au/wp-content/uploads/75th-Logo.png
ORGANIZER;CN="St Teresa's School":MAILTO:STR.75years@cns.catholic.edu.au
GEO:-27.6249164;152.7622201
X-APPLE-STRUCTURED-LOCATION;VALUE=URI;X-ADDRESS=St Teresa’s Primary School 6 Moffatt Street Ravenshoe Qld 4872 Australia;X-APPLE-RADIUS=500;X-TITLE=6 Moffatt Street:geo:152.7622201,-27.6249164
END:VEVENT
END:VCALENDAR