BEGIN:VCALENDAR
VERSION:2.0
PRODID:-//TRC - Tablelands Regional Council - ECPv6.15.20//NONSGML v1.0//EN
CALSCALE:GREGORIAN
METHOD:PUBLISH
X-ORIGINAL-URL:https://www.trc.qld.gov.au
X-WR-CALDESC:Events for TRC - Tablelands Regional Council
REFRESH-INTERVAL;VALUE=DURATION:PT1H
X-Robots-Tag:noindex
X-PUBLISHED-TTL:PT1H
BEGIN:VTIMEZONE
TZID:Australia/Brisbane
BEGIN:STANDARD
TZOFFSETFROM:+1000
TZOFFSETTO:+1000
TZNAME:AEST
DTSTART:20240101T000000
END:STANDARD
END:VTIMEZONE
BEGIN:VEVENT
DTSTART;TZID=Australia/Brisbane:20250823T070000
DTEND;TZID=Australia/Brisbane:20250823T080000
DTSTAMP:20260422T172141
CREATED:20231206T043708Z
LAST-MODIFIED:20231206T043917Z
UID:10004276-1755932400-1755936000@www.trc.qld.gov.au
SUMMARY:Atherton Parkrun
DESCRIPTION:A free\, fun and friendly weekly 5k community event. Walk\, jog\, run\, volunteer or spectate. \nHeld every Saturday between 7 -8am on the rail trail\, starting and finishing at the corner of  Weaver Street and Atherton-Herberton Road (opposite Platypus Park). \nThe course is two laps\, one longer loop (3.3kms) and a shorter loop (1.7kms).  Participants proceed to the bollard in Priors Creek park (1st turnaround)\, back to the start (2nd turnaround)\, to the marked bollard near IGA (3rd turnaround) and back to the start to finish.
URL:https://www.trc.qld.gov.au/event/atherton-parkrun/2025-08-23/
LOCATION:Atherton Tablelands Rail Trail- opposite Platypus Park\, cnr Weaver Street & Atherton-herberton Road\, Atherton\, Qld\, 4883\, Australia
CATEGORIES:Community Event
ATTACH;FMTTYPE=image/jpeg:https://www.trc.qld.gov.au/wp-content/uploads/Parkrun.jpg
ORGANIZER;CN="Atherton Parkrun":MAILTO:athertonhelpers@parkrun.com
GEO:-25.274398;133.775136
X-APPLE-STRUCTURED-LOCATION;VALUE=URI;X-ADDRESS=Atherton Tablelands Rail Trail- opposite Platypus Park cnr Weaver Street & Atherton-herberton Road Atherton Qld 4883 Australia;X-APPLE-RADIUS=500;X-TITLE=cnr Weaver Street & Atherton-herberton Road:geo:133.775136,-25.274398
END:VEVENT
BEGIN:VEVENT
DTSTART;TZID=Australia/Brisbane:20250823T073000
DTEND;TZID=Australia/Brisbane:20250823T123000
DTSTAMP:20260422T172141
CREATED:20250115T070100Z
LAST-MODIFIED:20250115T070100Z
UID:10005350-1755934200-1755952200@www.trc.qld.gov.au
SUMMARY:Yungaburra Markets
DESCRIPTION:Location: \nBruce Jones Park \nGillies Highway\, Yungaburra \n  \nInformation: \nTime: 7.30am-12.30pm \n  \nThe Yungaburra Market is the biggest and oldest market on the Atherton Tablelands. On one day each month local producers gather on the commons in the middle of the historic village of Yungaburra to sell fresh produce\, flowers\, home made crafts\, local food\, wooden furniture\, clothing and just about anything else you can think of. \n  \nThe date for the December market will change. \n  \nDon’t forget to visit the Facebook page. \n  \nFor more information contact Market Coordinator Nicole 0419 652663 or email info@yungaburramarkets.com
URL:https://www.trc.qld.gov.au/event/yungaburra-markets/2025-08-23/
LOCATION:Bruce Jones Market Park\, Gillies Highway\, Yungaburra\, QLD\, 4884\, Australia
CATEGORIES:Community Event,Council event,Markets
ATTACH;FMTTYPE=image/png:https://www.trc.qld.gov.au/wp-content/uploads/Yungaburra-Markets-logo-1.png
ORGANIZER;CN="Yungaburra State School P&C Association":MAILTO:info@yungaburramarkets.com
GEO:-17.2730663;145.6114448
X-APPLE-STRUCTURED-LOCATION;VALUE=URI;X-ADDRESS=Bruce Jones Market Park Gillies Highway Yungaburra QLD 4884 Australia;X-APPLE-RADIUS=500;X-TITLE=Gillies Highway:geo:145.6114448,-17.2730663
END:VEVENT
END:VCALENDAR