BEGIN:VCALENDAR
VERSION:2.0
PRODID:-//TRC - Tablelands Regional Council - ECPv6.15.20//NONSGML v1.0//EN
CALSCALE:GREGORIAN
METHOD:PUBLISH
X-ORIGINAL-URL:https://www.trc.qld.gov.au
X-WR-CALDESC:Events for TRC - Tablelands Regional Council
REFRESH-INTERVAL;VALUE=DURATION:PT1H
X-Robots-Tag:noindex
X-PUBLISHED-TTL:PT1H
BEGIN:VTIMEZONE
TZID:Australia/Brisbane
BEGIN:STANDARD
TZOFFSETFROM:+1000
TZOFFSETTO:+1000
TZNAME:AEST
DTSTART:20240101T000000
END:STANDARD
END:VTIMEZONE
BEGIN:VEVENT
DTSTART;TZID=Australia/Brisbane:20250627T120000
DTEND;TZID=Australia/Brisbane:20250629T150000
DTSTAMP:20260422T234423
CREATED:20250129T015657Z
LAST-MODIFIED:20250624T231906Z
UID:10005365-1751025600-1751209200@www.trc.qld.gov.au
SUMMARY:Malanda Show
DESCRIPTION:
URL:https://www.trc.qld.gov.au/event/malanda-show/
LOCATION:Malanda Showgrounds\, Thomas Street\, Malanda\, Queensland \, 4885\, Australia
CATEGORIES:Community Event
ATTACH;FMTTYPE=image/jpeg:https://www.trc.qld.gov.au/wp-content/uploads/Malanda-Show-flyer.jpg
ORGANIZER;CN="Malanda Show Society":MAILTO:info@malandashow.com
GEO:-17.3503747;145.5913262
X-APPLE-STRUCTURED-LOCATION;VALUE=URI;X-ADDRESS=Malanda Showgrounds Thomas Street Malanda Queensland  4885 Australia;X-APPLE-RADIUS=500;X-TITLE=Thomas Street:geo:145.5913262,-17.3503747
END:VEVENT
END:VCALENDAR