BEGIN:VCALENDAR
VERSION:2.0
PRODID:-//TRC - Tablelands Regional Council - ECPv6.15.20//NONSGML v1.0//EN
CALSCALE:GREGORIAN
METHOD:PUBLISH
X-WR-CALNAME:TRC - Tablelands Regional Council
X-ORIGINAL-URL:https://www.trc.qld.gov.au
X-WR-CALDESC:Events for TRC - Tablelands Regional Council
REFRESH-INTERVAL;VALUE=DURATION:PT1H
X-Robots-Tag:noindex
X-PUBLISHED-TTL:PT1H
BEGIN:VTIMEZONE
TZID:Australia/Brisbane
BEGIN:STANDARD
TZOFFSETFROM:+1000
TZOFFSETTO:+1000
TZNAME:AEST
DTSTART:20240101T000000
END:STANDARD
END:VTIMEZONE
BEGIN:VEVENT
DTSTART;TZID=Australia/Brisbane:20250531T070000
DTEND;TZID=Australia/Brisbane:20250531T080000
DTSTAMP:20260422T221237
CREATED:20231206T043708Z
LAST-MODIFIED:20231206T043917Z
UID:10004264-1748674800-1748678400@www.trc.qld.gov.au
SUMMARY:Atherton Parkrun
DESCRIPTION:A free\, fun and friendly weekly 5k community event. Walk\, jog\, run\, volunteer or spectate. \nHeld every Saturday between 7 -8am on the rail trail\, starting and finishing at the corner of  Weaver Street and Atherton-Herberton Road (opposite Platypus Park). \nThe course is two laps\, one longer loop (3.3kms) and a shorter loop (1.7kms).  Participants proceed to the bollard in Priors Creek park (1st turnaround)\, back to the start (2nd turnaround)\, to the marked bollard near IGA (3rd turnaround) and back to the start to finish.
URL:https://www.trc.qld.gov.au/event/atherton-parkrun/2025-05-31/
LOCATION:Atherton Tablelands Rail Trail- opposite Platypus Park\, cnr Weaver Street & Atherton-herberton Road\, Atherton\, Qld\, 4883\, Australia
CATEGORIES:Community Event
ATTACH;FMTTYPE=image/jpeg:https://www.trc.qld.gov.au/wp-content/uploads/Parkrun.jpg
ORGANIZER;CN="Atherton Parkrun":MAILTO:athertonhelpers@parkrun.com
GEO:-25.274398;133.775136
X-APPLE-STRUCTURED-LOCATION;VALUE=URI;X-ADDRESS=Atherton Tablelands Rail Trail- opposite Platypus Park cnr Weaver Street & Atherton-herberton Road Atherton Qld 4883 Australia;X-APPLE-RADIUS=500;X-TITLE=cnr Weaver Street & Atherton-herberton Road:geo:133.775136,-25.274398
END:VEVENT
BEGIN:VEVENT
DTSTART;TZID=Australia/Brisbane:20250531T180000
DTEND;TZID=Australia/Brisbane:20250531T213000
DTSTAMP:20260422T221238
CREATED:20250507T234034Z
LAST-MODIFIED:20250507T234124Z
UID:10005473-1748714400-1748727000@www.trc.qld.gov.au
SUMMARY:Pauly P live at The Platform Ravenshoe
DESCRIPTION:We got Pauly P coming to The Platform! \nSaturday May 31st 6pm to 9pm…ish $15Entry \nGlad to finally shake the election shenanigans off…and join us for a celebration of a new season with some hot tunes to warm up your winter night. We are very excited to be hosting this entertaining performer who has played from Byron Bay up to Port Douglas to boogying crowds. We encourage you to get along for the biggest party night we could muster. Pauly P is not to be missed as he delivers his energetic blend of Roots\, Reggae\, Dub\, Funk\, Rock and Hip Hop \nGrab your people…your snacks\, drinks and a chair and come join everyone for a night of superb and silky tunes. Keeping prices real at only $15 – Tickets can be pre-bought at the Barn or at the door on the night if there’s some available. This is a limited numbers venue to keep things cosy! \nOur lovely CWA ladies will have the BBQ sizzling for those that need a snag on the go…so bring your gold coins. \nRemember we all need to support artists by getting along to gigs if we want to keep live music alive and growing. \nWe promise to keep bringing live music to Ravenshoe if you just keep turning up. These nights are always happy community gatherings…cheap and cheerful…simple and damn good for the soul. \nNext to the Barn – 63 Grigg St\, Ravenshoe\, QLD – Highest town in the state. \nCamping right next door Ravenshoe Heritage Railway – Contact directly to book! \n 
URL:https://www.trc.qld.gov.au/event/pauly-p-live-at-the-platform-ravenshoe/
LOCATION:The Platform Ravenshoe\, 63 Grigg St\,\, Ravenshoe\, QLD\, 4888\, Australia
CATEGORIES:Community Event
ATTACH;FMTTYPE=image/png:https://www.trc.qld.gov.au/wp-content/uploads/Puly-P-at-the-Platform.png
ORGANIZER;CN="The Platform Ravenshoe":MAILTO:theplatformravenshoe@gmail.com
GEO:-17.6090758;145.4826965
X-APPLE-STRUCTURED-LOCATION;VALUE=URI;X-ADDRESS=The Platform Ravenshoe 63 Grigg St Ravenshoe QLD 4888 Australia;X-APPLE-RADIUS=500;X-TITLE=63 Grigg St\,:geo:145.4826965,-17.6090758
END:VEVENT
END:VCALENDAR