BEGIN:VCALENDAR
VERSION:2.0
PRODID:-//TRC - Tablelands Regional Council - ECPv6.15.20//NONSGML v1.0//EN
CALSCALE:GREGORIAN
METHOD:PUBLISH
X-ORIGINAL-URL:https://www.trc.qld.gov.au
X-WR-CALDESC:Events for TRC - Tablelands Regional Council
REFRESH-INTERVAL;VALUE=DURATION:PT1H
X-Robots-Tag:noindex
X-PUBLISHED-TTL:PT1H
BEGIN:VTIMEZONE
TZID:Australia/Brisbane
BEGIN:STANDARD
TZOFFSETFROM:+1000
TZOFFSETTO:+1000
TZNAME:AEST
DTSTART:20240101T000000
END:STANDARD
END:VTIMEZONE
BEGIN:VEVENT
DTSTART;TZID=Australia/Brisbane:20250308T070000
DTEND;TZID=Australia/Brisbane:20250308T080000
DTSTAMP:20260423T101006
CREATED:20231206T043708Z
LAST-MODIFIED:20231206T043917Z
UID:10004252-1741417200-1741420800@www.trc.qld.gov.au
SUMMARY:Atherton Parkrun
DESCRIPTION:A free\, fun and friendly weekly 5k community event. Walk\, jog\, run\, volunteer or spectate. \nHeld every Saturday between 7 -8am on the rail trail\, starting and finishing at the corner of  Weaver Street and Atherton-Herberton Road (opposite Platypus Park). \nThe course is two laps\, one longer loop (3.3kms) and a shorter loop (1.7kms).  Participants proceed to the bollard in Priors Creek park (1st turnaround)\, back to the start (2nd turnaround)\, to the marked bollard near IGA (3rd turnaround) and back to the start to finish.
URL:https://www.trc.qld.gov.au/event/atherton-parkrun/2025-03-08/
LOCATION:Atherton Tablelands Rail Trail- opposite Platypus Park\, cnr Weaver Street & Atherton-herberton Road\, Atherton\, Qld\, 4883\, Australia
CATEGORIES:Community Event
ATTACH;FMTTYPE=image/jpeg:https://www.trc.qld.gov.au/wp-content/uploads/Parkrun.jpg
ORGANIZER;CN="Atherton Parkrun":MAILTO:athertonhelpers@parkrun.com
GEO:-25.274398;133.775136
X-APPLE-STRUCTURED-LOCATION;VALUE=URI;X-ADDRESS=Atherton Tablelands Rail Trail- opposite Platypus Park cnr Weaver Street & Atherton-herberton Road Atherton Qld 4883 Australia;X-APPLE-RADIUS=500;X-TITLE=cnr Weaver Street & Atherton-herberton Road:geo:133.775136,-25.274398
END:VEVENT
BEGIN:VEVENT
DTSTART;TZID=Australia/Brisbane:20250308T090000
DTEND;TZID=Australia/Brisbane:20250308T120000
DTSTAMP:20260423T101006
CREATED:20250129T021212Z
LAST-MODIFIED:20250129T021212Z
UID:10005360-1741424400-1741435200@www.trc.qld.gov.au
SUMMARY:Fun-Guy Ceramic Workshop
DESCRIPTION:Come along to this whimsical ceramics workshop with Linda Bates to create charming and unique mushrooms and fungi for your home or garden.
URL:https://www.trc.qld.gov.au/event/fun-guy-ceramic-workshop/
LOCATION:Old Post Office Gallery\, 86 Herberton Road\, Atherton \, Queensland\, 4883\, Australia
CATEGORIES:Community Event
ATTACH;FMTTYPE=image/jpeg:https://www.trc.qld.gov.au/wp-content/uploads/Fun-Guy-Ceramic-Workshop.jpg
ORGANIZER;CN="Tableland Regional Gallery":MAILTO:annag@trc.qld.gov.au
GEO:-17.2776238;145.471098
X-APPLE-STRUCTURED-LOCATION;VALUE=URI;X-ADDRESS=Old Post Office Gallery 86 Herberton Road Atherton  Queensland 4883 Australia;X-APPLE-RADIUS=500;X-TITLE=86 Herberton Road:geo:145.471098,-17.2776238
END:VEVENT
BEGIN:VEVENT
DTSTART;TZID=Australia/Brisbane:20250308T100000
DTEND;TZID=Australia/Brisbane:20250308T123000
DTSTAMP:20260423T101006
CREATED:20250224T004359Z
LAST-MODIFIED:20250224T004359Z
UID:10005443-1741428000-1741437000@www.trc.qld.gov.au
SUMMARY:International Women's Day Morning Tea
DESCRIPTION:International Women’s Day on 8th March was seen as opportunity for the Inner Wheel Club of FNQ Tablelands and Soroptimist Tropical Tablelands to come together to host a morning tea.  Both clubs support the local community with funds raised from their activities.  The event will be held at the Tolga Community Church. \nGuest speaker is Sergeant Alida Day.  Raffles and lucky door available. Lots of prizes. \nTickets purchased through Trybooking.  Contact Mary Lyle 0418 182 197. \n 
URL:https://www.trc.qld.gov.au/event/international-womens-day-morning-tea/
LOCATION:Tolga Community Church\, 65 Main Street\, Tolga\, Qld\, 4882\, Australia
CATEGORIES:Community Event
ATTACH;FMTTYPE=image/png:https://www.trc.qld.gov.au/wp-content/uploads/Morning-Tea1.png
ORGANIZER;CN="Inner Wheel Club of FNQ Tablelands":MAILTO:iiw.au.fnqtablelands@gmail.com
GEO:-17.2236199;145.479844
X-APPLE-STRUCTURED-LOCATION;VALUE=URI;X-ADDRESS=Tolga Community Church 65 Main Street Tolga Qld 4882 Australia;X-APPLE-RADIUS=500;X-TITLE=65 Main Street:geo:145.479844,-17.2236199
END:VEVENT
END:VCALENDAR