BEGIN:VCALENDAR
VERSION:2.0
PRODID:-//TRC - Tablelands Regional Council - ECPv6.15.20//NONSGML v1.0//EN
CALSCALE:GREGORIAN
METHOD:PUBLISH
X-ORIGINAL-URL:https://www.trc.qld.gov.au
X-WR-CALDESC:Events for TRC - Tablelands Regional Council
REFRESH-INTERVAL;VALUE=DURATION:PT1H
X-Robots-Tag:noindex
X-PUBLISHED-TTL:PT1H
BEGIN:VTIMEZONE
TZID:Australia/Brisbane
BEGIN:STANDARD
TZOFFSETFROM:+1000
TZOFFSETTO:+1000
TZNAME:AEST
DTSTART:20230101T000000
END:STANDARD
END:VTIMEZONE
BEGIN:VEVENT
DTSTART;TZID=Australia/Brisbane:20241228T070000
DTEND;TZID=Australia/Brisbane:20241228T080000
DTSTAMP:20260423T143538
CREATED:20231206T043708Z
LAST-MODIFIED:20231206T043917Z
UID:10004242-1735369200-1735372800@www.trc.qld.gov.au
SUMMARY:Atherton Parkrun
DESCRIPTION:A free\, fun and friendly weekly 5k community event. Walk\, jog\, run\, volunteer or spectate. \nHeld every Saturday between 7 -8am on the rail trail\, starting and finishing at the corner of  Weaver Street and Atherton-Herberton Road (opposite Platypus Park). \nThe course is two laps\, one longer loop (3.3kms) and a shorter loop (1.7kms).  Participants proceed to the bollard in Priors Creek park (1st turnaround)\, back to the start (2nd turnaround)\, to the marked bollard near IGA (3rd turnaround) and back to the start to finish.
URL:https://www.trc.qld.gov.au/event/atherton-parkrun/2024-12-28/
LOCATION:Atherton Tablelands Rail Trail- opposite Platypus Park\, cnr Weaver Street & Atherton-herberton Road\, Atherton\, Qld\, 4883\, Australia
CATEGORIES:Community Event
ATTACH;FMTTYPE=image/jpeg:https://www.trc.qld.gov.au/wp-content/uploads/Parkrun.jpg
ORGANIZER;CN="Atherton Parkrun":MAILTO:athertonhelpers@parkrun.com
GEO:-25.274398;133.775136
X-APPLE-STRUCTURED-LOCATION;VALUE=URI;X-ADDRESS=Atherton Tablelands Rail Trail- opposite Platypus Park cnr Weaver Street & Atherton-herberton Road Atherton Qld 4883 Australia;X-APPLE-RADIUS=500;X-TITLE=cnr Weaver Street & Atherton-herberton Road:geo:133.775136,-25.274398
END:VEVENT
BEGIN:VEVENT
DTSTART;TZID=Australia/Brisbane:20241228T100000
DTEND;TZID=Australia/Brisbane:20241228T140000
DTSTAMP:20260423T143538
CREATED:20241128T015603Z
LAST-MODIFIED:20241128T025925Z
UID:10005252-1735380000-1735394400@www.trc.qld.gov.au
SUMMARY:Peckett Steam Train Rides
DESCRIPTION:Book online and to check dates and times!
URL:https://www.trc.qld.gov.au/event/peckett-steam-train-rides/2024-12-28/
LOCATION:Herberton Railway Station\, John Street\, Herberton\, Queensland\, 4887\, Australia
CATEGORIES:Community Event
ATTACH;FMTTYPE=image/jpeg:https://www.trc.qld.gov.au/wp-content/uploads/Pecket-rides.jpg
ORGANIZER;CN="Atherton-Herberton Historic Railway Inc.":MAILTO:sec@athrail.com.au
GEO:-17.3853547;145.3861283
X-APPLE-STRUCTURED-LOCATION;VALUE=URI;X-ADDRESS=Herberton Railway Station John Street Herberton Queensland 4887 Australia;X-APPLE-RADIUS=500;X-TITLE=John Street:geo:145.3861283,-17.3853547
END:VEVENT
END:VCALENDAR