BEGIN:VCALENDAR
VERSION:2.0
PRODID:-//TRC - Tablelands Regional Council - ECPv6.15.20//NONSGML v1.0//EN
CALSCALE:GREGORIAN
METHOD:PUBLISH
X-WR-CALNAME:TRC - Tablelands Regional Council
X-ORIGINAL-URL:https://www.trc.qld.gov.au
X-WR-CALDESC:Events for TRC - Tablelands Regional Council
REFRESH-INTERVAL;VALUE=DURATION:PT1H
X-Robots-Tag:noindex
X-PUBLISHED-TTL:PT1H
BEGIN:VTIMEZONE
TZID:Australia/Brisbane
BEGIN:STANDARD
TZOFFSETFROM:+1000
TZOFFSETTO:+1000
TZNAME:AEST
DTSTART:20250101T000000
END:STANDARD
END:VTIMEZONE
BEGIN:VEVENT
DTSTART;TZID=Australia/Brisbane:20260318T093000
DTEND;TZID=Australia/Brisbane:20260318T123000
DTSTAMP:20260423T112449
CREATED:20260227T004325Z
LAST-MODIFIED:20260227T004325Z
UID:10005619-1773826200-1773837000@www.trc.qld.gov.au
SUMMARY:Your Care Your Choices - National Advance Care Planning Week Forum
DESCRIPTION:
URL:https://www.trc.qld.gov.au/event/your-care-your-choices-national-advance-care-planning-week-forum/
LOCATION:Merrilands Hall\, 10 Louise Street\, Atherton\, Qld\, 4883\, Australia
CATEGORIES:Community Event
ATTACH;FMTTYPE=image/jpeg:https://www.trc.qld.gov.au/wp-content/uploads/TRC_NACPW-Forum-2026_flyer_A4-scaled.jpg
ORGANIZER;CN="Tablelands Regional Council":MAILTO:info@trc.qld.gov.au
GEO:-17.2697265;145.4833664
X-APPLE-STRUCTURED-LOCATION;VALUE=URI;X-ADDRESS=Merrilands Hall 10 Louise Street Atherton Qld 4883 Australia;X-APPLE-RADIUS=500;X-TITLE=10 Louise Street:geo:145.4833664,-17.2697265
END:VEVENT
END:VCALENDAR