BEGIN:VCALENDAR
VERSION:2.0
PRODID:-//TRC - Tablelands Regional Council - ECPv6.15.20//NONSGML v1.0//EN
CALSCALE:GREGORIAN
METHOD:PUBLISH
X-ORIGINAL-URL:https://www.trc.qld.gov.au
X-WR-CALDESC:Events for TRC - Tablelands Regional Council
REFRESH-INTERVAL;VALUE=DURATION:PT1H
X-Robots-Tag:noindex
X-PUBLISHED-TTL:PT1H
BEGIN:VTIMEZONE
TZID:Australia/Brisbane
BEGIN:STANDARD
TZOFFSETFROM:+1000
TZOFFSETTO:+1000
TZNAME:AEST
DTSTART:20230101T000000
END:STANDARD
END:VTIMEZONE
BEGIN:VEVENT
DTSTART;TZID=Australia/Brisbane:20260329T160000
DTEND;TZID=Australia/Brisbane:20260329T180000
DTSTAMP:20260425T103029
CREATED:20260218T010941Z
LAST-MODIFIED:20260218T010941Z
UID:10005613-1774800000-1774807200@www.trc.qld.gov.au
SUMMARY:Sunday in the Park - United Tableland Pipe Band - Yungaburra Rotunda
DESCRIPTION:Audiences can expect a stirring program of traditional pipe music; bagpipe covers of other music and interludes of signing and folk music. There will also be singing and folk music to enjoy — a powerful and uplifting musical experience in a relaxed outdoor setting. \nEvent Details \n\nDate: Sunday\, 29 March 2026\nTime: 4:00 pm – 6:00 pm\n(Please note the slightly later time for the summer period)\nVenue: Yungaburra Community Rotunda\nRefreshments available onsite for purchase from The Whippy Express\n\nThis is a free\, family-friendly event\, with the option to make a donation directly to the band. Everyone is welcome. \nAttendees are encouraged to bring a chair\, blanket\, or rug to secure a spot on the lawn. Refreshments are available from nearby shops\, and parking is accessible via Short Street. \nIn the event of rain\, the concert will be held at the Yungaburra Recreation Shed\, Barrine Road (next to the Tennis Courts).  \nFor updates about events at the Yungaburra Community Rotunda visit https://www.facebook.com/yungaburrarotunda
URL:https://www.trc.qld.gov.au/event/sunday-in-the-park-united-tableland-pipe-band-yungaburra-rotunda-2/
LOCATION:Yungaburra Rotunda\, Bruce Jones Park\, 13-17 Gillies Range Road\, Yungaburra\, Qld\, 4885\, Australia
CATEGORIES:Community Event
ATTACH;FMTTYPE=image/jpeg:https://www.trc.qld.gov.au/wp-content/uploads/2026_03_Poster_YCR_United-Tableland-Pipe-Band-scaled.jpg
ORGANIZER;CN="Yungaburra Beautification":MAILTO:fairleys@bigpond.com
GEO:-17.2711597;145.5837635
X-APPLE-STRUCTURED-LOCATION;VALUE=URI;X-ADDRESS=Yungaburra Rotunda Bruce Jones Park 13-17 Gillies Range Road Yungaburra Qld 4885 Australia;X-APPLE-RADIUS=500;X-TITLE=13-17 Gillies Range Road:geo:145.5837635,-17.2711597
END:VEVENT
BEGIN:VEVENT
DTSTART;TZID=Australia/Brisbane:20260315T160000
DTEND;TZID=Australia/Brisbane:20260315T180000
DTSTAMP:20260425T103029
CREATED:20260305T234331Z
LAST-MODIFIED:20260305T234331Z
UID:10005626-1773590400-1773597600@www.trc.qld.gov.au
SUMMARY:Sunday in the Park with Country Folk Bloke – Mitch Humphries
DESCRIPTION:The monthly Sunday in the Park event will be held on Sunday 15 March 2026\, from 4:00pm to 6:00pm\, at the beautiful Yungaburra Community Rotunda. \nThis month’s featured performer is local favourite Country Folk Bloke – Mitch Humphries\, bringing an authentic slice of country life to the heart of Yungaburra. \nMitch Humphries grew up on Aussie farms and spent much of his life dairy farming on the rolling hills of Millaa Millaa on the Atherton Tablelands. A natural storyteller and engaging singer-songwriter\, Mitch performs in a relaxed country/folk style that reflects his deep connection to rural life. \nHis original songs cover all the familiar country themes — dogs\, utes\, boots\, and even pondering what stops the universe from imploding! Combined with foot-tapping\, easy-listening covers of classic country favourites and campfire sing-along tunes\, Mitch promises an enjoyable afternoon of music\, laughter and community spirit. \nEvent Details:\n📅 Sunday 15 March 2026\n⏰ 4:00pm – 6:00pm\n📍 Yungaburra Community Rotunda \nRefreshments will be available for purchase from The Whippy Express\, so bring the family and enjoy a treat while you relax and listen. \nIn the event of wet weather\, the performance will move to the Yungaburra Community Hall. \nParking for the event is available via Short Street\, with easy access to the rotunda grounds. \nSunday in the Park is a free community event\, with the option to make a donation directly to the band. Everyone is welcome. \nBring a picnic rug or chair\, pack some afternoon nibbles\, and settle in for a laid-back Sunday afternoon surrounded by friends\, family and great live music. \nFacebook event link: https://www.facebook.com/share/1C9KWp4G3M/ \n  \n 
URL:https://www.trc.qld.gov.au/event/sunday-in-the-park-with-country-folk-bloke-mitch-humphries/
LOCATION:Yungaburra Rotunda\, Bruce Jones Park\, 13-17 Gillies Range Road\, Yungaburra\, Qld\, 4885\, Australia
CATEGORIES:Community Event
ATTACH;FMTTYPE=image/jpeg:https://www.trc.qld.gov.au/wp-content/uploads/2026_03_YCR_Sunday-in-the-Park_Flyer_cOUntRy-folk-bLOKe_1-SM.jpg
ORGANIZER;CN="Yungaburra Beautification":MAILTO:fairleys@bigpond.com
GEO:-17.2711597;145.5837635
X-APPLE-STRUCTURED-LOCATION;VALUE=URI;X-ADDRESS=Yungaburra Rotunda Bruce Jones Park 13-17 Gillies Range Road Yungaburra Qld 4885 Australia;X-APPLE-RADIUS=500;X-TITLE=13-17 Gillies Range Road:geo:145.5837635,-17.2711597
END:VEVENT
BEGIN:VEVENT
DTSTART;TZID=Australia/Brisbane:20260208T160000
DTEND;TZID=Australia/Brisbane:20260208T180000
DTSTAMP:20260425T103029
CREATED:20260107T031611Z
LAST-MODIFIED:20260127T014643Z
UID:10005602-1770566400-1770573600@www.trc.qld.gov.au
SUMMARY:Sunday in the Park - Sonic Bloom - Yungaburra Rotunda
DESCRIPTION:Music lovers are invited to gather for a relaxed summer afternoon of live local music as Sunday in the Park returns to the Yungaburra Community Rotunda on Sunday\, 8 February 2026\, from 4:00 pm to 6:00 pm. \nThe afternoon will still be filled with rich\, soulful sound as Sonic Bloom\, a much-loved rotunda favourite\, takes centre stage.\nLed by Georgie and Tim Borella\, with Nick Watling on drums and Neil Hodgson on bass\, Sonic Bloom delivers a distinctive blend of rock\, country\, blues\, and jazz\, woven together with beautiful harmonies and thoughtful\, heartfelt lyrics. Their dynamic performances and genuine connection with audiences make them a perfect fit for a Sunday afternoon in the park. \nThis is a free\, family-friendly community event\, and attendees are welcome to support the musicians with a direct donation to the band if they wish.\nBring along a chair\, blanket\, or rug to secure your patch of front-row lawn. Refreshments are available from The Whippy Express who will be onsite with refreshments for purchase. Parking accessible via Short Street. \nIn the event of rain\, the concert will move to the Yungaburra Community Hall\, ensuring the music goes on regardless of the weather.\nCome along\, relax\, and enjoy a wonderful afternoon of live music\, community\, and local talent at Sunday in the Park. \nFor updates about events at the Yungaburra Community Rotunda visit https://www.facebook.com/yungaburrarotunda \n  \n \n 
URL:https://www.trc.qld.gov.au/event/sunday-in-the-park-united-tableland-pipe-band-yungaburra-rotunda/
LOCATION:Yungaburra Band Rotunda\, Bruce Jones (markets) Park\, Yungaburra\, Queensland\, 4884\, Australia
CATEGORIES:Community Event
ATTACH;FMTTYPE=image/jpeg:https://www.trc.qld.gov.au/wp-content/uploads/Sonic-Bloom-scaled.jpg
ORGANIZER;CN="Yungaburra Beautification":MAILTO:fairleys@bigpond.com
GEO:-17.2709033;145.5830306
X-APPLE-STRUCTURED-LOCATION;VALUE=URI;X-ADDRESS=Yungaburra Band Rotunda Bruce Jones (markets) Park Yungaburra Queensland 4884 Australia;X-APPLE-RADIUS=500;X-TITLE=Bruce Jones (markets) Park:geo:145.5830306,-17.2709033
END:VEVENT
BEGIN:VEVENT
DTSTART;TZID=Australia/Brisbane:20251214T160000
DTEND;TZID=Australia/Brisbane:20251214T180000
DTSTAMP:20260425T103029
CREATED:20251120T072202Z
LAST-MODIFIED:20251120T072329Z
UID:10005576-1765728000-1765735200@www.trc.qld.gov.au
SUMMARY:Sunday in the Park - Sonic Bloom
DESCRIPTION:  \nThis is a family-friendly\, free community event\, perfect for a relaxed Sunday afternoon. If you wish\, you can show your appreciation with a direct donation to the band. \nSo\, pack your chair\, blanket\, or rug and come along to claim your front-row spot on the lawn. Refreshments are available from The Whippy Express who will be onsite with coffee\, ice cream and milkshakes. \nIn case of rain\, the concert will move to the Yungaburra Community Hall\, so the music never has to stop! \nJoin us for an afternoon of live music\, community connection\, and local talent under the open sky — Sonic Bloom is ready to make Yungaburra sing! \nIn the event of wet weather\, the event will move to the Yungaburra Community Hall. \nYungaburra Community Facebook page 
URL:https://www.trc.qld.gov.au/event/sunday-in-the-park-sonic-bloom-yungaburra-rotunda/
LOCATION:Yungaburra Band Rotunda\, Bruce Jones (markets) Park\, Yungaburra\, Queensland\, 4884\, Australia
CATEGORIES:Community Event
ATTACH;FMTTYPE=image/jpeg:https://www.trc.qld.gov.au/wp-content/uploads/2025_12_YCR_Flyer_Sonic-Bloom.jpg
ORGANIZER;CN="Yungaburra Beautification":MAILTO:fairleys@bigpond.com
GEO:-17.2709033;145.5830306
X-APPLE-STRUCTURED-LOCATION;VALUE=URI;X-ADDRESS=Yungaburra Band Rotunda Bruce Jones (markets) Park Yungaburra Queensland 4884 Australia;X-APPLE-RADIUS=500;X-TITLE=Bruce Jones (markets) Park:geo:145.5830306,-17.2709033
END:VEVENT
BEGIN:VEVENT
DTSTART;TZID=Australia/Brisbane:20251109T150000
DTEND;TZID=Australia/Brisbane:20251109T170000
DTSTAMP:20260425T103029
CREATED:20251015T015400Z
LAST-MODIFIED:20251015T015456Z
UID:10005567-1762700400-1762707600@www.trc.qld.gov.au
SUMMARY:Sunday in the Park - Cairns Brass - Yungaburra Rotunda
DESCRIPTION:The Yungaburra Community Rotunda Committee is excited to present a musical feast for the November ‘Sunday in the Park’ event\, featuring the Cairns Brass No.1 Band\, Youth Band\, and Junior Band at the Yungaburra Community Rotunda. Enjoy a variety of music from talented ensembles\, including award-winning State and National champion bands. \nReturning to the Yungaburra Rotunda\, the Cairns Brass Junior Band\, 2024 & 2025 State Junior champions of Queensland showcasing the youngest musicians in a series of enjoyable performances. Accompanying them we will again enjoy the Youth Band\, the reigning open C-grade Queensland State champions of 2024 and 2025\, and the Cairns Brass No.1 Band\, the 2025 B-grade National Champion Band of Australia\, who\, together\, will deliver an amazing mix of performances. \nThis is a family-friendly\, complimentary event (donations are warmly welcomed and directly support the bands). Everyone is invited to join in the fun. \nFeel free to bring a chair\, blanket\, or rug to secure the best spot on the lawn. \nParking can be found near Short Street. In case of inclement weather\, the Yungaburra Rec Shed\, Barrine Road\, Yungaburra will serve as an alternate venue. \nThe Whippy Express will be on site – refreshments available to purchase. \nPlease find attached a flyer with information about this event.
URL:https://www.trc.qld.gov.au/event/sunday-in-the-park-cairns-brass-yungaburra-rotunda/
LOCATION:Yungaburra Band Rotunda\, Bruce Jones (markets) Park\, Yungaburra\, Queensland\, 4884\, Australia
CATEGORIES:Community Event
ATTACH;FMTTYPE=image/jpeg:https://www.trc.qld.gov.au/wp-content/uploads/2025_11_Rotunda_Cairns-Brass.jpg
ORGANIZER;CN="Yungaburra Beautification":MAILTO:fairleys@bigpond.com
GEO:-17.2709033;145.5830306
X-APPLE-STRUCTURED-LOCATION;VALUE=URI;X-ADDRESS=Yungaburra Band Rotunda Bruce Jones (markets) Park Yungaburra Queensland 4884 Australia;X-APPLE-RADIUS=500;X-TITLE=Bruce Jones (markets) Park:geo:145.5830306,-17.2709033
END:VEVENT
BEGIN:VEVENT
DTSTART;TZID=Australia/Brisbane:20250914T150000
DTEND;TZID=Australia/Brisbane:20250914T170000
DTSTAMP:20260425T103029
CREATED:20250811T232152Z
LAST-MODIFIED:20250811T232152Z
UID:10005525-1757862000-1757869200@www.trc.qld.gov.au
SUMMARY:Sunday in the Park - Atherton Tablelands Instrumental Music
DESCRIPTION:The monthly Sunday in the Park concert\, hosted by the Yungaburra Community Rotunda\, will feature students from the Atherton Tablelands Instrumental Music (ATIM) program. \nThe Southern Tablelands Primary Concert band consists of students from Herberton State School\, Ravenshoe State Schools\, Walkamin State School\, Malanda Primary\, and Malanda High. This ensemble will come together for the first time to perform for this particular concert. Conductor\, Mrs. Otto\, has been teaching instrumental music for ten years and has been based in North Queensland for the last seven years. They look forward to presenting a diverse range of pieces\, from concert band pieces. \nDate: Sunday 14 September 2025 \nTime: 3:00 pm – 5:00 pm \nVenue: Yungaburra Community Rotunda \nThis is a family-friendly free event\, and if you wish\, you can donate directly to the band. All are welcome to attend! \nRemember to bring along a chair\, blanket\, or rug to reserve your piece of front-row lawn. Parking is available via Short Street. In case of rain\, the alternative venue will be the Yungaburra Rec Shed\, Barrine Road (next to the tennis courts).
URL:https://www.trc.qld.gov.au/event/sunday-in-the-park-atherton-tablelands-instrumental-music/
LOCATION:Yungaburra Rotunda\, Bruce Jones Park\, 13-17 Gillies Range Road\, Yungaburra\, Qld\, 4885\, Australia
CATEGORIES:Community Event
ATTACH;FMTTYPE=image/jpeg:https://www.trc.qld.gov.au/wp-content/uploads/2025_09_Rotunda_Flyer_ATIM-JPG.jpg
ORGANIZER;CN="Yungaburra Beautification":MAILTO:fairleys@bigpond.com
GEO:-17.2711597;145.5837635
X-APPLE-STRUCTURED-LOCATION;VALUE=URI;X-ADDRESS=Yungaburra Rotunda Bruce Jones Park 13-17 Gillies Range Road Yungaburra Qld 4885 Australia;X-APPLE-RADIUS=500;X-TITLE=13-17 Gillies Range Road:geo:145.5837635,-17.2711597
END:VEVENT
BEGIN:VEVENT
DTSTART;TZID=Australia/Brisbane:20250831T150000
DTEND;TZID=Australia/Brisbane:20250831T170000
DTSTAMP:20260425T103029
CREATED:20250811T232315Z
LAST-MODIFIED:20250811T232315Z
UID:10005524-1756652400-1756659600@www.trc.qld.gov.au
SUMMARY:Sunday in the Park -Soul Song Choir
DESCRIPTION:Soul Song\, the only pop choir in Cairns\, is renowned across the region for their dynamic\, fervent\, and uplifting performances! They foster an inclusive environment\, uniting both singers and non-singers from diverse backgrounds in a safe\, joyful community that shares pop\, soul\, and gospel songs from various eras. Their song selection is meticulously curated to inspire\, energize\, and thrill their audiences\, who often find themselves dancing and singing along! \nDate:               Sunday 31 August 2025 \nTime:               3:00 PM to 5:00 PM \nVenue:             Yungaburra Community Rotunda \n  \nThis is a family-friendly free event\, and if you wish\, you can donate directly to the band. All are welcome to attend! \nRemember to bring along a chair\, blanket\, or rug to reserve your piece of front-row lawn. Refreshments will be available onsite from The Whippy Express. \nParking is available via Short Street. In case of rain\, the alternative venue will be the Yungaburra Community Hall. \nSoul Song Choirs website:  https://www.soulsongchoirs.com.au/ \nYungaburra Community Rotunda: https://www.facebook.com/yungaburrarotunda \n  \n \n 
URL:https://www.trc.qld.gov.au/event/sunday-in-the-park-soul-song-choir/
LOCATION:Yungaburra Rotunda\, Bruce Jones Park\, 13-17 Gillies Range Road\, Yungaburra\, Qld\, 4885\, Australia
CATEGORIES:Community Event
ATTACH;FMTTYPE=image/jpeg:https://www.trc.qld.gov.au/wp-content/uploads/2025_08_Final_-Rotunda_SSC_JPG.jpg
ORGANIZER;CN="Yungaburra Beautification":MAILTO:fairleys@bigpond.com
GEO:-17.2711597;145.5837635
X-APPLE-STRUCTURED-LOCATION;VALUE=URI;X-ADDRESS=Yungaburra Rotunda Bruce Jones Park 13-17 Gillies Range Road Yungaburra Qld 4885 Australia;X-APPLE-RADIUS=500;X-TITLE=13-17 Gillies Range Road:geo:145.5837635,-17.2711597
END:VEVENT
BEGIN:VEVENT
DTSTART;TZID=Australia/Brisbane:20250718T190000
DTEND;TZID=Australia/Brisbane:20250718T200000
DTSTAMP:20260425T103029
CREATED:20250717T025458Z
LAST-MODIFIED:20250717T025458Z
UID:10005516-1752865200-1752868800@www.trc.qld.gov.au
SUMMARY:Turning on of the Lights!
DESCRIPTION:Another milestone will be reached on Friday 18 July when five major trees in Yungaburra village will be lit with thousands of fairy lights\, thanks to Brisbane Fairy Lights and local generous volunteers. Showcasing the trees is part of the Yungaburra Beautification Inc’s project committee’s enhancement plan for the village which began 13 years ago with the introduction of hanging flower baskets\, alongside several other projects including the village rotunda and restoration of the original century old kerosene streetlight. \nYungaburra Beautification Inc plans to coordinate the turning on of the tree lights with the already established lights that illuminate the cenotaph\, dancing brolgas which feature on the corner of Fig Street and the Gillies Highway\, and the original railway station identification sign. \nThe celebration is scheduled for 7:00 pm and those attending are asked to gather at Kehoe Park next to the Information Centre. \n  \n \n  \n 
URL:https://www.trc.qld.gov.au/event/turning-on-of-the-lights/
LOCATION:Maude Kehoe Park\, Kehoe Place\, Yungaburra\, Queensland\, 4884\, Australia
CATEGORIES:Community Event
ATTACH;FMTTYPE=image/jpeg:https://www.trc.qld.gov.au/wp-content/uploads/2025_07_YBI_Flyer_Turn-on-of-lights_20250709_190621_0000.jpg
ORGANIZER;CN="Yungaburra Beautification":MAILTO:fairleys@bigpond.com
GEO:-17.2707081;145.5831546
X-APPLE-STRUCTURED-LOCATION;VALUE=URI;X-ADDRESS=Maude Kehoe Park Kehoe Place Yungaburra Queensland 4884 Australia;X-APPLE-RADIUS=500;X-TITLE=Kehoe Place:geo:145.5831546,-17.2707081
END:VEVENT
BEGIN:VEVENT
DTSTART;TZID=Australia/Brisbane:20250511T150000
DTEND;TZID=Australia/Brisbane:20250511T170000
DTSTAMP:20260425T103029
CREATED:20250408T234601Z
LAST-MODIFIED:20250408T234601Z
UID:10005467-1746975600-1746982800@www.trc.qld.gov.au
SUMMARY:Sunday in the Park
DESCRIPTION:
URL:https://www.trc.qld.gov.au/event/sunday-in-the-park/
LOCATION:Yungaburra Rotunda\, Bruce Jones Park\, 13-17 Gillies Range Road\, Yungaburra\, Qld\, 4885\, Australia
CATEGORIES:Community Event
ATTACH;FMTTYPE=image/png:https://www.trc.qld.gov.au/wp-content/uploads/2025_05_YCR_Flyer_WCMC.png
ORGANIZER;CN="Yungaburra Beautification":MAILTO:fairleys@bigpond.com
GEO:-17.2711597;145.5837635
X-APPLE-STRUCTURED-LOCATION;VALUE=URI;X-ADDRESS=Yungaburra Rotunda Bruce Jones Park 13-17 Gillies Range Road Yungaburra Qld 4885 Australia;X-APPLE-RADIUS=500;X-TITLE=13-17 Gillies Range Road:geo:145.5837635,-17.2711597
END:VEVENT
BEGIN:VEVENT
DTSTART;TZID=Australia/Brisbane:20250413T150000
DTEND;TZID=Australia/Brisbane:20250413T170000
DTSTAMP:20260425T103029
CREATED:20250305T004417Z
LAST-MODIFIED:20250305T004417Z
UID:10005455-1744556400-1744563600@www.trc.qld.gov.au
SUMMARY:Sunday in the Park - Sonic Bloom
DESCRIPTION:The monthly Sunday in the Park concert\, hosted by the Yungaburra Community Rotunda\, will feature Sonic Bloom\, a local rotunda favourite. \nLed by Georgie and Tim Borella with Nick Watling on drums and Neil Hodgson on bass\, their music blends rock\, country\, blues\, and jazz with soulful harmonies and thoughtful lyrics. Enjoy the dynamic tunes of Sonic Bloom! \nHere are the details:\nDate: Sunday 13 April 2025\nTime: 3- 5 pm\nVenue: Yungaburra Community Rotunda \nThis is a family-friendly free event\, and if you wish\, you can donate directly to the band. All are welcome to attend!\nRemember to bring along a chair\, blanket\, or rug to reserve your piece of front-row lawn. Refreshments are available from nearby shops. Parking is available via Short Street. In case of rain\, the alternative venue will be the Yungaburra Community Hall \n 
URL:https://www.trc.qld.gov.au/event/sunday-in-the-park-sonic-bloom/
LOCATION:Yungaburra Rotunda\, Bruce Jones Park\, 13-17 Gillies Range Road\, Yungaburra\, Qld\, 4885\, Australia
CATEGORIES:Community Event
ORGANIZER;CN="Yungaburra Beautification":MAILTO:fairleys@bigpond.com
GEO:-17.2711597;145.5837635
X-APPLE-STRUCTURED-LOCATION;VALUE=URI;X-ADDRESS=Yungaburra Rotunda Bruce Jones Park 13-17 Gillies Range Road Yungaburra Qld 4885 Australia;X-APPLE-RADIUS=500;X-TITLE=13-17 Gillies Range Road:geo:145.5837635,-17.2711597
END:VEVENT
BEGIN:VEVENT
DTSTART;TZID=Australia/Brisbane:20250309T150000
DTEND;TZID=Australia/Brisbane:20250309T170000
DTSTAMP:20260425T103029
CREATED:20250204T041733Z
LAST-MODIFIED:20250204T041733Z
UID:10005373-1741532400-1741539600@www.trc.qld.gov.au
SUMMARY:Sunday in the Park - Atherton Hotshots
DESCRIPTION:The monthly Sunday in the Park concert\, hosted by the Yungaburra Community Rotunda\, will feature one of the region’s well known and amazing local bands\, the Atherton Hotshots Band!\nThis well-known local Band are known for their eclectic mix of big band music\, spanning from classic swing to modern pop. With a wide variety of music\, you are assured of an afternoon of musical entertainment to enchant and enjoy. \nHere are the details:\nDate: Sunday\, 9 March 2025\nTime: 3:00 PM to 5:00 PM\nVenue: Yungaburra Community Rotunda \nThis is a family-friendly free event\, and if you wish\, you can donate directly to the band. All are welcome to attend!\nRemember to bring along a chair\, blanket\, or rug to reserve your piece of front-row lawn. Refreshments are available from nearby shops. Parking is available via Short Street. In case of rain\, the alternative venue will be the Yungaburra Community Hall/Yungaburra Rec Shed \n 
URL:https://www.trc.qld.gov.au/event/sunday-in-the-park-atherton-hotshots/
LOCATION:Yungaburra Rotunda\, Bruce Jones Park\, 13-17 Gillies Range Road\, Yungaburra\, Qld\, 4885\, Australia
CATEGORIES:Community Event
ATTACH;FMTTYPE=image/png:https://www.trc.qld.gov.au/wp-content/uploads/2025_03_YCR_Flyer_Atherton-Hotshots.png
ORGANIZER;CN="Yungaburra Beautification":MAILTO:fairleys@bigpond.com
GEO:-17.2711597;145.5837635
X-APPLE-STRUCTURED-LOCATION;VALUE=URI;X-ADDRESS=Yungaburra Rotunda Bruce Jones Park 13-17 Gillies Range Road Yungaburra Qld 4885 Australia;X-APPLE-RADIUS=500;X-TITLE=13-17 Gillies Range Road:geo:145.5837635,-17.2711597
END:VEVENT
BEGIN:VEVENT
DTSTART;TZID=Australia/Brisbane:20250209T150000
DTEND;TZID=Australia/Brisbane:20250209T170000
DTSTAMP:20260425T103029
CREATED:20250114T011610Z
LAST-MODIFIED:20250114T011610Z
UID:10005283-1739113200-1739120400@www.trc.qld.gov.au
SUMMARY:Sunday in the Park - United Tableland Pipe Band
DESCRIPTION:Sunday in the Park – Tableland Pipe Band Concert – Yungaburra Rotunda \nSunday 9 February\, 3pm to 5pm.  Family friendly free event (you can donate directly to the band if you wish).  All are welcome to attend. \nBring along a chair\, blanket or rug\, hat or umbrella\, and reserve your piece of front row lawn!  Refreshments are available from nearby shops. \nParking is available via Short Street.  Alternative venue in case of rain – Yungaburra Rec Shed \nFor more information: https://www.facebook.com/share/156Hik12UF/ \n 
URL:https://www.trc.qld.gov.au/event/sunday-in-the-park-united-tableland-pipe-band/
LOCATION:Yungaburra Rotunda\, Bruce Jones Park\, 13-17 Gillies Range Road\, Yungaburra\, Qld\, 4885\, Australia
CATEGORIES:Community Event
ATTACH;FMTTYPE=image/png:https://www.trc.qld.gov.au/wp-content/uploads/2025_02_Poster_YCR_United-Tableland-Pipe-Band.png
ORGANIZER;CN="Yungaburra Beautification":MAILTO:fairleys@bigpond.com
GEO:-17.2711597;145.5837635
X-APPLE-STRUCTURED-LOCATION;VALUE=URI;X-ADDRESS=Yungaburra Rotunda Bruce Jones Park 13-17 Gillies Range Road Yungaburra Qld 4885 Australia;X-APPLE-RADIUS=500;X-TITLE=13-17 Gillies Range Road:geo:145.5837635,-17.2711597
END:VEVENT
BEGIN:VEVENT
DTSTART;TZID=Australia/Brisbane:20241222T180000
DTEND;TZID=Australia/Brisbane:20241222T200000
DTSTAMP:20260425T103029
CREATED:20241113T071557Z
LAST-MODIFIED:20241114T225818Z
UID:10005235-1734890400-1734897600@www.trc.qld.gov.au
SUMMARY:Yungaburra Christmas Concert
DESCRIPTION:
URL:https://www.trc.qld.gov.au/event/yungaburra-christmas-concert/
LOCATION:Yungaburra Rotunda\, Bruce Jones Park\, 13-17 Gillies Range Road\, Yungaburra\, Qld\, 4885\, Australia
CATEGORIES:Community Event
ORGANIZER;CN="Yungaburra Beautification":MAILTO:fairleys@bigpond.com
GEO:-17.2711597;145.5837635
X-APPLE-STRUCTURED-LOCATION;VALUE=URI;X-ADDRESS=Yungaburra Rotunda Bruce Jones Park 13-17 Gillies Range Road Yungaburra Qld 4885 Australia;X-APPLE-RADIUS=500;X-TITLE=13-17 Gillies Range Road:geo:145.5837635,-17.2711597
END:VEVENT
END:VCALENDAR