BEGIN:VCALENDAR
VERSION:2.0
PRODID:-//TRC - Tablelands Regional Council - ECPv6.15.20//NONSGML v1.0//EN
CALSCALE:GREGORIAN
METHOD:PUBLISH
X-WR-CALNAME:TRC - Tablelands Regional Council
X-ORIGINAL-URL:https://www.trc.qld.gov.au
X-WR-CALDESC:Events for TRC - Tablelands Regional Council
REFRESH-INTERVAL;VALUE=DURATION:PT1H
X-Robots-Tag:noindex
X-PUBLISHED-TTL:PT1H
BEGIN:VTIMEZONE
TZID:Australia/Brisbane
BEGIN:STANDARD
TZOFFSETFROM:+1000
TZOFFSETTO:+1000
TZNAME:AEST
DTSTART:20240101T000000
END:STANDARD
END:VTIMEZONE
BEGIN:VEVENT
DTSTART;TZID=Australia/Brisbane:20251221T073000
DTEND;TZID=Australia/Brisbane:20251221T123000
DTSTAMP:20260422T050041
CREATED:20251218T034059Z
LAST-MODIFIED:20251218T034059Z
UID:10005593-1766302200-1766320200@www.trc.qld.gov.au
SUMMARY:Yungaburra Christmas Markets
DESCRIPTION:All those last-minute bits and bobs\, the trimmings…..\nThe festive season has begun!\n\n\nThe Yungaburra Market is the biggest and oldest market on the Atherton Tablelands. On one day each month local producers gather on the commons in the middle of the historic village of Yungaburra to sell fresh produce\, flowers\, home made crafts\, local food\, wooden furniture\, clothing and just about anything else you can think of. \nDon’t forget to visit the Facebook page. \nFor more information contact Market Coordinator Nicole 0419 652663 or email info@yungaburramarkets.com
URL:https://www.trc.qld.gov.au/event/yungaburra-christmas-markets/
LOCATION:Bruce Jones Park\, Gillies Highway\, Yungaburra\, QLD\, 4884\, Australia
CATEGORIES:Community Event,Markets
ATTACH;FMTTYPE=image/png:https://www.trc.qld.gov.au/wp-content/uploads/Yungaburra-markets.png
ORGANIZER;CN="Yungaburra State School P&C Association":MAILTO:info@yungaburramarkets.com
GEO:-17.2734998;145.5825079
X-APPLE-STRUCTURED-LOCATION;VALUE=URI;X-ADDRESS=Bruce Jones Park Gillies Highway Yungaburra QLD 4884 Australia;X-APPLE-RADIUS=500;X-TITLE=Gillies Highway:geo:145.5825079,-17.2734998
END:VEVENT
BEGIN:VEVENT
DTSTART;TZID=Australia/Brisbane:20251122T073000
DTEND;TZID=Australia/Brisbane:20251122T123000
DTSTAMP:20260422T050041
CREATED:20250115T070100Z
LAST-MODIFIED:20250115T070100Z
UID:10005353-1763796600-1763814600@www.trc.qld.gov.au
SUMMARY:Yungaburra Markets
DESCRIPTION:Location: \nBruce Jones Park \nGillies Highway\, Yungaburra \n  \nInformation: \nTime: 7.30am-12.30pm \n  \nThe Yungaburra Market is the biggest and oldest market on the Atherton Tablelands. On one day each month local producers gather on the commons in the middle of the historic village of Yungaburra to sell fresh produce\, flowers\, home made crafts\, local food\, wooden furniture\, clothing and just about anything else you can think of. \n  \nThe date for the December market will change. \n  \nDon’t forget to visit the Facebook page. \n  \nFor more information contact Market Coordinator Nicole 0419 652663 or email info@yungaburramarkets.com
URL:https://www.trc.qld.gov.au/event/yungaburra-markets/2025-11-22/
LOCATION:Bruce Jones Market Park\, Gillies Highway\, Yungaburra\, QLD\, 4884\, Australia
CATEGORIES:Community Event,Council event,Markets
ATTACH;FMTTYPE=image/png:https://www.trc.qld.gov.au/wp-content/uploads/Yungaburra-Markets-logo-1.png
ORGANIZER;CN="Yungaburra State School P&C Association":MAILTO:info@yungaburramarkets.com
GEO:-17.2730663;145.6114448
X-APPLE-STRUCTURED-LOCATION;VALUE=URI;X-ADDRESS=Bruce Jones Market Park Gillies Highway Yungaburra QLD 4884 Australia;X-APPLE-RADIUS=500;X-TITLE=Gillies Highway:geo:145.6114448,-17.2730663
END:VEVENT
BEGIN:VEVENT
DTSTART;TZID=Australia/Brisbane:20251025T073000
DTEND;TZID=Australia/Brisbane:20251025T123000
DTSTAMP:20260422T050041
CREATED:20250115T070100Z
LAST-MODIFIED:20250115T070100Z
UID:10005352-1761377400-1761395400@www.trc.qld.gov.au
SUMMARY:Yungaburra Markets
DESCRIPTION:Location: \nBruce Jones Park \nGillies Highway\, Yungaburra \n  \nInformation: \nTime: 7.30am-12.30pm \n  \nThe Yungaburra Market is the biggest and oldest market on the Atherton Tablelands. On one day each month local producers gather on the commons in the middle of the historic village of Yungaburra to sell fresh produce\, flowers\, home made crafts\, local food\, wooden furniture\, clothing and just about anything else you can think of. \n  \nThe date for the December market will change. \n  \nDon’t forget to visit the Facebook page. \n  \nFor more information contact Market Coordinator Nicole 0419 652663 or email info@yungaburramarkets.com
URL:https://www.trc.qld.gov.au/event/yungaburra-markets/2025-10-25/
LOCATION:Bruce Jones Market Park\, Gillies Highway\, Yungaburra\, QLD\, 4884\, Australia
CATEGORIES:Community Event,Council event,Markets
ATTACH;FMTTYPE=image/png:https://www.trc.qld.gov.au/wp-content/uploads/Yungaburra-Markets-logo-1.png
ORGANIZER;CN="Yungaburra State School P&C Association":MAILTO:info@yungaburramarkets.com
GEO:-17.2730663;145.6114448
X-APPLE-STRUCTURED-LOCATION;VALUE=URI;X-ADDRESS=Bruce Jones Market Park Gillies Highway Yungaburra QLD 4884 Australia;X-APPLE-RADIUS=500;X-TITLE=Gillies Highway:geo:145.6114448,-17.2730663
END:VEVENT
BEGIN:VEVENT
DTSTART;TZID=Australia/Brisbane:20250927T073000
DTEND;TZID=Australia/Brisbane:20250927T123000
DTSTAMP:20260422T050041
CREATED:20250115T070100Z
LAST-MODIFIED:20250115T070100Z
UID:10005351-1758958200-1758976200@www.trc.qld.gov.au
SUMMARY:Yungaburra Markets
DESCRIPTION:Location: \nBruce Jones Park \nGillies Highway\, Yungaburra \n  \nInformation: \nTime: 7.30am-12.30pm \n  \nThe Yungaburra Market is the biggest and oldest market on the Atherton Tablelands. On one day each month local producers gather on the commons in the middle of the historic village of Yungaburra to sell fresh produce\, flowers\, home made crafts\, local food\, wooden furniture\, clothing and just about anything else you can think of. \n  \nThe date for the December market will change. \n  \nDon’t forget to visit the Facebook page. \n  \nFor more information contact Market Coordinator Nicole 0419 652663 or email info@yungaburramarkets.com
URL:https://www.trc.qld.gov.au/event/yungaburra-markets/2025-09-27/
LOCATION:Bruce Jones Market Park\, Gillies Highway\, Yungaburra\, QLD\, 4884\, Australia
CATEGORIES:Community Event,Council event,Markets
ATTACH;FMTTYPE=image/png:https://www.trc.qld.gov.au/wp-content/uploads/Yungaburra-Markets-logo-1.png
ORGANIZER;CN="Yungaburra State School P&C Association":MAILTO:info@yungaburramarkets.com
GEO:-17.2730663;145.6114448
X-APPLE-STRUCTURED-LOCATION;VALUE=URI;X-ADDRESS=Bruce Jones Market Park Gillies Highway Yungaburra QLD 4884 Australia;X-APPLE-RADIUS=500;X-TITLE=Gillies Highway:geo:145.6114448,-17.2730663
END:VEVENT
BEGIN:VEVENT
DTSTART;TZID=Australia/Brisbane:20250823T073000
DTEND;TZID=Australia/Brisbane:20250823T123000
DTSTAMP:20260422T050042
CREATED:20250115T070100Z
LAST-MODIFIED:20250115T070100Z
UID:10005350-1755934200-1755952200@www.trc.qld.gov.au
SUMMARY:Yungaburra Markets
DESCRIPTION:Location: \nBruce Jones Park \nGillies Highway\, Yungaburra \n  \nInformation: \nTime: 7.30am-12.30pm \n  \nThe Yungaburra Market is the biggest and oldest market on the Atherton Tablelands. On one day each month local producers gather on the commons in the middle of the historic village of Yungaburra to sell fresh produce\, flowers\, home made crafts\, local food\, wooden furniture\, clothing and just about anything else you can think of. \n  \nThe date for the December market will change. \n  \nDon’t forget to visit the Facebook page. \n  \nFor more information contact Market Coordinator Nicole 0419 652663 or email info@yungaburramarkets.com
URL:https://www.trc.qld.gov.au/event/yungaburra-markets/2025-08-23/
LOCATION:Bruce Jones Market Park\, Gillies Highway\, Yungaburra\, QLD\, 4884\, Australia
CATEGORIES:Community Event,Council event,Markets
ATTACH;FMTTYPE=image/png:https://www.trc.qld.gov.au/wp-content/uploads/Yungaburra-Markets-logo-1.png
ORGANIZER;CN="Yungaburra State School P&C Association":MAILTO:info@yungaburramarkets.com
GEO:-17.2730663;145.6114448
X-APPLE-STRUCTURED-LOCATION;VALUE=URI;X-ADDRESS=Bruce Jones Market Park Gillies Highway Yungaburra QLD 4884 Australia;X-APPLE-RADIUS=500;X-TITLE=Gillies Highway:geo:145.6114448,-17.2730663
END:VEVENT
BEGIN:VEVENT
DTSTART;TZID=Australia/Brisbane:20250726T073000
DTEND;TZID=Australia/Brisbane:20250726T123000
DTSTAMP:20260422T050042
CREATED:20250115T070100Z
LAST-MODIFIED:20250115T070100Z
UID:10005349-1753515000-1753533000@www.trc.qld.gov.au
SUMMARY:Yungaburra Markets
DESCRIPTION:Location: \nBruce Jones Park \nGillies Highway\, Yungaburra \n  \nInformation: \nTime: 7.30am-12.30pm \n  \nThe Yungaburra Market is the biggest and oldest market on the Atherton Tablelands. On one day each month local producers gather on the commons in the middle of the historic village of Yungaburra to sell fresh produce\, flowers\, home made crafts\, local food\, wooden furniture\, clothing and just about anything else you can think of. \n  \nThe date for the December market will change. \n  \nDon’t forget to visit the Facebook page. \n  \nFor more information contact Market Coordinator Nicole 0419 652663 or email info@yungaburramarkets.com
URL:https://www.trc.qld.gov.au/event/yungaburra-markets/2025-07-26/
LOCATION:Bruce Jones Market Park\, Gillies Highway\, Yungaburra\, QLD\, 4884\, Australia
CATEGORIES:Community Event,Council event,Markets
ATTACH;FMTTYPE=image/png:https://www.trc.qld.gov.au/wp-content/uploads/Yungaburra-Markets-logo-1.png
ORGANIZER;CN="Yungaburra State School P&C Association":MAILTO:info@yungaburramarkets.com
GEO:-17.2730663;145.6114448
X-APPLE-STRUCTURED-LOCATION;VALUE=URI;X-ADDRESS=Bruce Jones Market Park Gillies Highway Yungaburra QLD 4884 Australia;X-APPLE-RADIUS=500;X-TITLE=Gillies Highway:geo:145.6114448,-17.2730663
END:VEVENT
BEGIN:VEVENT
DTSTART;TZID=Australia/Brisbane:20250628T073000
DTEND;TZID=Australia/Brisbane:20250628T123000
DTSTAMP:20260422T050042
CREATED:20250115T070100Z
LAST-MODIFIED:20250115T070100Z
UID:10005348-1751095800-1751113800@www.trc.qld.gov.au
SUMMARY:Yungaburra Markets
DESCRIPTION:Location: \nBruce Jones Park \nGillies Highway\, Yungaburra \n  \nInformation: \nTime: 7.30am-12.30pm \n  \nThe Yungaburra Market is the biggest and oldest market on the Atherton Tablelands. On one day each month local producers gather on the commons in the middle of the historic village of Yungaburra to sell fresh produce\, flowers\, home made crafts\, local food\, wooden furniture\, clothing and just about anything else you can think of. \n  \nThe date for the December market will change. \n  \nDon’t forget to visit the Facebook page. \n  \nFor more information contact Market Coordinator Nicole 0419 652663 or email info@yungaburramarkets.com
URL:https://www.trc.qld.gov.au/event/yungaburra-markets/2025-06-28/
LOCATION:Bruce Jones Market Park\, Gillies Highway\, Yungaburra\, QLD\, 4884\, Australia
CATEGORIES:Community Event,Council event,Markets
ATTACH;FMTTYPE=image/png:https://www.trc.qld.gov.au/wp-content/uploads/Yungaburra-Markets-logo-1.png
ORGANIZER;CN="Yungaburra State School P&C Association":MAILTO:info@yungaburramarkets.com
GEO:-17.2730663;145.6114448
X-APPLE-STRUCTURED-LOCATION;VALUE=URI;X-ADDRESS=Bruce Jones Market Park Gillies Highway Yungaburra QLD 4884 Australia;X-APPLE-RADIUS=500;X-TITLE=Gillies Highway:geo:145.6114448,-17.2730663
END:VEVENT
BEGIN:VEVENT
DTSTART;TZID=Australia/Brisbane:20250524T073000
DTEND;TZID=Australia/Brisbane:20250524T123000
DTSTAMP:20260422T050042
CREATED:20250115T070100Z
LAST-MODIFIED:20250115T070100Z
UID:10005347-1748071800-1748089800@www.trc.qld.gov.au
SUMMARY:Yungaburra Markets
DESCRIPTION:Location: \nBruce Jones Park \nGillies Highway\, Yungaburra \n  \nInformation: \nTime: 7.30am-12.30pm \n  \nThe Yungaburra Market is the biggest and oldest market on the Atherton Tablelands. On one day each month local producers gather on the commons in the middle of the historic village of Yungaburra to sell fresh produce\, flowers\, home made crafts\, local food\, wooden furniture\, clothing and just about anything else you can think of. \n  \nThe date for the December market will change. \n  \nDon’t forget to visit the Facebook page. \n  \nFor more information contact Market Coordinator Nicole 0419 652663 or email info@yungaburramarkets.com
URL:https://www.trc.qld.gov.au/event/yungaburra-markets/2025-05-24/
LOCATION:Bruce Jones Market Park\, Gillies Highway\, Yungaburra\, QLD\, 4884\, Australia
CATEGORIES:Community Event,Council event,Markets
ATTACH;FMTTYPE=image/png:https://www.trc.qld.gov.au/wp-content/uploads/Yungaburra-Markets-logo-1.png
ORGANIZER;CN="Yungaburra State School P&C Association":MAILTO:info@yungaburramarkets.com
GEO:-17.2730663;145.6114448
X-APPLE-STRUCTURED-LOCATION;VALUE=URI;X-ADDRESS=Bruce Jones Market Park Gillies Highway Yungaburra QLD 4884 Australia;X-APPLE-RADIUS=500;X-TITLE=Gillies Highway:geo:145.6114448,-17.2730663
END:VEVENT
BEGIN:VEVENT
DTSTART;TZID=Australia/Brisbane:20250426T073000
DTEND;TZID=Australia/Brisbane:20250426T123000
DTSTAMP:20260422T050042
CREATED:20250115T070100Z
LAST-MODIFIED:20250115T070100Z
UID:10005346-1745652600-1745670600@www.trc.qld.gov.au
SUMMARY:Yungaburra Markets
DESCRIPTION:Location: \nBruce Jones Park \nGillies Highway\, Yungaburra \n  \nInformation: \nTime: 7.30am-12.30pm \n  \nThe Yungaburra Market is the biggest and oldest market on the Atherton Tablelands. On one day each month local producers gather on the commons in the middle of the historic village of Yungaburra to sell fresh produce\, flowers\, home made crafts\, local food\, wooden furniture\, clothing and just about anything else you can think of. \n  \nThe date for the December market will change. \n  \nDon’t forget to visit the Facebook page. \n  \nFor more information contact Market Coordinator Nicole 0419 652663 or email info@yungaburramarkets.com
URL:https://www.trc.qld.gov.au/event/yungaburra-markets/2025-04-26/
LOCATION:Bruce Jones Market Park\, Gillies Highway\, Yungaburra\, QLD\, 4884\, Australia
CATEGORIES:Community Event,Council event,Markets
ATTACH;FMTTYPE=image/png:https://www.trc.qld.gov.au/wp-content/uploads/Yungaburra-Markets-logo-1.png
ORGANIZER;CN="Yungaburra State School P&C Association":MAILTO:info@yungaburramarkets.com
GEO:-17.2730663;145.6114448
X-APPLE-STRUCTURED-LOCATION;VALUE=URI;X-ADDRESS=Bruce Jones Market Park Gillies Highway Yungaburra QLD 4884 Australia;X-APPLE-RADIUS=500;X-TITLE=Gillies Highway:geo:145.6114448,-17.2730663
END:VEVENT
BEGIN:VEVENT
DTSTART;TZID=Australia/Brisbane:20250322T073000
DTEND;TZID=Australia/Brisbane:20250322T123000
DTSTAMP:20260422T050042
CREATED:20250115T070100Z
LAST-MODIFIED:20250115T070100Z
UID:10005345-1742628600-1742646600@www.trc.qld.gov.au
SUMMARY:Yungaburra Markets
DESCRIPTION:Location: \nBruce Jones Park \nGillies Highway\, Yungaburra \n  \nInformation: \nTime: 7.30am-12.30pm \n  \nThe Yungaburra Market is the biggest and oldest market on the Atherton Tablelands. On one day each month local producers gather on the commons in the middle of the historic village of Yungaburra to sell fresh produce\, flowers\, home made crafts\, local food\, wooden furniture\, clothing and just about anything else you can think of. \n  \nThe date for the December market will change. \n  \nDon’t forget to visit the Facebook page. \n  \nFor more information contact Market Coordinator Nicole 0419 652663 or email info@yungaburramarkets.com
URL:https://www.trc.qld.gov.au/event/yungaburra-markets/2025-03-22/
LOCATION:Bruce Jones Market Park\, Gillies Highway\, Yungaburra\, QLD\, 4884\, Australia
CATEGORIES:Community Event,Council event,Markets
ATTACH;FMTTYPE=image/png:https://www.trc.qld.gov.au/wp-content/uploads/Yungaburra-Markets-logo-1.png
ORGANIZER;CN="Yungaburra State School P&C Association":MAILTO:info@yungaburramarkets.com
GEO:-17.2730663;145.6114448
X-APPLE-STRUCTURED-LOCATION;VALUE=URI;X-ADDRESS=Bruce Jones Market Park Gillies Highway Yungaburra QLD 4884 Australia;X-APPLE-RADIUS=500;X-TITLE=Gillies Highway:geo:145.6114448,-17.2730663
END:VEVENT
BEGIN:VEVENT
DTSTART;TZID=Australia/Brisbane:20250222T073000
DTEND;TZID=Australia/Brisbane:20250222T123000
DTSTAMP:20260422T050042
CREATED:20250115T070100Z
LAST-MODIFIED:20250115T070100Z
UID:10005344-1740209400-1740227400@www.trc.qld.gov.au
SUMMARY:Yungaburra Markets
DESCRIPTION:Location: \nBruce Jones Park \nGillies Highway\, Yungaburra \n  \nInformation: \nTime: 7.30am-12.30pm \n  \nThe Yungaburra Market is the biggest and oldest market on the Atherton Tablelands. On one day each month local producers gather on the commons in the middle of the historic village of Yungaburra to sell fresh produce\, flowers\, home made crafts\, local food\, wooden furniture\, clothing and just about anything else you can think of. \n  \nThe date for the December market will change. \n  \nDon’t forget to visit the Facebook page. \n  \nFor more information contact Market Coordinator Nicole 0419 652663 or email info@yungaburramarkets.com
URL:https://www.trc.qld.gov.au/event/yungaburra-markets/2025-02-22/
LOCATION:Bruce Jones Market Park\, Gillies Highway\, Yungaburra\, QLD\, 4884\, Australia
CATEGORIES:Community Event,Council event,Markets
ATTACH;FMTTYPE=image/png:https://www.trc.qld.gov.au/wp-content/uploads/Yungaburra-Markets-logo-1.png
ORGANIZER;CN="Yungaburra State School P&C Association":MAILTO:info@yungaburramarkets.com
GEO:-17.2730663;145.6114448
X-APPLE-STRUCTURED-LOCATION;VALUE=URI;X-ADDRESS=Bruce Jones Market Park Gillies Highway Yungaburra QLD 4884 Australia;X-APPLE-RADIUS=500;X-TITLE=Gillies Highway:geo:145.6114448,-17.2730663
END:VEVENT
BEGIN:VEVENT
DTSTART;TZID=Australia/Brisbane:20250125T073000
DTEND;TZID=Australia/Brisbane:20250125T123000
DTSTAMP:20260422T050042
CREATED:20250115T070100Z
LAST-MODIFIED:20250115T070100Z
UID:10005343-1737790200-1737808200@www.trc.qld.gov.au
SUMMARY:Yungaburra Markets
DESCRIPTION:Location: \nBruce Jones Park \nGillies Highway\, Yungaburra \n  \nInformation: \nTime: 7.30am-12.30pm \n  \nThe Yungaburra Market is the biggest and oldest market on the Atherton Tablelands. On one day each month local producers gather on the commons in the middle of the historic village of Yungaburra to sell fresh produce\, flowers\, home made crafts\, local food\, wooden furniture\, clothing and just about anything else you can think of. \n  \nThe date for the December market will change. \n  \nDon’t forget to visit the Facebook page. \n  \nFor more information contact Market Coordinator Nicole 0419 652663 or email info@yungaburramarkets.com
URL:https://www.trc.qld.gov.au/event/yungaburra-markets/2025-01-25/
LOCATION:Bruce Jones Market Park\, Gillies Highway\, Yungaburra\, QLD\, 4884\, Australia
CATEGORIES:Community Event,Council event,Markets
ATTACH;FMTTYPE=image/png:https://www.trc.qld.gov.au/wp-content/uploads/Yungaburra-Markets-logo-1.png
ORGANIZER;CN="Yungaburra State School P&C Association":MAILTO:info@yungaburramarkets.com
GEO:-17.2730663;145.6114448
X-APPLE-STRUCTURED-LOCATION;VALUE=URI;X-ADDRESS=Bruce Jones Market Park Gillies Highway Yungaburra QLD 4884 Australia;X-APPLE-RADIUS=500;X-TITLE=Gillies Highway:geo:145.6114448,-17.2730663
END:VEVENT
END:VCALENDAR