BEGIN:VCALENDAR
VERSION:2.0
PRODID:-//TRC - Tablelands Regional Council - ECPv6.15.20//NONSGML v1.0//EN
CALSCALE:GREGORIAN
METHOD:PUBLISH
X-WR-CALNAME:TRC - Tablelands Regional Council
X-ORIGINAL-URL:https://www.trc.qld.gov.au
X-WR-CALDESC:Events for TRC - Tablelands Regional Council
REFRESH-INTERVAL;VALUE=DURATION:PT1H
X-Robots-Tag:noindex
X-PUBLISHED-TTL:PT1H
BEGIN:VTIMEZONE
TZID:Australia/Brisbane
BEGIN:STANDARD
TZOFFSETFROM:+1000
TZOFFSETTO:+1000
TZNAME:AEST
DTSTART:20240101T000000
END:STANDARD
END:VTIMEZONE
BEGIN:VEVENT
DTSTART;TZID=Australia/Brisbane:20260124T103000
DTEND;TZID=Australia/Brisbane:20260124T113000
DTSTAMP:20260422T213234
CREATED:20260109T054807Z
LAST-MODIFIED:20260109T054807Z
UID:10005604-1769250600-1769254200@www.trc.qld.gov.au
SUMMARY:Glimpses - Exhibition Opening
DESCRIPTION:
URL:https://www.trc.qld.gov.au/event/glimpses-exhibition-opening/
LOCATION:Tablelands Regional Gallery\, 16 Robert Street\, Atherton\, Queensland\, 4883\, Australia
CATEGORIES:Community Event
ATTACH;FMTTYPE=image/jpeg:https://www.trc.qld.gov.au/wp-content/uploads/Glimpses.jpg
ORGANIZER;CN="Tablelands Regional Council":MAILTO:info@trc.qld.gov.au
GEO:-17.2688418;145.4788811
X-APPLE-STRUCTURED-LOCATION;VALUE=URI;X-ADDRESS=Tablelands Regional Gallery 16 Robert Street Atherton Queensland 4883 Australia;X-APPLE-RADIUS=500;X-TITLE=16 Robert Street:geo:145.4788811,-17.2688418
END:VEVENT
BEGIN:VEVENT
DTSTART;TZID=Australia/Brisbane:20251129T103000
DTEND;TZID=Australia/Brisbane:20251129T113000
DTSTAMP:20260422T213234
CREATED:20251127T041237Z
LAST-MODIFIED:20251127T041237Z
UID:10005578-1764412200-1764415800@www.trc.qld.gov.au
SUMMARY:Artist Talk
DESCRIPTION:
URL:https://www.trc.qld.gov.au/event/artist-talk/
LOCATION:Tablelands Regional Gallery\, 16 Robert Street\, Atherton\, Queensland\, 4883\, Australia
CATEGORIES:Community Event
ORGANIZER;CN="Tablelands Regional Council":MAILTO:info@trc.qld.gov.au
GEO:-17.2688418;145.4788811
X-APPLE-STRUCTURED-LOCATION;VALUE=URI;X-ADDRESS=Tablelands Regional Gallery 16 Robert Street Atherton Queensland 4883 Australia;X-APPLE-RADIUS=500;X-TITLE=16 Robert Street:geo:145.4788811,-17.2688418
END:VEVENT
BEGIN:VEVENT
DTSTART;TZID=Australia/Brisbane:20251128T170000
DTEND;TZID=Australia/Brisbane:20251128T200000
DTSTAMP:20260422T213234
CREATED:20251127T041037Z
LAST-MODIFIED:20251127T041037Z
UID:10005577-1764349200-1764360000@www.trc.qld.gov.au
SUMMARY:Miracles - Exhibition Opening
DESCRIPTION:
URL:https://www.trc.qld.gov.au/event/miracles-exhibition-opening/
LOCATION:Tablelands Regional Gallery\, 16 Robert Street\, Atherton\, Queensland\, 4883\, Australia
CATEGORIES:Community Event
ATTACH;FMTTYPE=image/jpeg:https://www.trc.qld.gov.au/wp-content/uploads/Miracles_Flyer_Email.jpg
ORGANIZER;CN="Tablelands Regional Council":MAILTO:info@trc.qld.gov.au
GEO:-17.2688418;145.4788811
X-APPLE-STRUCTURED-LOCATION;VALUE=URI;X-ADDRESS=Tablelands Regional Gallery 16 Robert Street Atherton Queensland 4883 Australia;X-APPLE-RADIUS=500;X-TITLE=16 Robert Street:geo:145.4788811,-17.2688418
END:VEVENT
BEGIN:VEVENT
DTSTART;TZID=Australia/Brisbane:20251115T090000
DTEND;TZID=Australia/Brisbane:20251115T150000
DTSTAMP:20260422T213234
CREATED:20250915T041239Z
LAST-MODIFIED:20251114T065803Z
UID:10005540-1763197200-1763218800@www.trc.qld.gov.au
SUMMARY:Living Well Expo
DESCRIPTION:  \n  \n \n  \n  \n  \n  \n  \n  \n  \n  \n  \n.
URL:https://www.trc.qld.gov.au/event/living-well-expo/
LOCATION:Merriland Hall\, Atherton Show Grounds\, 10 Louise Street\, Atherton\, QLD\, 4883\, Australia
CATEGORIES:Community Event
ATTACH;FMTTYPE=image/jpeg:https://www.trc.qld.gov.au/wp-content/uploads/Flyer-Living-Well-Expo-2025-scaled.jpg
ORGANIZER;CN="Tablelands Regional Council":MAILTO:info@trc.qld.gov.au
GEO:-17.268407;145.482722
X-APPLE-STRUCTURED-LOCATION;VALUE=URI;X-ADDRESS=Merriland Hall Atherton Show Grounds 10 Louise Street Atherton QLD 4883 Australia;X-APPLE-RADIUS=500;X-TITLE=10 Louise Street:geo:145.482722,-17.268407
END:VEVENT
BEGIN:VEVENT
DTSTART;TZID=Australia/Brisbane:20250911T100000
DTEND;TZID=Australia/Brisbane:20250911T120000
DTSTAMP:20260422T213234
CREATED:20250513T024203Z
LAST-MODIFIED:20250513T024203Z
UID:10005481-1757584800-1757592000@www.trc.qld.gov.au
SUMMARY:Tablelands Food Safari
DESCRIPTION:
URL:https://www.trc.qld.gov.au/event/tablelands-food-safari/2025-09-11/
LOCATION:Atherton Visitor Information Centre\, Corner Silo Road and Main Street\, Atherton\, Qld\, 4883\, Australia
CATEGORIES:Community Event
ATTACH;FMTTYPE=image/png:https://www.trc.qld.gov.au/wp-content/uploads/Flyer-Food-Safari-1.png
ORGANIZER;CN="Tablelands Regional Council":MAILTO:info@trc.qld.gov.au
GEO:-17.2651822;145.4762435
X-APPLE-STRUCTURED-LOCATION;VALUE=URI;X-ADDRESS=Atherton Visitor Information Centre Corner Silo Road and Main Street Atherton Qld 4883 Australia;X-APPLE-RADIUS=500;X-TITLE=Corner Silo Road and Main Street:geo:145.4762435,-17.2651822
END:VEVENT
BEGIN:VEVENT
DTSTART;TZID=Australia/Brisbane:20250817T093000
DTEND;TZID=Australia/Brisbane:20250817T140000
DTSTAMP:20260422T213234
CREATED:20250704T050931Z
LAST-MODIFIED:20250704T050931Z
UID:10005514-1755423000-1755439200@www.trc.qld.gov.au
SUMMARY:80 Years of VP Day
DESCRIPTION:
URL:https://www.trc.qld.gov.au/event/80-years-of-vp-day-3/
LOCATION:Rocky Creek War Memorial Park\, Kennedy Highway\, Tolga\, 4882\, Australia
CATEGORIES:Community Event
ATTACH;FMTTYPE=image/jpeg:https://www.trc.qld.gov.au/wp-content/uploads/Flyer-print-scaled.jpg
ORGANIZER;CN="Tablelands Regional Council":MAILTO:info@trc.qld.gov.au
GEO:-17.1944254;145.4714361
X-APPLE-STRUCTURED-LOCATION;VALUE=URI;X-ADDRESS=Rocky Creek War Memorial Park Kennedy Highway Tolga 4882 Australia;X-APPLE-RADIUS=500;X-TITLE=Kennedy Highway:geo:145.4714361,-17.1944254
END:VEVENT
BEGIN:VEVENT
DTSTART;TZID=Australia/Brisbane:20250816T083000
DTEND;TZID=Australia/Brisbane:20250816T230000
DTSTAMP:20260422T213234
CREATED:20250704T050706Z
LAST-MODIFIED:20250704T050706Z
UID:10005513-1755333000-1755385200@www.trc.qld.gov.au
SUMMARY:80 Years of VP Day
DESCRIPTION:
URL:https://www.trc.qld.gov.au/event/80-years-of-vp-day-2/
LOCATION:Rocky Creek WWII Igloo\, Frazer Road\, Tolga\, Qld\, 4882\, Australia
CATEGORIES:Community Event
ATTACH;FMTTYPE=image/jpeg:https://www.trc.qld.gov.au/wp-content/uploads/Flyer-print-scaled.jpg
ORGANIZER;CN="Tablelands Regional Council":MAILTO:info@trc.qld.gov.au
GEO:-17.1875915;145.4582989
X-APPLE-STRUCTURED-LOCATION;VALUE=URI;X-ADDRESS=Rocky Creek WWII Igloo Frazer Road Tolga Qld 4882 Australia;X-APPLE-RADIUS=500;X-TITLE=Frazer Road:geo:145.4582989,-17.1875915
END:VEVENT
BEGIN:VEVENT
DTSTART;TZID=Australia/Brisbane:20250815T110000
DTEND;TZID=Australia/Brisbane:20250815T220000
DTSTAMP:20260422T213234
CREATED:20250704T045721Z
LAST-MODIFIED:20250704T045934Z
UID:10005512-1755255600-1755295200@www.trc.qld.gov.au
SUMMARY:80 Years of VP Day
DESCRIPTION:
URL:https://www.trc.qld.gov.au/event/80-years-of-vp-day/
LOCATION:Rocky Creek WWII Igloo\, Frazer Road\, Tolga\, Qld\, 4882\, Australia
CATEGORIES:Community Event
ATTACH;FMTTYPE=image/jpeg:https://www.trc.qld.gov.au/wp-content/uploads/Flyer-print-scaled.jpg
ORGANIZER;CN="Tablelands Regional Council":MAILTO:info@trc.qld.gov.au
GEO:-17.1875915;145.4582989
X-APPLE-STRUCTURED-LOCATION;VALUE=URI;X-ADDRESS=Rocky Creek WWII Igloo Frazer Road Tolga Qld 4882 Australia;X-APPLE-RADIUS=500;X-TITLE=Frazer Road:geo:145.4582989,-17.1875915
END:VEVENT
BEGIN:VEVENT
DTSTART;TZID=Australia/Brisbane:20250814T100000
DTEND;TZID=Australia/Brisbane:20250814T120000
DTSTAMP:20260422T213234
CREATED:20250513T024203Z
LAST-MODIFIED:20250513T024203Z
UID:10005480-1755165600-1755172800@www.trc.qld.gov.au
SUMMARY:Tablelands Food Safari
DESCRIPTION:
URL:https://www.trc.qld.gov.au/event/tablelands-food-safari/2025-08-14/
LOCATION:Atherton Visitor Information Centre\, Corner Silo Road and Main Street\, Atherton\, Qld\, 4883\, Australia
CATEGORIES:Community Event
ATTACH;FMTTYPE=image/png:https://www.trc.qld.gov.au/wp-content/uploads/Flyer-Food-Safari-1.png
ORGANIZER;CN="Tablelands Regional Council":MAILTO:info@trc.qld.gov.au
GEO:-17.2651822;145.4762435
X-APPLE-STRUCTURED-LOCATION;VALUE=URI;X-ADDRESS=Atherton Visitor Information Centre Corner Silo Road and Main Street Atherton Qld 4883 Australia;X-APPLE-RADIUS=500;X-TITLE=Corner Silo Road and Main Street:geo:145.4762435,-17.2651822
END:VEVENT
BEGIN:VEVENT
DTSTART;TZID=Australia/Brisbane:20250710T100000
DTEND;TZID=Australia/Brisbane:20250710T120000
DTSTAMP:20260422T213234
CREATED:20250513T024203Z
LAST-MODIFIED:20250513T024203Z
UID:10005479-1752141600-1752148800@www.trc.qld.gov.au
SUMMARY:Tablelands Food Safari
DESCRIPTION:
URL:https://www.trc.qld.gov.au/event/tablelands-food-safari/2025-07-10/
LOCATION:Atherton Visitor Information Centre\, Corner Silo Road and Main Street\, Atherton\, Qld\, 4883\, Australia
CATEGORIES:Community Event
ATTACH;FMTTYPE=image/png:https://www.trc.qld.gov.au/wp-content/uploads/Flyer-Food-Safari-1.png
ORGANIZER;CN="Tablelands Regional Council":MAILTO:info@trc.qld.gov.au
GEO:-17.2651822;145.4762435
X-APPLE-STRUCTURED-LOCATION;VALUE=URI;X-ADDRESS=Atherton Visitor Information Centre Corner Silo Road and Main Street Atherton Qld 4883 Australia;X-APPLE-RADIUS=500;X-TITLE=Corner Silo Road and Main Street:geo:145.4762435,-17.2651822
END:VEVENT
BEGIN:VEVENT
DTSTART;TZID=Australia/Brisbane:20250707T100000
DTEND;TZID=Australia/Brisbane:20250707T113000
DTSTAMP:20260422T213234
CREATED:20250616T022040Z
LAST-MODIFIED:20250616T022040Z
UID:10005503-1751882400-1751887800@www.trc.qld.gov.au
SUMMARY:NAIDOC Week Flag Raising Ceremony
DESCRIPTION:
URL:https://www.trc.qld.gov.au/event/naidoc-week-flag-raising-ceremony/
LOCATION:Tablelands Regional Council\, 45 Mabel Street\, Atherton\, Qld\, 4883\, Australia
CATEGORIES:Community Event
ATTACH;FMTTYPE=image/jpeg:https://www.trc.qld.gov.au/wp-content/uploads/2025-NAIDOC-Week-Invitation-scaled.jpg
ORGANIZER;CN="Tablelands Regional Council":MAILTO:info@trc.qld.gov.au
GEO:-17.267158;145.476206
X-APPLE-STRUCTURED-LOCATION;VALUE=URI;X-ADDRESS=Tablelands Regional Council 45 Mabel Street Atherton Qld 4883 Australia;X-APPLE-RADIUS=500;X-TITLE=45 Mabel Street:geo:145.476206,-17.267158
END:VEVENT
BEGIN:VEVENT
DTSTART;TZID=Australia/Brisbane:20250627T170000
DTEND;TZID=Australia/Brisbane:20250627T200000
DTSTAMP:20260422T213234
CREATED:20250624T232431Z
LAST-MODIFIED:20250624T232846Z
UID:10005510-1751043600-1751054400@www.trc.qld.gov.au
SUMMARY:Exhibition Opening - Changing Light by Antonia Chew
DESCRIPTION:
URL:https://www.trc.qld.gov.au/event/exhibition-opening-changing-light-by-antonia-chew/
LOCATION:Old Post Office Gallery\, 86 Herberton Road\, Atherton \, Queensland\, 4883\, Australia
CATEGORIES:Community Event
ATTACH;FMTTYPE=image/jpeg:https://www.trc.qld.gov.au/wp-content/uploads/Changing-Light-email-flyer-scaled.jpg
ORGANIZER;CN="Tablelands Regional Council":MAILTO:info@trc.qld.gov.au
GEO:-17.2776238;145.471098
X-APPLE-STRUCTURED-LOCATION;VALUE=URI;X-ADDRESS=Old Post Office Gallery 86 Herberton Road Atherton  Queensland 4883 Australia;X-APPLE-RADIUS=500;X-TITLE=86 Herberton Road:geo:145.471098,-17.2776238
END:VEVENT
BEGIN:VEVENT
DTSTART;TZID=Australia/Brisbane:20250612T100000
DTEND;TZID=Australia/Brisbane:20250612T120000
DTSTAMP:20260422T213234
CREATED:20250513T024203Z
LAST-MODIFIED:20250513T024203Z
UID:10005478-1749722400-1749729600@www.trc.qld.gov.au
SUMMARY:Tablelands Food Safari
DESCRIPTION:
URL:https://www.trc.qld.gov.au/event/tablelands-food-safari/2025-06-12/
LOCATION:Atherton Visitor Information Centre\, Corner Silo Road and Main Street\, Atherton\, Qld\, 4883\, Australia
CATEGORIES:Community Event
ATTACH;FMTTYPE=image/png:https://www.trc.qld.gov.au/wp-content/uploads/Flyer-Food-Safari-1.png
ORGANIZER;CN="Tablelands Regional Council":MAILTO:info@trc.qld.gov.au
GEO:-17.2651822;145.4762435
X-APPLE-STRUCTURED-LOCATION;VALUE=URI;X-ADDRESS=Atherton Visitor Information Centre Corner Silo Road and Main Street Atherton Qld 4883 Australia;X-APPLE-RADIUS=500;X-TITLE=Corner Silo Road and Main Street:geo:145.4762435,-17.2651822
END:VEVENT
BEGIN:VEVENT
DTSTART;TZID=Australia/Brisbane:20250517T180000
DTEND;TZID=Australia/Brisbane:20250517T223000
DTSTAMP:20260422T213234
CREATED:20250507T040051Z
LAST-MODIFIED:20250507T040051Z
UID:10005475-1747504800-1747521000@www.trc.qld.gov.au
SUMMARY:Tablelands Business Excellence Awards Gala Ceremony
DESCRIPTION:
URL:https://www.trc.qld.gov.au/event/tablelands-business-excellence-awards-gala-ceremony/
LOCATION:Atherton International Club\, 60 Kennedy Highway\, Atherton\, Queensland\, 4883\, Australia
CATEGORIES:Community Event
ATTACH;FMTTYPE=image/jpeg:https://www.trc.qld.gov.au/wp-content/uploads/Invitation-scaled.jpg
ORGANIZER;CN="Tablelands Regional Council":MAILTO:info@trc.qld.gov.au
GEO:-17.277115;145.490498
X-APPLE-STRUCTURED-LOCATION;VALUE=URI;X-ADDRESS=Atherton International Club 60 Kennedy Highway Atherton Queensland 4883 Australia;X-APPLE-RADIUS=500;X-TITLE=60 Kennedy Highway:geo:145.490498,-17.277115
END:VEVENT
BEGIN:VEVENT
DTSTART;TZID=Australia/Brisbane:20250327T100000
DTEND;TZID=Australia/Brisbane:20250327T140000
DTSTAMP:20260422T213234
CREATED:20250129T020233Z
LAST-MODIFIED:20250129T020505Z
UID:10005355-1743069600-1743084000@www.trc.qld.gov.au
SUMMARY:Free Grant Writing Workshop
DESCRIPTION:Learn the essentials of writing a successful grant\, including budget creation\, tips\, and an overview of the application process.
URL:https://www.trc.qld.gov.au/event/free-grant-writing-workshop/
LOCATION:Old Post Office Gallery\, 86 Herberton Road\, Atherton \, Queensland\, 4883\, Australia
CATEGORIES:Community Event
ATTACH;FMTTYPE=image/jpeg:https://www.trc.qld.gov.au/wp-content/uploads/Grant-Writing-Workshop.jpg
ORGANIZER;CN="Tablelands Regional Council":MAILTO:info@trc.qld.gov.au
GEO:-17.2776238;145.471098
X-APPLE-STRUCTURED-LOCATION;VALUE=URI;X-ADDRESS=Old Post Office Gallery 86 Herberton Road Atherton  Queensland 4883 Australia;X-APPLE-RADIUS=500;X-TITLE=86 Herberton Road:geo:145.471098,-17.2776238
END:VEVENT
BEGIN:VEVENT
DTSTART;TZID=Australia/Brisbane:20250126T100000
DTEND;TZID=Australia/Brisbane:20250126T120000
DTSTAMP:20260422T213234
CREATED:20250106T060225Z
LAST-MODIFIED:20250106T060237Z
UID:10005273-1737885600-1737892800@www.trc.qld.gov.au
SUMMARY:Australia Day Awards Ceremony
DESCRIPTION:On Sunday 26 January 2025 people all around the country will celebrate what’s great about Australia. \nOur Australia Day Awards recognise members of our community who have gone above and beyond to help improve the lives of others and contribute to a diverse\, friendly and strong community. The awards recognise our volunteers\, and people and organisations who have had exceptional achievements in sports\, arts or culture.
URL:https://www.trc.qld.gov.au/event/australia-day-awards-ceremonies/
LOCATION:Atherton International Club\, 60 Kennedy Highway\, Atherton\, Queensland\, 4883\, Australia
CATEGORIES:Community Event
ORGANIZER;CN="Tablelands Regional Council":MAILTO:info@trc.qld.gov.au
GEO:-17.277115;145.490498
X-APPLE-STRUCTURED-LOCATION;VALUE=URI;X-ADDRESS=Atherton International Club 60 Kennedy Highway Atherton Queensland 4883 Australia;X-APPLE-RADIUS=500;X-TITLE=60 Kennedy Highway:geo:145.490498,-17.277115
END:VEVENT
END:VCALENDAR