BEGIN:VCALENDAR
VERSION:2.0
PRODID:-//TRC - Tablelands Regional Council - ECPv6.15.20//NONSGML v1.0//EN
CALSCALE:GREGORIAN
METHOD:PUBLISH
X-WR-CALNAME:TRC - Tablelands Regional Council
X-ORIGINAL-URL:https://www.trc.qld.gov.au
X-WR-CALDESC:Events for TRC - Tablelands Regional Council
REFRESH-INTERVAL;VALUE=DURATION:PT1H
X-Robots-Tag:noindex
X-PUBLISHED-TTL:PT1H
BEGIN:VTIMEZONE
TZID:Australia/Brisbane
BEGIN:STANDARD
TZOFFSETFROM:+1000
TZOFFSETTO:+1000
TZNAME:AEST
DTSTART:20250101T000000
END:STANDARD
END:VTIMEZONE
BEGIN:VEVENT
DTSTART;TZID=Australia/Brisbane:20260507T173000
DTEND;TZID=Australia/Brisbane:20260507T210000
DTSTAMP:20260422T074543
CREATED:20260223T230324Z
LAST-MODIFIED:20260223T230324Z
UID:10005617-1778175000-1778187600@www.trc.qld.gov.au
SUMMARY:Empowering Tablelands Business: Connect for Success
DESCRIPTION:Empowering Tablelands Businesses: Connect for Success is a Queensland Small Business Month networking event presented by the Malanda Chamber of Commerce. This practical and engaging event brings together small business owners from across the Atherton Tablelands to build valuable connections\, share experiences\, and gain insights from local business leaders. Attendees will develop practical skills\, discover new opportunities for collaboration\, and strengthen their capacity to grow resilient and successful businesses. This event supports the ongoing development of a strong\, connected\, and thriving Tablelands business community.
URL:https://www.trc.qld.gov.au/event/empowering-tablelands-business-connect-for-success/
LOCATION:The Top Rail\, 8 Catherine Street\, Malanda\, Qld\, 4885\, Australia
CATEGORIES:Community Event
ORGANIZER;CN="Malanda Chamber of Commerce":MAILTO:enquiries@malandachamber.org.au
GEO:-17.3534629;145.5953865
X-APPLE-STRUCTURED-LOCATION;VALUE=URI;X-ADDRESS=The Top Rail 8 Catherine Street Malanda Qld 4885 Australia;X-APPLE-RADIUS=500;X-TITLE=8 Catherine Street:geo:145.5953865,-17.3534629
END:VEVENT
END:VCALENDAR