BEGIN:VCALENDAR
VERSION:2.0
PRODID:-//TRC - Tablelands Regional Council - ECPv6.15.20//NONSGML v1.0//EN
CALSCALE:GREGORIAN
METHOD:PUBLISH
X-WR-CALNAME:TRC - Tablelands Regional Council
X-ORIGINAL-URL:https://www.trc.qld.gov.au
X-WR-CALDESC:Events for TRC - Tablelands Regional Council
REFRESH-INTERVAL;VALUE=DURATION:PT1H
X-Robots-Tag:noindex
X-PUBLISHED-TTL:PT1H
BEGIN:VTIMEZONE
TZID:Australia/Brisbane
BEGIN:STANDARD
TZOFFSETFROM:+1000
TZOFFSETTO:+1000
TZNAME:AEST
DTSTART:20240101T000000
END:STANDARD
END:VTIMEZONE
BEGIN:VEVENT
DTSTART;TZID=Australia/Brisbane:20250726T110000
DTEND;TZID=Australia/Brisbane:20250726T170000
DTSTAMP:20260422T080109
CREATED:20250722T232129Z
LAST-MODIFIED:20250722T232129Z
UID:10005521-1753527600-1753549200@www.trc.qld.gov.au
SUMMARY:Atherton Turf Club Race Day
DESCRIPTION:
URL:https://www.trc.qld.gov.au/event/atherton-turf-club-race-day-2/
LOCATION:Morrow Park Racecourse\, Racecourse Road\, TOLGA\, QLD\, 4882\, Australia
CATEGORIES:Community Event
ATTACH;FMTTYPE=image/jpeg:https://www.trc.qld.gov.au/wp-content/uploads/Tolga-Races-July-1.jpg
ORGANIZER;CN="Atherton Turf Club":MAILTO:secretary@athertonturfclub.com.au
GEO:-17.2170225;145.4776646
X-APPLE-STRUCTURED-LOCATION;VALUE=URI;X-ADDRESS=Morrow Park Racecourse Racecourse Road TOLGA QLD 4882 Australia;X-APPLE-RADIUS=500;X-TITLE=Racecourse Road:geo:145.4776646,-17.2170225
END:VEVENT
BEGIN:VEVENT
DTSTART;TZID=Australia/Brisbane:20250614T110000
DTEND;TZID=Australia/Brisbane:20250614T170000
DTSTAMP:20260422T080109
CREATED:20250612T021640Z
LAST-MODIFIED:20250613T022059Z
UID:10005502-1749898800-1749920400@www.trc.qld.gov.au
SUMMARY:Atherton Turf Club Race Day
DESCRIPTION:
URL:https://www.trc.qld.gov.au/event/atherton-turf-club-race-day/
LOCATION:Morrow Park Racecourse\, Racecourse Road\, TOLGA\, QLD\, 4882\, Australia
CATEGORIES:Community Event
ATTACH;FMTTYPE=image/jpeg:https://www.trc.qld.gov.au/wp-content/uploads/TTC.jpg
ORGANIZER;CN="Atherton Turf Club":MAILTO:secretary@athertonturfclub.com.au
GEO:-17.2170225;145.4776646
X-APPLE-STRUCTURED-LOCATION;VALUE=URI;X-ADDRESS=Morrow Park Racecourse Racecourse Road TOLGA QLD 4882 Australia;X-APPLE-RADIUS=500;X-TITLE=Racecourse Road:geo:145.4776646,-17.2170225
END:VEVENT
END:VCALENDAR